BEGIN:VCALENDAR
VERSION:2.0
PRODID:-//Japan Cricket Association - ECPv6.15.12.2//NONSGML v1.0//EN
CALSCALE:GREGORIAN
METHOD:PUBLISH
X-WR-CALNAME:Japan Cricket Association
X-ORIGINAL-URL:https://cricket.or.jp/en
X-WR-CALDESC:Events for Japan Cricket Association
REFRESH-INTERVAL;VALUE=DURATION:PT1H
X-Robots-Tag:noindex
X-PUBLISHED-TTL:PT1H
BEGIN:VTIMEZONE
TZID:Asia/Tokyo
BEGIN:STANDARD
TZOFFSETFROM:+0900
TZOFFSETTO:+0900
TZNAME:JST
DTSTART:20140101T000000
END:STANDARD
END:VTIMEZONE
BEGIN:VEVENT
DTSTART;TZID=Asia/Tokyo:20161001T103000
DTEND;TZID=Asia/Tokyo:20161001T183000
DTSTAMP:20260425T232606
CREATED:20160613T101553Z
LAST-MODIFIED:20160703T063005Z
UID:10003226-1475317800-1475346600@cricket.or.jp
SUMMARY:[:en]JCL Final[:ja]JCL決勝戦[:]
DESCRIPTION:
URL:https://cricket.or.jp/en/event/jcl-final/
LOCATION:Sano International Cricket Ground (formerly Tanuma Cricket Ground)\, 300-1 Tochimoto-cho\, Sano-shi\, Tochigi-ken\, 327-0312\, Japan
CATEGORIES:- Watch -
GEO:36.3614163;139.5942198
X-APPLE-STRUCTURED-LOCATION;VALUE=URI;X-ADDRESS=Sano International Cricket Ground (formerly Tanuma Cricket Ground) 300-1 Tochimoto-cho Sano-shi Tochigi-ken 327-0312 Japan;X-APPLE-RADIUS=500;X-TITLE=300-1 Tochimoto-cho:geo:139.5942198,36.3614163
END:VEVENT
BEGIN:VEVENT
DTSTART;TZID=Asia/Tokyo:20160904T123000
DTEND;TZID=Asia/Tokyo:20160904T163000
DTSTAMP:20260425T232606
CREATED:20160613T095639Z
LAST-MODIFIED:20160702T154044Z
UID:10003220-1472992200-1473006600@cricket.or.jp
SUMMARY:[:en]Sano Social League[:ja]佐野社会人リーグ[:]
DESCRIPTION:
URL:https://cricket.or.jp/en/event/sano-social-league/2016-09-04/
LOCATION:Sano International Cricket Ground (formerly Tanuma Cricket Ground)\, 300-1 Tochimoto-cho\, Sano-shi\, Tochigi-ken\, 327-0312\, Japan
CATEGORIES:- Participate -
GEO:36.3614163;139.5942198
X-APPLE-STRUCTURED-LOCATION;VALUE=URI;X-ADDRESS=Sano International Cricket Ground (formerly Tanuma Cricket Ground) 300-1 Tochimoto-cho Sano-shi Tochigi-ken 327-0312 Japan;X-APPLE-RADIUS=500;X-TITLE=300-1 Tochimoto-cho:geo:139.5942198,36.3614163
END:VEVENT
BEGIN:VEVENT
DTSTART;TZID=Asia/Tokyo:20160807T133000
DTEND;TZID=Asia/Tokyo:20160807T170000
DTSTAMP:20260425T232606
CREATED:20160802T065522Z
LAST-MODIFIED:20200513T060934Z
UID:10003108-1470576600-1470589200@cricket.or.jp
SUMMARY:[:en]Pakistan Day YOUM-E AZADI CUP[:ja]パキスタン独立記念　YOUM-E AZADI CUP[:]
DESCRIPTION:
URL:https://cricket.or.jp/en/event/jpn-v-paxi/
LOCATION:Sano International Cricket Ground (formerly Tanuma Cricket Ground)\, 300-1 Tochimoto-cho\, Sano-shi\, Tochigi-ken\, 327-0312\, Japan
GEO:36.3614163;139.5942198
X-APPLE-STRUCTURED-LOCATION;VALUE=URI;X-ADDRESS=Sano International Cricket Ground (formerly Tanuma Cricket Ground) 300-1 Tochimoto-cho Sano-shi Tochigi-ken 327-0312 Japan;X-APPLE-RADIUS=500;X-TITLE=300-1 Tochimoto-cho:geo:139.5942198,36.3614163
END:VEVENT
BEGIN:VEVENT
DTSTART;TZID=Asia/Tokyo:20160731T103000
DTEND;TZID=Asia/Tokyo:20160731T170000
DTSTAMP:20260425T232606
CREATED:20160613T085054Z
LAST-MODIFIED:20160727T015119Z
UID:10003218-1469961000-1469984400@cricket.or.jp
SUMMARY:[:en]JPL: North Kanto Lions vs West Kanto Hurricanes[:ja]JPL：北関東ライオンズ vs 西関東ハリケーンズ[:]
DESCRIPTION:In the 2nd round of the Japan Premier League (JPL)\, the North Kanto Lions will host West Kanto Hurricanes in Sano.
URL:https://cricket.or.jp/en/event/jpl-match-day-2-sano/
LOCATION:Sano International Cricket Ground (formerly Tanuma Cricket Ground)\, 300-1 Tochimoto-cho\, Sano-shi\, Tochigi-ken\, 327-0312\, Japan
CATEGORIES:- Watch -
ATTACH;FMTTYPE=image/png:https://cricket.or.jp/wp-content/uploads/2016/06/JCA_logo.png
GEO:36.3614163;139.5942198
X-APPLE-STRUCTURED-LOCATION;VALUE=URI;X-ADDRESS=Sano International Cricket Ground (formerly Tanuma Cricket Ground) 300-1 Tochimoto-cho Sano-shi Tochigi-ken 327-0312 Japan;X-APPLE-RADIUS=500;X-TITLE=300-1 Tochimoto-cho:geo:139.5942198,36.3614163
END:VEVENT
BEGIN:VEVENT
DTSTART;TZID=Asia/Tokyo:20160703T100000
DTEND;TZID=Asia/Tokyo:20160703T120000
DTSTAMP:20260425T232606
CREATED:20160702T141938Z
LAST-MODIFIED:20160702T142437Z
UID:10003263-1467540000-1467547200@cricket.or.jp
SUMMARY:[:en]CRICKET BLAST SERIES [Sano][:ja]クリケットブラスト・シリーズ【佐野】[:]
DESCRIPTION:
URL:https://cricket.or.jp/en/event/cricket-blast-series-sano/2016-07-03/
LOCATION:Sano International Cricket Ground (formerly Tanuma Cricket Ground)\, 300-1 Tochimoto-cho\, Sano-shi\, Tochigi-ken\, 327-0312\, Japan
CATEGORIES:- Participate -
ATTACH;FMTTYPE=image/png:https://cricket.or.jp/wp-content/uploads/2016/06/cricket-blast-white.png
GEO:36.3614163;139.5942198
X-APPLE-STRUCTURED-LOCATION;VALUE=URI;X-ADDRESS=Sano International Cricket Ground (formerly Tanuma Cricket Ground) 300-1 Tochimoto-cho Sano-shi Tochigi-ken 327-0312 Japan;X-APPLE-RADIUS=500;X-TITLE=300-1 Tochimoto-cho:geo:139.5942198,36.3614163
END:VEVENT
BEGIN:VEVENT
DTSTART;VALUE=DATE:20150925
DTEND;VALUE=DATE:20150928
DTSTAMP:20260425T232606
CREATED:20160617T072128Z
LAST-MODIFIED:20160703T075733Z
UID:10003256-1443139200-1443398399@cricket.or.jp
SUMMARY:[:en]2015 East Asia Series (Friendly Matches)[:]
DESCRIPTION:In September 2015 Japan hosted a series of Twenty20 matches between the Japan Men’s Team\, Hong Kong Dragons and an invitational ‘Commonwealth XI’. The Japan team\, coached by Dhugal Bedingfield\, played three matches\, winning two and drawing one. \n  \nThe tournament homepage can be found by clicking here. \n  \nThe summary of the results is below: \n  \nEast Asia Series: 25th – 27th September 2015 \n25th September: \nJapan vs Hong Kong Dragons – Match Abandoned without a ball bowled. \n26th September: \nHong Kong Dragons: 42/10 (18.5 Overs) \nJapan: 43/1 (5.4 Overs) \nJapan win by 9 wickets \n26th September: \nJapan: 83/6 (14 Overs) \nCommonwealth XI: 83/9 (14 Overs) \nMatch Tied \n27th September:  \nJapan: 144/9 (20 Overs) \nHong Kong Dragons: 44/10 (15 Overs) \nJapan win by 100 runs
URL:https://cricket.or.jp/en/event/english-2015-east-asia-series-friendly-matches/
LOCATION:Sano International Cricket Ground (formerly Tanuma Cricket Ground)\, 300-1 Tochimoto-cho\, Sano-shi\, Tochigi-ken\, 327-0312\, Japan
CATEGORIES:International Tournament (Men)
ATTACH;FMTTYPE=image/jpeg:https://cricket.or.jp/wp-content/uploads/2016/06/S__3645449.jpg
GEO:36.3614163;139.5942198
X-APPLE-STRUCTURED-LOCATION;VALUE=URI;X-ADDRESS=Sano International Cricket Ground (formerly Tanuma Cricket Ground) 300-1 Tochimoto-cho Sano-shi Tochigi-ken 327-0312 Japan;X-APPLE-RADIUS=500;X-TITLE=300-1 Tochimoto-cho:geo:139.5942198,36.3614163
END:VEVENT
END:VCALENDAR