BEGIN:VCALENDAR
VERSION:2.0
PRODID:-//Japan Cricket Association - ECPv6.15.12.2//NONSGML v1.0//EN
CALSCALE:GREGORIAN
METHOD:PUBLISH
X-WR-CALNAME:Japan Cricket Association
X-ORIGINAL-URL:https://cricket.or.jp
X-WR-CALDESC:Japan Cricket Association のイベント
REFRESH-INTERVAL;VALUE=DURATION:PT1H
X-Robots-Tag:noindex
X-PUBLISHED-TTL:PT1H
BEGIN:VTIMEZONE
TZID:Asia/Tokyo
BEGIN:STANDARD
TZOFFSETFROM:+0900
TZOFFSETTO:+0900
TZNAME:JST
DTSTART:20210101T000000
END:STANDARD
END:VTIMEZONE
BEGIN:VEVENT
DTSTART;TZID=Asia/Tokyo:20220709T094500
DTEND;TZID=Asia/Tokyo:20220709T114500
DTSTAMP:20260422T104645
CREATED:20220404T064319Z
LAST-MODIFIED:20220701T090724Z
UID:10003895-1657359900-1657367100@cricket.or.jp
SUMMARY:[:ja]【エクササイズイベント】J.T.PARK IN SANO[:]
DESCRIPTION:佐野市国際クリケット場で体を動かそう！ \nメジャーリーグやプロ野球でストレングス＆コンディショニングコーチを担当した経験をお持ちのJ.T.（高橋純一）氏を講師にお招きし、一般、小学生を対象にエクササイズイベントを実施しまます。 \nフライヤーデータはこちら↓↓ \nhttps://drive.google.com/file/d/1QQuUQbgHGfjWCa3_rWM382U6Zgujeok-/view?usp=sharing \n第1部　体のアクティベート（一般対象） \n時間：9:45~10:45 \n内容：柔軟性、バランス、連動性を高め、体を本来あるべき姿に近づけます。トレーニングを通じ、体の機能をアクティベートし、健康づくりを助けます。 \n参加費：お1人様1\,000円（紅茶無料券付き） \n※「クリケットのまち佐野」サポータークラブの会員様は無料にてご案内します。 \n第2部　遊んで鍛える（小学生対象） \n時間：11:00~11:45 \n内容：「遊んで鍛える」最強の体づくり。J.T.さんが提供する遊びをしているうちに自然と体が鍛えられます。 \n参加費：無料 \nお申込 \n次のURLよりお申込ください　https://forms.gle/kgizVZWm3qZcAgV86
URL:https://cricket.or.jp/event/%e3%80%90%e3%82%a8%e3%82%af%e3%82%b5%e3%82%b5%e3%82%a4%e3%82%ba%e3%82%a4%e3%83%99%e3%83%b3%e3%83%88%e3%80%91j-t-park-in-sano/2022-07-09/
LOCATION:佐野市国際クリケット場 (田沼高等学校跡)\, 栃本町300-1\, 佐野市\, 栃木県\, 327-0312\, Japan
CATEGORIES:- 参加／体験 -
GEO:36.3614163;139.5942198
X-APPLE-STRUCTURED-LOCATION;VALUE=URI;X-ADDRESS=佐野市国際クリケット場 (田沼高等学校跡) 栃本町300-1 佐野市 栃木県 327-0312 Japan;X-APPLE-RADIUS=500;X-TITLE=栃本町300-1:geo:139.5942198,36.3614163
END:VEVENT
END:VCALENDAR