BEGIN:VCALENDAR
VERSION:2.0
PRODID:-//Japan Cricket Association - ECPv6.15.12.2//NONSGML v1.0//EN
CALSCALE:GREGORIAN
METHOD:PUBLISH
X-ORIGINAL-URL:https://cricket.or.jp/en
X-WR-CALDESC:Events for Japan Cricket Association
REFRESH-INTERVAL;VALUE=DURATION:PT1H
X-Robots-Tag:noindex
X-PUBLISHED-TTL:PT1H
BEGIN:VTIMEZONE
TZID:Asia/Tokyo
BEGIN:STANDARD
TZOFFSETFROM:+0900
TZOFFSETTO:+0900
TZNAME:JST
DTSTART:20200101T000000
END:STANDARD
END:VTIMEZONE
BEGIN:VEVENT
DTSTART;TZID=Asia/Tokyo:20210828T150000
DTEND;TZID=Asia/Tokyo:20210828T183000
DTSTAMP:20260420T224901
CREATED:20210804T020748Z
LAST-MODIFIED:20210917T055554Z
UID:10003843-1630162800-1630175400@cricket.or.jp
SUMMARY:[:en]J-BASH All Stars[:ja]J-BASHオールスターズ[:]
DESCRIPTION:This is the highest level of domestic cricket for females in Japan. Matches are 20 overs and designed to provide an opportunity for players in and around the Japan National Squad to compete against each other in competitive environments. \nThese days will often be scheduled in conjunction with the J-BASH Social events so that an opportunity to watch women’s cricket in its top format is provided for those who want to learn about cricket. \nIt is also hoped that former national squad representatives can return to feature in these days to provide their experience and expertise to the younger group of Japan National Representatives.
URL:https://cricket.or.jp/en/event/j-bash-all-stars/2021-08-28/
LOCATION:Nagasawa Sports Ground\, 〒214-0034 神奈川県川崎市多摩区三田５丁目9052\, Japan
CATEGORIES:- Watch -
ATTACH;FMTTYPE=image/jpeg:https://cricket.or.jp/wp-content/uploads/2021/04/291-DSCF9342.jpg
GEO:35.60482;139.545937
X-APPLE-STRUCTURED-LOCATION;VALUE=URI;X-ADDRESS=Nagasawa Sports Ground 〒214-0034 神奈川県川崎市多摩区三田５丁目9052 Japan;X-APPLE-RADIUS=500;X-TITLE=〒214-0034 神奈川県川崎市多摩区三田５丁目9052:geo:139.545937,35.60482
END:VEVENT
END:VCALENDAR