BEGIN:VCALENDAR
VERSION:2.0
PRODID:-//Japan Cricket Association - ECPv6.15.12.2//NONSGML v1.0//EN
CALSCALE:GREGORIAN
METHOD:PUBLISH
X-ORIGINAL-URL:https://cricket.or.jp
X-WR-CALDESC:Japan Cricket Association のイベント
REFRESH-INTERVAL;VALUE=DURATION:PT1H
X-Robots-Tag:noindex
X-PUBLISHED-TTL:PT1H
BEGIN:VTIMEZONE
TZID:Asia/Tokyo
BEGIN:STANDARD
TZOFFSETFROM:+0900
TZOFFSETTO:+0900
TZNAME:JST
DTSTART:20190101T000000
END:STANDARD
END:VTIMEZONE
BEGIN:VEVENT
DTSTART;TZID=Asia/Tokyo:20200723T100000
DTEND;TZID=Asia/Tokyo:20200723T170000
DTSTAMP:20260422T032744
CREATED:20200710T070725Z
LAST-MODIFIED:20200710T070725Z
UID:10003810-1595498400-1595523600@cricket.or.jp
SUMMARY:[:en]Japan Premier League[:ja]日本プレミアリーグ[:]
DESCRIPTION:
URL:https://cricket.or.jp/event/%e6%97%a5%e6%9c%ac%e3%83%97%e3%83%ac%e3%83%9f%e3%82%a2%e3%83%aa%e3%83%bc%e3%82%b0/2020-07-23/
LOCATION:佐野市国際クリケット場 (田沼高等学校跡)\, 栃本町300-1\, 佐野市\, 栃木県\, 327-0312\, Japan
CATEGORIES:- 観戦 -
ATTACH;FMTTYPE=image/jpeg:https://cricket.or.jp/wp-content/uploads/2019/11/IMG-20191026-WA0000.jpg
GEO:36.3614163;139.5942198
X-APPLE-STRUCTURED-LOCATION;VALUE=URI;X-ADDRESS=佐野市国際クリケット場 (田沼高等学校跡) 栃本町300-1 佐野市 栃木県 327-0312 Japan;X-APPLE-RADIUS=500;X-TITLE=栃本町300-1:geo:139.5942198,36.3614163
END:VEVENT
BEGIN:VEVENT
DTSTART;TZID=Asia/Tokyo:20200724T100000
DTEND;TZID=Asia/Tokyo:20200724T170000
DTSTAMP:20260422T032744
CREATED:20200710T070725Z
LAST-MODIFIED:20200710T070725Z
UID:10003811-1595584800-1595610000@cricket.or.jp
SUMMARY:[:en]Japan Premier League[:ja]日本プレミアリーグ[:]
DESCRIPTION:
URL:https://cricket.or.jp/event/%e6%97%a5%e6%9c%ac%e3%83%97%e3%83%ac%e3%83%9f%e3%82%a2%e3%83%aa%e3%83%bc%e3%82%b0/2020-07-24/
LOCATION:佐野市国際クリケット場 (田沼高等学校跡)\, 栃本町300-1\, 佐野市\, 栃木県\, 327-0312\, Japan
CATEGORIES:- 観戦 -
ATTACH;FMTTYPE=image/jpeg:https://cricket.or.jp/wp-content/uploads/2019/11/IMG-20191026-WA0000.jpg
GEO:36.3614163;139.5942198
X-APPLE-STRUCTURED-LOCATION;VALUE=URI;X-ADDRESS=佐野市国際クリケット場 (田沼高等学校跡) 栃本町300-1 佐野市 栃木県 327-0312 Japan;X-APPLE-RADIUS=500;X-TITLE=栃本町300-1:geo:139.5942198,36.3614163
END:VEVENT
BEGIN:VEVENT
DTSTART;TZID=Asia/Tokyo:20200725T100000
DTEND;TZID=Asia/Tokyo:20200725T170000
DTSTAMP:20260422T032744
CREATED:20200710T070725Z
LAST-MODIFIED:20200710T070725Z
UID:10003812-1595671200-1595696400@cricket.or.jp
SUMMARY:[:en]Japan Premier League[:ja]日本プレミアリーグ[:]
DESCRIPTION:
URL:https://cricket.or.jp/event/%e6%97%a5%e6%9c%ac%e3%83%97%e3%83%ac%e3%83%9f%e3%82%a2%e3%83%aa%e3%83%bc%e3%82%b0/2020-07-25/
LOCATION:佐野市国際クリケット場 (田沼高等学校跡)\, 栃本町300-1\, 佐野市\, 栃木県\, 327-0312\, Japan
CATEGORIES:- 観戦 -
ATTACH;FMTTYPE=image/jpeg:https://cricket.or.jp/wp-content/uploads/2019/11/IMG-20191026-WA0000.jpg
GEO:36.3614163;139.5942198
X-APPLE-STRUCTURED-LOCATION;VALUE=URI;X-ADDRESS=佐野市国際クリケット場 (田沼高等学校跡) 栃本町300-1 佐野市 栃木県 327-0312 Japan;X-APPLE-RADIUS=500;X-TITLE=栃本町300-1:geo:139.5942198,36.3614163
END:VEVENT
BEGIN:VEVENT
DTSTART;TZID=Asia/Tokyo:20200726T100000
DTEND;TZID=Asia/Tokyo:20200726T170000
DTSTAMP:20260422T032744
CREATED:20200710T070725Z
LAST-MODIFIED:20200710T070725Z
UID:10003813-1595757600-1595782800@cricket.or.jp
SUMMARY:[:en]Japan Premier League[:ja]日本プレミアリーグ[:]
DESCRIPTION:
URL:https://cricket.or.jp/event/%e6%97%a5%e6%9c%ac%e3%83%97%e3%83%ac%e3%83%9f%e3%82%a2%e3%83%aa%e3%83%bc%e3%82%b0/2020-07-26/
LOCATION:佐野市国際クリケット場 (田沼高等学校跡)\, 栃本町300-1\, 佐野市\, 栃木県\, 327-0312\, Japan
CATEGORIES:- 観戦 -
ATTACH;FMTTYPE=image/jpeg:https://cricket.or.jp/wp-content/uploads/2019/11/IMG-20191026-WA0000.jpg
GEO:36.3614163;139.5942198
X-APPLE-STRUCTURED-LOCATION;VALUE=URI;X-ADDRESS=佐野市国際クリケット場 (田沼高等学校跡) 栃本町300-1 佐野市 栃木県 327-0312 Japan;X-APPLE-RADIUS=500;X-TITLE=栃本町300-1:geo:139.5942198,36.3614163
END:VEVENT
END:VCALENDAR