BEGIN:VCALENDAR
VERSION:2.0
PRODID:-//Japan Cricket Association - ECPv6.15.12.2//NONSGML v1.0//EN
CALSCALE:GREGORIAN
METHOD:PUBLISH
X-WR-CALNAME:Japan Cricket Association
X-ORIGINAL-URL:https://cricket.or.jp
X-WR-CALDESC:Japan Cricket Association のイベント
REFRESH-INTERVAL;VALUE=DURATION:PT1H
X-Robots-Tag:noindex
X-PUBLISHED-TTL:PT1H
BEGIN:VTIMEZONE
TZID:Asia/Tokyo
BEGIN:STANDARD
TZOFFSETFROM:+0900
TZOFFSETTO:+0900
TZNAME:JST
DTSTART:20180101T000000
END:STANDARD
END:VTIMEZONE
BEGIN:VEVENT
DTSTART;TZID=Asia/Tokyo:20191102T100000
DTEND;TZID=Asia/Tokyo:20191102T170000
DTSTAMP:20260423T003719
CREATED:20190725T155318Z
LAST-MODIFIED:20190725T155352Z
UID:10003790-1572688800-1572714000@cricket.or.jp
SUMMARY:[:en]Women's J-BASH Finals[:ja]Women's J-BASH 決勝[:]
DESCRIPTION:Women’s J-BASHは、日本女子クリケットの新たなステージとして、今年スタートする大会です。国内最高の競技環境を提供することで、選手の育成強化及び女子クリケットのプロモーションを目的としています。 \n【WOMEN’S J-BASH　決勝】\n11月2日（土）\n会場：佐野市国際クリケット場 \n【チーム及びキャプテン）】 \n\n「イエロー　パンダズ、キャプテン：常澤なお」\n「ピンク　パンサーズ、キャプテン：柳田舞」\n「ブルー　ペンギンズ、キャプテン：小田恵理花」\n「パープル　ペリカンズ、キャプテン：遠藤理央」\n\nチラシの表面はこちらよりご覧ください。 \nチラシの裏面はこちらをご覧ください。
URL:https://cricket.or.jp/event/womens-j-bash-final/
LOCATION:Nagasawa Sports Ground\, 〒214-0034 神奈川県川崎市多摩区三田５丁目9052\, Japan
CATEGORIES:- 観戦 -
ATTACH;FMTTYPE=image/png:https://cricket.or.jp/wp-content/uploads/2019/06/J-Bash_img.png
GEO:35.60482;139.545937
X-APPLE-STRUCTURED-LOCATION;VALUE=URI;X-ADDRESS=Nagasawa Sports Ground 〒214-0034 神奈川県川崎市多摩区三田５丁目9052 Japan;X-APPLE-RADIUS=500;X-TITLE=〒214-0034 神奈川県川崎市多摩区三田５丁目9052:geo:139.545937,35.60482
END:VEVENT
END:VCALENDAR