BEGIN:VCALENDAR
VERSION:2.0
PRODID:-//Japan Cricket Association - ECPv6.15.12.2//NONSGML v1.0//EN
CALSCALE:GREGORIAN
METHOD:PUBLISH
X-WR-CALNAME:Japan Cricket Association
X-ORIGINAL-URL:https://cricket.or.jp
X-WR-CALDESC:Japan Cricket Association のイベント
REFRESH-INTERVAL;VALUE=DURATION:PT1H
X-Robots-Tag:noindex
X-PUBLISHED-TTL:PT1H
BEGIN:VTIMEZONE
TZID:Asia/Tokyo
BEGIN:STANDARD
TZOFFSETFROM:+0900
TZOFFSETTO:+0900
TZNAME:JST
DTSTART:20250101T000000
END:STANDARD
END:VTIMEZONE
BEGIN:VEVENT
DTSTART;TZID=Asia/Tokyo:20260322T103000
DTEND;TZID=Asia/Tokyo:20260322T160000
DTSTAMP:20260422T051235
CREATED:20260319T133903Z
LAST-MODIFIED:20260320T054919Z
UID:10004138-1774175400-1774195200@cricket.or.jp
SUMMARY:[:en]CrickeTRY2026[:ja]クリケット体験イベント「CrickeTRY2026体験会」[:]
DESCRIPTION:CrickeTRY2026体験会が、3月22日（日）に埼玉県さいたま市で開催されます。 \n本イベントは、クリケットを初めて体験する方を対象としており、基本的なルールの説明に加え、バッティングやボウリングなどの基礎動作を体験いただけます。ミニゲームも実施し、クリケットの楽しさに触れることができる内容となっています。道具は簡易キットを使用し、初心者でも安心して参加いただけます。 \n体験会の詳細は以下のサイトをご確認下さい。\nhttps://www.cricket.ne.jp/CrickeTRY2026/omiya0322/index.html \n<イベント概要>\n\n日時：2026年3月22日（日）10:30～16:00\n会場：大宮けんぽグラウンド Sフィールド（埼玉県さいたま市西区二ツ宮113-1）\n会場情報：https://s-field.saitamasc.jp/facility/\n参加費：1名 1\,500円（小学生以下 1\,000円）\n対象：初心者・未経験者歓迎（年齢制限なし）\n内容：ルール説明、基本動作体験（バッティング／ボウリング）、ミニゲーム\n使用用具：簡易キット（プラスチック製バット・ゴムボール）\n申込締切：2026年3月20日（金）\n申込ページ：https://www.cricket.ne.jp/CrickeTRY20260322_form/index.php\n主催：CrickeTRY2026実行委員会\n\n<注意事項>\n\n飲み物はご自身でご準備ください。\n動きやすい服装でお越しになられるか、当日お着替えください。\n会場の駐車場は無料です。\nマイカー以外の方は大宮駅からはバス便がありますが便数が少なので時間には余裕を持ってお越しください。\n雨天時の開催について、会場のオフィシャルサイトに当日朝6時に使用に関して発表になり、それに準ずることになります。\nその他、当日に関する詳細に関しましては追ってご連絡いたします。
URL:https://cricket.or.jp/event/%e3%82%af%e3%83%aa%e3%82%b1%e3%83%83%e3%83%88%e4%bd%93%e9%a8%93%e3%82%a4%e3%83%99%e3%83%b3%e3%83%88%e3%80%8ccricketry2026%e4%bd%93%e9%a8%93%e4%bc%9a%e3%80%8d/
LOCATION:大宮けんぽグラウンドSフィールド\, 埼玉県さいたま市西区二ツ宮113-1
CATEGORIES:- 参加／体験 -
ATTACH;FMTTYPE=image/jpeg:https://cricket.or.jp/wp-content/uploads/2026/03/TRYlogo-e1775880581108.jpg
END:VEVENT
BEGIN:VEVENT
DTSTART;TZID=Asia/Tokyo:20260328T100000
DTEND;TZID=Asia/Tokyo:20260328T113000
DTSTAMP:20260422T051235
CREATED:20260320T054617Z
LAST-MODIFIED:20260320T055006Z
UID:10004139-1774692000-1774697400@cricket.or.jp
SUMMARY:[:en]Spocul Roppongi Cricket[:ja]スポーカル六本木クリケット[:]
DESCRIPTION:スポーカルこと、港区総合型地域スポーツ・文化クラブは、地域のスポーツクラブで、区立の学校を拠点に様々なスポーツを楽しめます。今回「クリケット」の定例開催が決まり、3月28日（土）はお試し開催のため、無料で参加できます。都心で気軽にクリケットを体験できる機会ですので、ぜひご応募ください。 \n詳細はこちらのサイトをご確認下さい。 \n<イベント概要>\n\n開催日：3月28日（土）\n日時：受付9:30／実施10:00～11:30\n会場：港区立麻布小学校 校庭（東京都港区麻布台1-5-15）\n参加費：今回無料（お試し開催のため）\n内容：クリケット体験（基本動作、簡易ゲーム\n使用用具：プラスチック製バット・ゴムボール\n対象：初心者・未経験者歓迎\n日程：原則毎週土曜日\n今後の開催予定：4月11日・18日・25日／5月9日・16日・23日（※5月2日・30日は休み）\n申込URL：https://form.run/@spocul\n申込：当日参加も可\n\n＜アクセス＞\n\n六本木一丁目駅（東京メトロ南北線）2番出口 徒歩5分\n六本木駅（東京メトロ日比谷線／都営大江戸線）5番出口 徒歩10分\n麻布十番駅（東京メトロ南北線／都営大江戸線）5a出口 徒歩10分\n神谷町駅（東京メトロ日比谷線）2番出口 徒歩10分\n都バス［反96］鎌倉片町 徒歩3分\n\n<注意事項>\n\n会場（麻布小学校）に駐車場はございません。公共交通機関をご利用ください\n車でお越しの場合は、近隣駐車場をご利用ください
URL:https://cricket.or.jp/event/spocul-roppongi-cricket/
LOCATION:東京都港区立麻布小学校 校庭\, 東京都港区麻布台１丁目５-１５
CATEGORIES:- 参加／体験 -
ATTACH;FMTTYPE=image/jpeg:https://cricket.or.jp/wp-content/uploads/2026/03/スポカル.jpg
ORGANIZER;CN="%E3%82%B9%E3%83%9D%E3%83%BC%E3%82%AB%E3%83%AB%E5%85%AD%E6%9C%AC%E6%9C%A8%E4%BA%8B%E5%8B%99%E5%B1%80":MAILTO:sporcul@yahoo.co.jp
END:VEVENT
END:VCALENDAR