BEGIN:VCALENDAR
VERSION:2.0
PRODID:-//Japan Cricket Association - ECPv6.15.12.2//NONSGML v1.0//EN
CALSCALE:GREGORIAN
METHOD:PUBLISH
X-WR-CALNAME:Japan Cricket Association
X-ORIGINAL-URL:https://cricket.or.jp
X-WR-CALDESC:Japan Cricket Association のイベント
REFRESH-INTERVAL;VALUE=DURATION:PT1H
X-Robots-Tag:noindex
X-PUBLISHED-TTL:PT1H
BEGIN:VTIMEZONE
TZID:Asia/Tokyo
BEGIN:STANDARD
TZOFFSETFROM:+0900
TZOFFSETTO:+0900
TZNAME:JST
DTSTART:20240101T000000
END:STANDARD
END:VTIMEZONE
BEGIN:VEVENT
DTSTART;TZID=Asia/Tokyo:20250607T090000
DTEND;TZID=Asia/Tokyo:20250607T120000
DTSTAMP:20260422T210404
CREATED:20250428T084347Z
LAST-MODIFIED:20250428T091250Z
UID:10004097-1749286800-1749297600@cricket.or.jp
SUMMARY:[:en]2025 Sano Spofes (Cricket Blast Series)[:ja]佐野のスポフェス（クリケットブラストシリーズ）[:]
DESCRIPTION:誰でも楽しめるプログラムです。\n一緒にクリケットを楽しもう！お友達とご家族と楽しい時間を過ごせるスポーツイベントです。 \nクリケットブラストは、小学生のお子様を対象としたクリケットを学ぶための入門プログラムです。 \n詳しくは https://japancricketblast.com \nクリケットだけでなく、今年は他の2つのスポーツもフィーチャーされます！ \n日程:\n6月 7\, 14\, 21\, 28日\, (土曜日) \n\n\nスケジュール:\n\n\n受付：9:15\nグループ/ラウンド1: 9:20 ~ 10:00\nグループ/ラウンド2: 10:10 ~ 10:50\nグループ/ラウンド3: 11:00 ~ 11:40\nフィニッシュ：11:45 \n会場\n佐野国際クリケット場 \n料金：参加者1名につき1日500円 \n\n☆★ シリーズ申込みでプレゼントをゲットしよう！ ★☆\nシリーズ特典として、クリケットバットとボールをプレゼント🎁 \n\n\n☆★ 早くシリーズ登録して1日分無料 ★☆\n5月31日までにシリーズお申込いただくと1500円で参加できます。（1回分実質無料）\nお申込：こちらのリンクから事前登録をお願いします。https://forms.gle/weLWsyy6vTNDU95aA
URL:https://cricket.or.jp/event/2025-sano-spofes-cricket-blast-series/2025-06-07/
LOCATION:佐野市国際クリケット場 (田沼高等学校跡)\, 栃本町300-1\, 佐野市\, 栃木県\, 327-0312\, Japan
CATEGORIES:- 参加／体験 -
ATTACH;FMTTYPE=image/jpeg:https://cricket.or.jp/wp-content/uploads/2025/04/supofes_logo-2.jpg
GEO:36.3614163;139.5942198
X-APPLE-STRUCTURED-LOCATION;VALUE=URI;X-ADDRESS=佐野市国際クリケット場 (田沼高等学校跡) 栃本町300-1 佐野市 栃木県 327-0312 Japan;X-APPLE-RADIUS=500;X-TITLE=栃本町300-1:geo:139.5942198,36.3614163
END:VEVENT
BEGIN:VEVENT
DTSTART;VALUE=DATE:20250608
DTEND;VALUE=DATE:20250609
DTSTAMP:20260422T210404
CREATED:20250226T042618Z
LAST-MODIFIED:20250522T145647Z
UID:10003776-1749340800-1749427199@cricket.or.jp
SUMMARY:[:en]2025 Akishima Cricket Blast Series in Spring[:ja]春　クリケットブラスト・シリーズ in 昭島[:]
DESCRIPTION:イベント情報 \n\nクリケットブラスト・シリーズ in 昭島は、12歳以下の経験者、未経験者を問わず、クリケットを楽しむチャンスです。新しいスポーツを楽しみ、新しい友達を作り、スポーツを通して英語を学び、楽しく安全なゲームをしましょう！ \n\nイベント名 昭島クリケットブラストシリーズ\n \n会場 \n\n昭和公園陸上競技場（〒196-0033 東京都昭島市東町５丁目２−１１−４３）- 第1\,3日曜\n昭島市エコ・パー　(〒196-0001  昭島市美堀町3-16)　- 第2日曜\n多摩川中央公園グラウンド　(〒197-0003 東京都福生市南田園３丁目２−１)　- 第4日曜\n\n  \n開催日 \n\n6月8日（日）  ‐ 昭和公園陸上競技場\n6月15日（日）‐ 昭島市エコ・パー\n6月22日（日）‐ 昭和公園陸上競技場\n6月29日（日）‐ 多摩川中央公園グラウンド\n\n時間：（受付はコース開始15分前） \n9:30～11:30（受付はコース開始20分前）-  第1\,3日曜\nエンジョイコース 9:30～10:05、ゲームコース 10:15～11:00\n10:30～12:30（受付はコース開始20分前）-  第2日曜\nエンジョイコース( 10:30～11:05、ゲームコース 11:15～12:00\n12:30～14:30（受付はコース開始20分前）-  第4日曜\nエンジョイコース( 12:30～13:05、ゲームコース 13:15～14:00\n  \nエンジョイコース(レベル★☆☆)* * \n\n– エンジョイコースは主に小学生低学年～中学年を対象としたコースで\, ボールを捕ったり投げたり、打ったりするゲームを楽しみな 　 がらクリケットに触れるコースです\n\nゲームコース(レベル★★☆)** **\n\n– ゲームコースは主に小学生中学年～高学年を対象としたコースで、簡易版クリケットの形式でゲームを楽しみます。ワンバウンドの ボールを打って走って、君は何点とれるかな!?\n\n参加費：1人500円(3回連続参加で最後の1回無料)\n\n登録方法\n下のリンクをたどってください！ \nhttps://forms.gle/XGtPHAffu5JRsj5fA \n\n<<お問い合わせ\n日本クリケット協会　イロク　メール ：：r-lee@cricket.or.jp
URL:https://cricket.or.jp/event/akishima-cricket-blast-series-in-spring/2025-06-08/
CATEGORIES:- 参加／体験 -
END:VEVENT
BEGIN:VEVENT
DTSTART;TZID=Asia/Tokyo:20250614T090000
DTEND;TZID=Asia/Tokyo:20250614T120000
DTSTAMP:20260422T210404
CREATED:20250428T084347Z
LAST-MODIFIED:20250428T091250Z
UID:10004098-1749891600-1749902400@cricket.or.jp
SUMMARY:[:en]2025 Sano Spofes (Cricket Blast Series)[:ja]佐野のスポフェス（クリケットブラストシリーズ）[:]
DESCRIPTION:誰でも楽しめるプログラムです。\n一緒にクリケットを楽しもう！お友達とご家族と楽しい時間を過ごせるスポーツイベントです。 \nクリケットブラストは、小学生のお子様を対象としたクリケットを学ぶための入門プログラムです。 \n詳しくは https://japancricketblast.com \nクリケットだけでなく、今年は他の2つのスポーツもフィーチャーされます！ \n日程:\n6月 7\, 14\, 21\, 28日\, (土曜日) \n\n\nスケジュール:\n\n\n受付：9:15\nグループ/ラウンド1: 9:20 ~ 10:00\nグループ/ラウンド2: 10:10 ~ 10:50\nグループ/ラウンド3: 11:00 ~ 11:40\nフィニッシュ：11:45 \n会場\n佐野国際クリケット場 \n料金：参加者1名につき1日500円 \n\n☆★ シリーズ申込みでプレゼントをゲットしよう！ ★☆\nシリーズ特典として、クリケットバットとボールをプレゼント🎁 \n\n\n☆★ 早くシリーズ登録して1日分無料 ★☆\n5月31日までにシリーズお申込いただくと1500円で参加できます。（1回分実質無料）\nお申込：こちらのリンクから事前登録をお願いします。https://forms.gle/weLWsyy6vTNDU95aA
URL:https://cricket.or.jp/event/2025-sano-spofes-cricket-blast-series/2025-06-14/
LOCATION:佐野市国際クリケット場 (田沼高等学校跡)\, 栃本町300-1\, 佐野市\, 栃木県\, 327-0312\, Japan
CATEGORIES:- 参加／体験 -
ATTACH;FMTTYPE=image/jpeg:https://cricket.or.jp/wp-content/uploads/2025/04/supofes_logo-2.jpg
GEO:36.3614163;139.5942198
X-APPLE-STRUCTURED-LOCATION;VALUE=URI;X-ADDRESS=佐野市国際クリケット場 (田沼高等学校跡) 栃本町300-1 佐野市 栃木県 327-0312 Japan;X-APPLE-RADIUS=500;X-TITLE=栃本町300-1:geo:139.5942198,36.3614163
END:VEVENT
BEGIN:VEVENT
DTSTART;VALUE=DATE:20250615
DTEND;VALUE=DATE:20250616
DTSTAMP:20260422T210404
CREATED:20250226T042618Z
LAST-MODIFIED:20250522T145647Z
UID:10003777-1749945600-1750031999@cricket.or.jp
SUMMARY:[:en]2025 Akishima Cricket Blast Series in Spring[:ja]春　クリケットブラスト・シリーズ in 昭島[:]
DESCRIPTION:イベント情報 \n\nクリケットブラスト・シリーズ in 昭島は、12歳以下の経験者、未経験者を問わず、クリケットを楽しむチャンスです。新しいスポーツを楽しみ、新しい友達を作り、スポーツを通して英語を学び、楽しく安全なゲームをしましょう！ \n\nイベント名 昭島クリケットブラストシリーズ\n \n会場 \n\n昭和公園陸上競技場（〒196-0033 東京都昭島市東町５丁目２−１１−４３）- 第1\,3日曜\n昭島市エコ・パー　(〒196-0001  昭島市美堀町3-16)　- 第2日曜\n多摩川中央公園グラウンド　(〒197-0003 東京都福生市南田園３丁目２−１)　- 第4日曜\n\n  \n開催日 \n\n6月8日（日）  ‐ 昭和公園陸上競技場\n6月15日（日）‐ 昭島市エコ・パー\n6月22日（日）‐ 昭和公園陸上競技場\n6月29日（日）‐ 多摩川中央公園グラウンド\n\n時間：（受付はコース開始15分前） \n9:30～11:30（受付はコース開始20分前）-  第1\,3日曜\nエンジョイコース 9:30～10:05、ゲームコース 10:15～11:00\n10:30～12:30（受付はコース開始20分前）-  第2日曜\nエンジョイコース( 10:30～11:05、ゲームコース 11:15～12:00\n12:30～14:30（受付はコース開始20分前）-  第4日曜\nエンジョイコース( 12:30～13:05、ゲームコース 13:15～14:00\n  \nエンジョイコース(レベル★☆☆)* * \n\n– エンジョイコースは主に小学生低学年～中学年を対象としたコースで\, ボールを捕ったり投げたり、打ったりするゲームを楽しみな 　 がらクリケットに触れるコースです\n\nゲームコース(レベル★★☆)** **\n\n– ゲームコースは主に小学生中学年～高学年を対象としたコースで、簡易版クリケットの形式でゲームを楽しみます。ワンバウンドの ボールを打って走って、君は何点とれるかな!?\n\n参加費：1人500円(3回連続参加で最後の1回無料)\n\n登録方法\n下のリンクをたどってください！ \nhttps://forms.gle/XGtPHAffu5JRsj5fA \n\n<<お問い合わせ\n日本クリケット協会　イロク　メール ：：r-lee@cricket.or.jp
URL:https://cricket.or.jp/event/akishima-cricket-blast-series-in-spring/2025-06-15/
CATEGORIES:- 参加／体験 -
END:VEVENT
BEGIN:VEVENT
DTSTART;TZID=Asia/Tokyo:20250621T090000
DTEND;TZID=Asia/Tokyo:20250621T120000
DTSTAMP:20260422T210404
CREATED:20250428T084347Z
LAST-MODIFIED:20250428T091250Z
UID:10004099-1750496400-1750507200@cricket.or.jp
SUMMARY:[:en]2025 Sano Spofes (Cricket Blast Series)[:ja]佐野のスポフェス（クリケットブラストシリーズ）[:]
DESCRIPTION:誰でも楽しめるプログラムです。\n一緒にクリケットを楽しもう！お友達とご家族と楽しい時間を過ごせるスポーツイベントです。 \nクリケットブラストは、小学生のお子様を対象としたクリケットを学ぶための入門プログラムです。 \n詳しくは https://japancricketblast.com \nクリケットだけでなく、今年は他の2つのスポーツもフィーチャーされます！ \n日程:\n6月 7\, 14\, 21\, 28日\, (土曜日) \n\n\nスケジュール:\n\n\n受付：9:15\nグループ/ラウンド1: 9:20 ~ 10:00\nグループ/ラウンド2: 10:10 ~ 10:50\nグループ/ラウンド3: 11:00 ~ 11:40\nフィニッシュ：11:45 \n会場\n佐野国際クリケット場 \n料金：参加者1名につき1日500円 \n\n☆★ シリーズ申込みでプレゼントをゲットしよう！ ★☆\nシリーズ特典として、クリケットバットとボールをプレゼント🎁 \n\n\n☆★ 早くシリーズ登録して1日分無料 ★☆\n5月31日までにシリーズお申込いただくと1500円で参加できます。（1回分実質無料）\nお申込：こちらのリンクから事前登録をお願いします。https://forms.gle/weLWsyy6vTNDU95aA
URL:https://cricket.or.jp/event/2025-sano-spofes-cricket-blast-series/2025-06-21/
LOCATION:佐野市国際クリケット場 (田沼高等学校跡)\, 栃本町300-1\, 佐野市\, 栃木県\, 327-0312\, Japan
CATEGORIES:- 参加／体験 -
ATTACH;FMTTYPE=image/jpeg:https://cricket.or.jp/wp-content/uploads/2025/04/supofes_logo-2.jpg
GEO:36.3614163;139.5942198
X-APPLE-STRUCTURED-LOCATION;VALUE=URI;X-ADDRESS=佐野市国際クリケット場 (田沼高等学校跡) 栃本町300-1 佐野市 栃木県 327-0312 Japan;X-APPLE-RADIUS=500;X-TITLE=栃本町300-1:geo:139.5942198,36.3614163
END:VEVENT
BEGIN:VEVENT
DTSTART;TZID=Asia/Tokyo:20250621T130000
DTEND;TZID=Asia/Tokyo:20250621T170000
DTSTAMP:20260422T210404
CREATED:20250428T090807Z
LAST-MODIFIED:20250428T091037Z
UID:10004101-1750510800-1750525200@cricket.or.jp
SUMMARY:[:en]2025 Sano Social Cricket League[:ja]2025年佐野ソーシャルクリケット大会[:]
DESCRIPTION:日時：\n\n第1回：4月21日（日）13:00～17:00\n第2回：6月23日（日）13:00～17:00\n第3回：9月8日(日本レクリエーション・フェスティバル協力)（日）13:00～17:00\n第4回 : 11月3日（日）13:00～17:00\n\n会場:\n佐野国際クリケット場 \nhttps://maps.app.goo.gl/HC4eyVpyecYmkbth9 \n参加費：\n\n\n\n500円／人\n「クリケットのまち佐野」サポータークラブの会員は無料！\n\nお申込み：\n\n下記リンクからご予約ください。\nhttps://forms.gle/2brPTR9is4MxW2oKA\n\n\n\n\n\n\n 
URL:https://cricket.or.jp/event/2025-sano-social-cricket-league/2025-06-21/
LOCATION:佐野市国際クリケット場 (田沼高等学校跡)\, 栃本町300-1\, 佐野市\, 栃木県\, 327-0312\, Japan
CATEGORIES:- 参加／体験 -
ATTACH;FMTTYPE=image/jpeg:https://cricket.or.jp/wp-content/uploads/2025/04/social-league.jpg
GEO:36.3614163;139.5942198
X-APPLE-STRUCTURED-LOCATION;VALUE=URI;X-ADDRESS=佐野市国際クリケット場 (田沼高等学校跡) 栃本町300-1 佐野市 栃木県 327-0312 Japan;X-APPLE-RADIUS=500;X-TITLE=栃本町300-1:geo:139.5942198,36.3614163
END:VEVENT
BEGIN:VEVENT
DTSTART;VALUE=DATE:20250622
DTEND;VALUE=DATE:20250623
DTSTAMP:20260422T210404
CREATED:20250226T042618Z
LAST-MODIFIED:20250522T145647Z
UID:10003778-1750550400-1750636799@cricket.or.jp
SUMMARY:[:en]2025 Akishima Cricket Blast Series in Spring[:ja]春　クリケットブラスト・シリーズ in 昭島[:]
DESCRIPTION:イベント情報 \n\nクリケットブラスト・シリーズ in 昭島は、12歳以下の経験者、未経験者を問わず、クリケットを楽しむチャンスです。新しいスポーツを楽しみ、新しい友達を作り、スポーツを通して英語を学び、楽しく安全なゲームをしましょう！ \n\nイベント名 昭島クリケットブラストシリーズ\n \n会場 \n\n昭和公園陸上競技場（〒196-0033 東京都昭島市東町５丁目２−１１−４３）- 第1\,3日曜\n昭島市エコ・パー　(〒196-0001  昭島市美堀町3-16)　- 第2日曜\n多摩川中央公園グラウンド　(〒197-0003 東京都福生市南田園３丁目２−１)　- 第4日曜\n\n  \n開催日 \n\n6月8日（日）  ‐ 昭和公園陸上競技場\n6月15日（日）‐ 昭島市エコ・パー\n6月22日（日）‐ 昭和公園陸上競技場\n6月29日（日）‐ 多摩川中央公園グラウンド\n\n時間：（受付はコース開始15分前） \n9:30～11:30（受付はコース開始20分前）-  第1\,3日曜\nエンジョイコース 9:30～10:05、ゲームコース 10:15～11:00\n10:30～12:30（受付はコース開始20分前）-  第2日曜\nエンジョイコース( 10:30～11:05、ゲームコース 11:15～12:00\n12:30～14:30（受付はコース開始20分前）-  第4日曜\nエンジョイコース( 12:30～13:05、ゲームコース 13:15～14:00\n  \nエンジョイコース(レベル★☆☆)* * \n\n– エンジョイコースは主に小学生低学年～中学年を対象としたコースで\, ボールを捕ったり投げたり、打ったりするゲームを楽しみな 　 がらクリケットに触れるコースです\n\nゲームコース(レベル★★☆)** **\n\n– ゲームコースは主に小学生中学年～高学年を対象としたコースで、簡易版クリケットの形式でゲームを楽しみます。ワンバウンドの ボールを打って走って、君は何点とれるかな!?\n\n参加費：1人500円(3回連続参加で最後の1回無料)\n\n登録方法\n下のリンクをたどってください！ \nhttps://forms.gle/XGtPHAffu5JRsj5fA \n\n<<お問い合わせ\n日本クリケット協会　イロク　メール ：：r-lee@cricket.or.jp
URL:https://cricket.or.jp/event/akishima-cricket-blast-series-in-spring/2025-06-22/
CATEGORIES:- 参加／体験 -
END:VEVENT
BEGIN:VEVENT
DTSTART;TZID=Asia/Tokyo:20250628T090000
DTEND;TZID=Asia/Tokyo:20250628T120000
DTSTAMP:20260422T210404
CREATED:20250428T084347Z
LAST-MODIFIED:20250428T091250Z
UID:10004100-1751101200-1751112000@cricket.or.jp
SUMMARY:[:en]2025 Sano Spofes (Cricket Blast Series)[:ja]佐野のスポフェス（クリケットブラストシリーズ）[:]
DESCRIPTION:誰でも楽しめるプログラムです。\n一緒にクリケットを楽しもう！お友達とご家族と楽しい時間を過ごせるスポーツイベントです。 \nクリケットブラストは、小学生のお子様を対象としたクリケットを学ぶための入門プログラムです。 \n詳しくは https://japancricketblast.com \nクリケットだけでなく、今年は他の2つのスポーツもフィーチャーされます！ \n日程:\n6月 7\, 14\, 21\, 28日\, (土曜日) \n\n\nスケジュール:\n\n\n受付：9:15\nグループ/ラウンド1: 9:20 ~ 10:00\nグループ/ラウンド2: 10:10 ~ 10:50\nグループ/ラウンド3: 11:00 ~ 11:40\nフィニッシュ：11:45 \n会場\n佐野国際クリケット場 \n料金：参加者1名につき1日500円 \n\n☆★ シリーズ申込みでプレゼントをゲットしよう！ ★☆\nシリーズ特典として、クリケットバットとボールをプレゼント🎁 \n\n\n☆★ 早くシリーズ登録して1日分無料 ★☆\n5月31日までにシリーズお申込いただくと1500円で参加できます。（1回分実質無料）\nお申込：こちらのリンクから事前登録をお願いします。https://forms.gle/weLWsyy6vTNDU95aA
URL:https://cricket.or.jp/event/2025-sano-spofes-cricket-blast-series/2025-06-28/
LOCATION:佐野市国際クリケット場 (田沼高等学校跡)\, 栃本町300-1\, 佐野市\, 栃木県\, 327-0312\, Japan
CATEGORIES:- 参加／体験 -
ATTACH;FMTTYPE=image/jpeg:https://cricket.or.jp/wp-content/uploads/2025/04/supofes_logo-2.jpg
GEO:36.3614163;139.5942198
X-APPLE-STRUCTURED-LOCATION;VALUE=URI;X-ADDRESS=佐野市国際クリケット場 (田沼高等学校跡) 栃本町300-1 佐野市 栃木県 327-0312 Japan;X-APPLE-RADIUS=500;X-TITLE=栃本町300-1:geo:139.5942198,36.3614163
END:VEVENT
BEGIN:VEVENT
DTSTART;TZID=Asia/Tokyo:20250628T130000
DTEND;TZID=Asia/Tokyo:20250628T170000
DTSTAMP:20260422T210404
CREATED:20250226T035903Z
LAST-MODIFIED:20250428T074308Z
UID:10003769-1751115600-1751130000@cricket.or.jp
SUMMARY:[:en]2025 Akishima Social league[:ja]2025年昭島ソーシャルクリケット大会[:]
DESCRIPTION:＜概要＞　昭島ソーシャルクリケット大会\n日時：\n\n第1回：6月28日（土）12:30～17:00\n第2回：10月05日（日）12:30～17:00\n第3回：11月29日（土）12:30～17:00\n\n参加費：\n\n500円／人\n「クリケットのまち昭島」サポータークラブの会員は無料！\n\nお申込み：https://forms.gle/A3nZPmdzRW7KE9y27\n\n\n\n下記チラシのQRコードから予約フォームにご入力いただくか、下記リンクからご予約ください。
URL:https://cricket.or.jp/event/2025%e5%b9%b4%e6%98%ad%e5%b3%b6%e3%82%bd%e3%83%bc%e3%82%b7%e3%83%a3%e3%83%ab%e3%82%af%e3%83%aa%e3%82%b1%e3%83%83%e3%83%88%e5%a4%a7%e4%bc%9a/2025-06-28/
LOCATION:昭和公園陸上競技場\, 東町5-11-43\, 昭島市\, 東京都\, 196-0033\, Japan
CATEGORIES:- 参加／体験 -
GEO:35.702251;139.387369
X-APPLE-STRUCTURED-LOCATION;VALUE=URI;X-ADDRESS=昭和公園陸上競技場 東町5-11-43 昭島市 東京都 196-0033 Japan;X-APPLE-RADIUS=500;X-TITLE=東町5-11-43:geo:139.387369,35.702251
END:VEVENT
BEGIN:VEVENT
DTSTART;TZID=Asia/Tokyo:20250628T130000
DTEND;TZID=Asia/Tokyo:20250628T170000
DTSTAMP:20260422T210404
CREATED:20250428T090807Z
LAST-MODIFIED:20250428T091037Z
UID:10004102-1751115600-1751130000@cricket.or.jp
SUMMARY:[:en]2025 Sano Social Cricket League[:ja]2025年佐野ソーシャルクリケット大会[:]
DESCRIPTION:日時：\n\n第1回：4月21日（日）13:00～17:00\n第2回：6月23日（日）13:00～17:00\n第3回：9月8日(日本レクリエーション・フェスティバル協力)（日）13:00～17:00\n第4回 : 11月3日（日）13:00～17:00\n\n会場:\n佐野国際クリケット場 \nhttps://maps.app.goo.gl/HC4eyVpyecYmkbth9 \n参加費：\n\n\n\n500円／人\n「クリケットのまち佐野」サポータークラブの会員は無料！\n\nお申込み：\n\n下記リンクからご予約ください。\nhttps://forms.gle/2brPTR9is4MxW2oKA\n\n\n\n\n\n\n 
URL:https://cricket.or.jp/event/2025-sano-social-cricket-league/2025-06-28/
LOCATION:佐野市国際クリケット場 (田沼高等学校跡)\, 栃本町300-1\, 佐野市\, 栃木県\, 327-0312\, Japan
CATEGORIES:- 参加／体験 -
ATTACH;FMTTYPE=image/jpeg:https://cricket.or.jp/wp-content/uploads/2025/04/social-league.jpg
GEO:36.3614163;139.5942198
X-APPLE-STRUCTURED-LOCATION;VALUE=URI;X-ADDRESS=佐野市国際クリケット場 (田沼高等学校跡) 栃本町300-1 佐野市 栃木県 327-0312 Japan;X-APPLE-RADIUS=500;X-TITLE=栃本町300-1:geo:139.5942198,36.3614163
END:VEVENT
BEGIN:VEVENT
DTSTART;VALUE=DATE:20250629
DTEND;VALUE=DATE:20250630
DTSTAMP:20260422T210404
CREATED:20250226T042618Z
LAST-MODIFIED:20250522T145647Z
UID:10003779-1751155200-1751241599@cricket.or.jp
SUMMARY:[:en]2025 Akishima Cricket Blast Series in Spring[:ja]春　クリケットブラスト・シリーズ in 昭島[:]
DESCRIPTION:イベント情報 \n\nクリケットブラスト・シリーズ in 昭島は、12歳以下の経験者、未経験者を問わず、クリケットを楽しむチャンスです。新しいスポーツを楽しみ、新しい友達を作り、スポーツを通して英語を学び、楽しく安全なゲームをしましょう！ \n\nイベント名 昭島クリケットブラストシリーズ\n \n会場 \n\n昭和公園陸上競技場（〒196-0033 東京都昭島市東町５丁目２−１１−４３）- 第1\,3日曜\n昭島市エコ・パー　(〒196-0001  昭島市美堀町3-16)　- 第2日曜\n多摩川中央公園グラウンド　(〒197-0003 東京都福生市南田園３丁目２−１)　- 第4日曜\n\n  \n開催日 \n\n6月8日（日）  ‐ 昭和公園陸上競技場\n6月15日（日）‐ 昭島市エコ・パー\n6月22日（日）‐ 昭和公園陸上競技場\n6月29日（日）‐ 多摩川中央公園グラウンド\n\n時間：（受付はコース開始15分前） \n9:30～11:30（受付はコース開始20分前）-  第1\,3日曜\nエンジョイコース 9:30～10:05、ゲームコース 10:15～11:00\n10:30～12:30（受付はコース開始20分前）-  第2日曜\nエンジョイコース( 10:30～11:05、ゲームコース 11:15～12:00\n12:30～14:30（受付はコース開始20分前）-  第4日曜\nエンジョイコース( 12:30～13:05、ゲームコース 13:15～14:00\n  \nエンジョイコース(レベル★☆☆)* * \n\n– エンジョイコースは主に小学生低学年～中学年を対象としたコースで\, ボールを捕ったり投げたり、打ったりするゲームを楽しみな 　 がらクリケットに触れるコースです\n\nゲームコース(レベル★★☆)** **\n\n– ゲームコースは主に小学生中学年～高学年を対象としたコースで、簡易版クリケットの形式でゲームを楽しみます。ワンバウンドの ボールを打って走って、君は何点とれるかな!?\n\n参加費：1人500円(3回連続参加で最後の1回無料)\n\n登録方法\n下のリンクをたどってください！ \nhttps://forms.gle/XGtPHAffu5JRsj5fA \n\n<<お問い合わせ\n日本クリケット協会　イロク　メール ：：r-lee@cricket.or.jp
URL:https://cricket.or.jp/event/akishima-cricket-blast-series-in-spring/2025-06-29/
CATEGORIES:- 参加／体験 -
END:VEVENT
BEGIN:VEVENT
DTSTART;TZID=Asia/Tokyo:20250629T090000
DTEND;TZID=Asia/Tokyo:20250629T101500
DTSTAMP:20260422T210404
CREATED:20250618T064941Z
LAST-MODIFIED:20250618T070349Z
UID:10004118-1751187600-1751192100@cricket.or.jp
SUMMARY:[:en]June 29　“Yoshimoto Sports no Wa” Cricket Experience Event[:ja]6月29日(土)「よしもとスポーツの輪 クリケット体験イベント」[:]
DESCRIPTION:2025年6月29日（土）午前9時から、東京都調布市の大町スポーツ広場にて、 \n吉本興業主催の「よしもとスポーツの輪 クリケット体験イベント」がおこなわれます。 \n本イベントでは、元プロ野球選手で現クリケット選手の木村昇吾さんを中心に、お笑い芸人のノリさん(パピヨン）、生ファラオさん、Everybodyさんと一緒に、初心者でも楽しくクリケットを体験できます。 \nふるってご参加ください！ \n\n【開催概要】\n\n\n日時：2025年6月29日（土）AM8:45受付開始、9時開始、10:15ごろ終了予定 \n\n\n場所：大町スポーツ広場（東京都調布市菊野台3-1） \n\n\n定員：35名（先着順） \n\n\n参加費：高校生以上1\,800円、小中学生500円 \n\n持ち物：動きやすい服装、運動靴、飲み物\n\n\n参加者：木村昇吾、ノリ（パピヨン）、生ファラオ、Everybody \n\n\n主催：吉本興業株式会社 \n\n\n協力：一般社団法人 日本クリケット協会 \n\n\n\n【注意事項】\n※更衣室はございません \n※イベント当日は写真撮影を行います。SNS等への掲載を希望されない方は、事前に主催者までお申し出ください※本イベントは吉本興業が主催しています。詳細は主催者の案内をご確認ください
URL:https://cricket.or.jp/event/2025-yoshimoto-cricket-2025-06-29/
LOCATION:大町スポーツ施設(大運動場)／Omachi Sports Facilities (Large Sports Ground)\, 調布市菊野台3-27-40／3-27-40 Kikunodai\, Chofu City
CATEGORIES:- 参加／体験 -
ATTACH;FMTTYPE=image/jpeg:https://cricket.or.jp/wp-content/uploads/2025/06/GrT5WyqXMAACyWV.jpeg
END:VEVENT
END:VCALENDAR