BEGIN:VCALENDAR
VERSION:2.0
PRODID:-//Japan Cricket Association - ECPv6.15.12.2//NONSGML v1.0//EN
CALSCALE:GREGORIAN
METHOD:PUBLISH
X-WR-CALNAME:Japan Cricket Association
X-ORIGINAL-URL:https://cricket.or.jp
X-WR-CALDESC:Japan Cricket Association のイベント
REFRESH-INTERVAL;VALUE=DURATION:PT1H
X-Robots-Tag:noindex
X-PUBLISHED-TTL:PT1H
BEGIN:VTIMEZONE
TZID:Asia/Tokyo
BEGIN:STANDARD
TZOFFSETFROM:+0900
TZOFFSETTO:+0900
TZNAME:JST
DTSTART:20240101T000000
END:STANDARD
END:VTIMEZONE
BEGIN:VEVENT
DTSTART;VALUE=DATE:20250517
DTEND;VALUE=DATE:20250520
DTSTAMP:20260423T003720
CREATED:20250304T014517Z
LAST-MODIFIED:20250304T014544Z
UID:10003783-1747440000-1747699199@cricket.or.jp
SUMMARY:[:en]U16 Girls Cricket Tournament[:ja]U16女子クリケット大会[:]
DESCRIPTION:今シーズン、女子U16日本クリケットリーグを始動します！ \nU16リーグは共に、今年、女子育成選手団を再編して設置する日本ナショナルアカデミーの女子カテゴリの選考会も兼ねます。 \n日本ナショナルアカデミー（女子）は、将来の日本代表選手の育成とジュニア世代の日本代表選手の育成を目的にしていますが、年齢制限はありません。女子U19日本代表チームは2026年に結成することを目標にしており、このチームは、ナショナルアカデミー（女子）のメンバーで年齢条件を満たす選手から選出されます。 \nU16のリーグは5月に開催rされ、日本国内だけではなく海外在住の選手も参加することができます。 \nU16リーグには4チームの参加を目標に、参加選手を募集し、JCAでチームを編成します。 \nU16リーグのそれぞれ又は参加をご希望の方は、3月28日（金）までに以下のフォームに必要事項をご記入の上、送信して下さい。 \nttps://forms.gle/JryRRQmg7rprauUGA \n主要情報： \n日程： \n女子U16日本クリケットリーグ：5月17日（土）～19日（月）* \n会場： 佐野市国際クリケット場 \n参加費： 無料 \nユニフォーム：こちらでご用意いたします \n飲み物・食べ物：各自持参 \n*本大会は平日にも開催いたします。日本代表選考会の一環であるため、学校に欠席届を提出する必要がある場合は、JCAより公的証明書を発行いたします。
URL:https://cricket.or.jp/event/u16-girls-cricket-tournament/
LOCATION:佐野市国際クリケット場 (田沼高等学校跡)\, 栃本町300-1\, 佐野市\, 栃木県\, 327-0312\, Japan
CATEGORIES:- 参加／体験 -
ATTACH;FMTTYPE=image/jpeg:https://cricket.or.jp/wp-content/uploads/2025/01/Junior-Girls-scaled.jpg
GEO:36.3614163;139.5942198
X-APPLE-STRUCTURED-LOCATION;VALUE=URI;X-ADDRESS=佐野市国際クリケット場 (田沼高等学校跡) 栃本町300-1 佐野市 栃木県 327-0312 Japan;X-APPLE-RADIUS=500;X-TITLE=栃本町300-1:geo:139.5942198,36.3614163
END:VEVENT
BEGIN:VEVENT
DTSTART;TZID=Asia/Tokyo:20250518T090000
DTEND;TZID=Asia/Tokyo:20250518T160000
DTSTAMP:20260423T003720
CREATED:20250413T064805Z
LAST-MODIFIED:20250413T064805Z
UID:10004096-1747558800-1747584000@cricket.or.jp
SUMMARY:[:en]Beach Cricket Tournament 2025 in Kaizuka Nishikinohama[:ja]ビーチクリケット大会 in 貝塚二色の浜[:]
DESCRIPTION:日本初開催！ビーチクリケット大会を貝塚市 二色の浜海水浴場で開催！\nビーチやマリーナの認証制度「ブルーフラッグ」を2024年に取得した大阪府貝塚市の二色の浜海水浴場にて、日本初となる「ビーチクリケット大会」を開催します。大会はクリケット初心者を対象としており、老若男女どなたでも楽しめる簡易版クリケットのルールで実施します。家族、友人、職場の同僚とチームを作って是非ご参加ください！ \n日程\n2025年5月18日(日) \nタイムテーブル\n12:30　受付開始 \n13:00　開会式 \n13:30　第1試合 \n14:30　第2試合 \n15:30　第3試合 \n16:15　表彰式 \n午前中には、ビーチ清掃活動「HONDAビーチクリーン」を実施しています。こちらも是非ご参加ください。 \n会場\n二色の浜海水浴場 \n参加申込\nチーム単位（6人1チーム）もしくは2名1組で申込を受け付けております \n①チーム名 ②代表者名 ③参加者名 ④代表者連絡先（メールアドレス、電話番号） \n上記①～④を記載し、メールでお申込みください \ne-mail：y.sato@cricket.or.jp \n申込期限：2025年5月15日 \n会場の都合上、参加チーム数が上限に達し次第申込を締め切りますのでお早めにお申し込みください \nインフォメーション\n・参加費無料 \n・雨天中止です　中止が決定しましたらお申込みいただいておりましたメールアドレスに連絡します。 \n・ビーチクリケット大会以外にも当日は午前から「HONDAビーチクリーン」やキッチンカーが集まる「ビーチフェスタ」を同時開催しております。そちらも是非ご参加ください。ビーチクリーン、ビーチフェスタについて、詳しくは貝塚市ホームページをご確認ください。 \n・ビーチクリケット大会では、優勝チームの他にも「ベストドレッサー賞*」、「元気に楽しんだで賞**」を準備しています。是非、これらの賞も狙ってみてください！ \n*審査員が最も感銘を受けたユニフォームを着用しているチームを表彰します。（チームで統一のユニフォームを着用する必要はありません） \n**最も元気に、チームで仲良く、クリケットを楽しんだチームを表彰します \n主催等\n\n\n主催：一般社団法人日本クリケット協会 \n共催：大阪府ホンダ会、二色の浜リバイバル・プロジェクトグループ、一般社団法人関西クリケット協会、貝塚市観光協会、貝塚市 \n\n\n協力：貝塚商工会議所、二色の浜公園管理事務所、二色の浜魅力向上推進協議会、近畿ジェットスポーツ連盟、貝塚青年会議所 \n\n\n後援：大阪府（予定） \nお問合せ\n貝塚市役所 魅力づくり推進課 072-433-7192 \n日本クリケット協会 y.sato@cricket.or.jp、050-5799-4502(イベント当日は繋がりません) \nチラシ
URL:https://cricket.or.jp/event/beach-cricket-tournament-2025-in-kaizuka-nishikinohama/
LOCATION:二色の浜海水浴場\, 大阪府貝塚市澤\, Kaizuka\, 597-0062\, Japan
CATEGORIES:- 参加／体験 -
END:VEVENT
BEGIN:VEVENT
DTSTART;VALUE=DATE:20250523
DTEND;VALUE=DATE:20250526
DTSTAMP:20260423T003720
CREATED:20250304T015029Z
LAST-MODIFIED:20250428T010248Z
UID:10004094-1747958400-1748217599@cricket.or.jp
SUMMARY:[:en]U19 Girls Cricket Tournament[:ja]U19女子クリケット大会[:]
DESCRIPTION:今シーズン、女子U19日本クリケットリーグを始動します！ \nU19リーグは共に、今年、女子育成選手団を再編して設置する日本ナショナルアカデミーの女子カテゴリの選考会も兼ねます。 \n日本ナショナルアカデミー（女子）は、将来の日本代表選手の育成とジュニア世代の日本代表選手の育成を目的にしていますが、年齢制限はありません。女子U19日本代表チームは2026年に結成することを目標にしており、このチームは、ナショナルアカデミー（女子）のメンバーで年齢条件を満たす選手から選出されます。 \nU19のリーグは5月に開催rされ、日本国内だけではなく海外在住の選手も参加することができます。 \nU19リーグには4チームの参加を目標に、参加選手を募集し、JCAでチームを編成します。 \nU19リーグのそれぞれ又は参加をご希望の方は、3月28日（金）までに以下のフォームに必要事項をご記入の上、送信して下さい。 \nttps://forms.gle/JryRRQmg7rprauUGA \n主要情報： \n日程： \n女子U19日本クリケットリーグ：5月23日（金）～25日（日）* \n会場： 佐野市国際クリケット場 \n参加費： 無料 \nユニフォーム：こちらでご用意いたします \n飲み物・食べ物：各自持参 \n*本大会は平日にも開催いたします。日本代表選考会の一環であるため、学校に欠席届を提出する必要がある場合は、JCAより公的証明書を発行いたします。
URL:https://cricket.or.jp/event/u19%e5%a5%b3%e5%ad%90%e3%82%af%e3%83%aa%e3%82%b1%e3%83%83%e3%83%88%e5%a4%a7%e4%bc%9a/
LOCATION:佐野市国際クリケット場 (田沼高等学校跡)\, 栃本町300-1\, 佐野市\, 栃木県\, 327-0312\, Japan
CATEGORIES:- 参加／体験 -
ATTACH;FMTTYPE=image/jpeg:https://cricket.or.jp/wp-content/uploads/2025/01/Junior-Girls-scaled.jpg
GEO:36.3614163;139.5942198
X-APPLE-STRUCTURED-LOCATION;VALUE=URI;X-ADDRESS=佐野市国際クリケット場 (田沼高等学校跡) 栃本町300-1 佐野市 栃木県 327-0312 Japan;X-APPLE-RADIUS=500;X-TITLE=栃本町300-1:geo:139.5942198,36.3614163
END:VEVENT
END:VCALENDAR