BEGIN:VCALENDAR
VERSION:2.0
PRODID:-//Japan Cricket Association - ECPv6.15.12.2//NONSGML v1.0//EN
CALSCALE:GREGORIAN
METHOD:PUBLISH
X-WR-CALNAME:Japan Cricket Association
X-ORIGINAL-URL:https://cricket.or.jp
X-WR-CALDESC:Japan Cricket Association のイベント
REFRESH-INTERVAL;VALUE=DURATION:PT1H
X-Robots-Tag:noindex
X-PUBLISHED-TTL:PT1H
BEGIN:VTIMEZONE
TZID:Asia/Tokyo
BEGIN:STANDARD
TZOFFSETFROM:+0900
TZOFFSETTO:+0900
TZNAME:JST
DTSTART:20230101T000000
END:STANDARD
END:VTIMEZONE
BEGIN:VEVENT
DTSTART;TZID=Asia/Tokyo:20240706T130000
DTEND;TZID=Asia/Tokyo:20240706T170000
DTSTAMP:20260423T205538
CREATED:20240227T045537Z
LAST-MODIFIED:20240705T005003Z
UID:10003367-1720270800-1720285200@cricket.or.jp
SUMMARY:[:en]J-BASH Social & Hardball Event - CANCELLED[:ja]中止 - 2024年ウィメンズ J-BASH ソーシャルとハードボール開幕[:]
DESCRIPTION:2024年ウィメンズ J-BASH ソーシャルとハードボールが開幕します。クリケットを気軽に楽しめるイベントですので、クリケット初挑戦の女性の皆さんも、ぜひお気軽にご参加ください。 \n参加ご希望の方は、以下フォームに必要事項をご入力の上、ご送信ください。 \n参加申込フォーム : https://forms.gle/JhqNSUbcBaJdDEYY8 \n参加申込フォームのDeadlineは 7月1日（月） \nウィメンズ J-BASH ソーシャルリーグはJCAパートナーの三井農林の協賛で開催いたします。開催場所は長沢スポーツグラウンド、開催時間は午後1時から午後3時を予定しております（15分間のティーブレイクがあります）。 \nウィメンズ J-BASH ソーシャルリーグは、楽しくプレーすることを目的としています。保護具も使用しないように設計されていますので、ぜひクリケットを楽しんでください！ \nソーシャルクリケット後、午後3時30分から午後5時には、ハードボールを利用してプレーをする機会もあります。これは競技クリケット（女子日本クリケットリーグ、ウィメンズJ-BASHチャレンジリーグ、女子日本学生選手権）に参加する選手を対象としています。 \n一緒にクリケットを楽しみましょう。
URL:https://cricket.or.jp/event/2024j-bashsocialhardball-2/
LOCATION:Nagasawa Sports Ground\, 〒214-0034 神奈川県川崎市多摩区三田５丁目9052\, Japan
CATEGORIES:- 参加／体験 -
ATTACH;FMTTYPE=image/jpeg:https://cricket.or.jp/wp-content/uploads/2024/02/social-league-1-scaled.jpg
GEO:35.60482;139.545937
X-APPLE-STRUCTURED-LOCATION;VALUE=URI;X-ADDRESS=Nagasawa Sports Ground 〒214-0034 神奈川県川崎市多摩区三田５丁目9052 Japan;X-APPLE-RADIUS=500;X-TITLE=〒214-0034 神奈川県川崎市多摩区三田５丁目9052:geo:139.545937,35.60482
END:VEVENT
BEGIN:VEVENT
DTSTART;TZID=Asia/Tokyo:20240713T130000
DTEND;TZID=Asia/Tokyo:20240713T170000
DTSTAMP:20260423T205538
CREATED:20240530T044217Z
LAST-MODIFIED:20240710T050712Z
UID:10004067-1720875600-1720890000@cricket.or.jp
SUMMARY:[:en]2024 J-BASH Challenge League CANCELLED[:ja]2024 J-BASH チャレンジリーグ CANCELLED[:]
DESCRIPTION:硬式クリケットを体験してみませんか？ \nチャレンジリーグは、クリケットをもっと楽しんでみたい方にとって、オススメのリーグです。このリーグは、クリケットを始めたばかりの方が参加する大会で、今シーズは4日間に渡って行われます。 \n日本代表強化選手は、通常このような大会には出場しませんが、人数が足りない場合には、フィールダーとしてのみ出場することができます。バッティングやボウリングは他の選手が行います。 \nチャレンジリーグの目的は、日本でも成長しているクリケットというスポーツを楽しみながら学ぶことです。ぜひ、ご友人を誘ってチームを作り、エントリーしてみてください。 \n一緒にクリケットを楽しみましょう！ \nボーナス：各日の優勝チームにはトロフィーが贈られる！ \n詳細： \n\n人数：1チーム6名\n試合形式： 各6オーバー\n登録リンク：https://forms.gle/Yz9q8T13fydGZkLG8\n参加お申込み期限： 7月5日（金）
URL:https://cricket.or.jp/event/2024j-bashchallengeleague/
LOCATION:佐野市国際クリケット場 (田沼高等学校跡)\, 栃本町300-1\, 佐野市\, 栃木県\, 327-0312\, Japan
CATEGORIES:- 参加／体験 -
ATTACH;FMTTYPE=image/jpeg:https://cricket.or.jp/wp-content/uploads/2024/03/DSC_0223-scaled.jpg
GEO:36.3614163;139.5942198
X-APPLE-STRUCTURED-LOCATION;VALUE=URI;X-ADDRESS=佐野市国際クリケット場 (田沼高等学校跡) 栃本町300-1 佐野市 栃木県 327-0312 Japan;X-APPLE-RADIUS=500;X-TITLE=栃本町300-1:geo:139.5942198,36.3614163
END:VEVENT
BEGIN:VEVENT
DTSTART;TZID=Asia/Tokyo:20240720T130000
DTEND;TZID=Asia/Tokyo:20240720T170000
DTSTAMP:20260423T205538
CREATED:20240530T045333Z
LAST-MODIFIED:20240710T050736Z
UID:10004068-1721480400-1721494800@cricket.or.jp
SUMMARY:[:en]2024 J-BASH Challenge League CANCELLED[:ja]2024 J-BASH チャレンジリーグ CANCELLED[:]
DESCRIPTION:硬式クリケットを体験してみませんか？ \nチャレンジリーグは、クリケットをもっと楽しんでみたい方にとって、オススメのリーグです。このリーグは、クリケットを始めたばかりの方が参加する大会で、今シーズは4日間に渡って行われます。 \n日本代表強化選手は、通常このような大会には出場しませんが、人数が足りない場合には、フィールダーとしてのみ出場することができます。バッティングやボウリングは他の選手が行います。 \nチャレンジリーグの目的は、日本でも成長しているクリケットというスポーツを楽しみながら学ぶことです。ぜひ、ご友人を誘ってチームを作り、エントリーしてみてください。 \n一緒にクリケットを楽しみましょう！ \nボーナス：各日の優勝チームにはトロフィーが贈られる！ \n詳細： \n\n人数：1チーム6名\n試合形式： 各6オーバー\n登録リンク：https://forms.gle/Yz9q8T13fydGZkLG8\n参加お申込み期限： 7月５日（金）
URL:https://cricket.or.jp/event/2024j-bashchallengeleague-2/2024-07-20/
LOCATION:Nagasawa Sports Ground\, 〒214-0034 神奈川県川崎市多摩区三田５丁目9052\, Japan
CATEGORIES:- 参加／体験 -
ATTACH;FMTTYPE=image/jpeg:https://cricket.or.jp/wp-content/uploads/2024/03/DSC_0223-scaled.jpg
GEO:35.60482;139.545937
X-APPLE-STRUCTURED-LOCATION;VALUE=URI;X-ADDRESS=Nagasawa Sports Ground 〒214-0034 神奈川県川崎市多摩区三田５丁目9052 Japan;X-APPLE-RADIUS=500;X-TITLE=〒214-0034 神奈川県川崎市多摩区三田５丁目9052:geo:139.545937,35.60482
END:VEVENT
BEGIN:VEVENT
DTSTART;TZID=Asia/Tokyo:20240727T130000
DTEND;TZID=Asia/Tokyo:20240727T170000
DTSTAMP:20260423T205538
CREATED:20240530T045333Z
LAST-MODIFIED:20240710T050736Z
UID:10004069-1722085200-1722099600@cricket.or.jp
SUMMARY:[:en]2024 J-BASH Challenge League CANCELLED[:ja]2024 J-BASH チャレンジリーグ CANCELLED[:]
DESCRIPTION:硬式クリケットを体験してみませんか？ \nチャレンジリーグは、クリケットをもっと楽しんでみたい方にとって、オススメのリーグです。このリーグは、クリケットを始めたばかりの方が参加する大会で、今シーズは4日間に渡って行われます。 \n日本代表強化選手は、通常このような大会には出場しませんが、人数が足りない場合には、フィールダーとしてのみ出場することができます。バッティングやボウリングは他の選手が行います。 \nチャレンジリーグの目的は、日本でも成長しているクリケットというスポーツを楽しみながら学ぶことです。ぜひ、ご友人を誘ってチームを作り、エントリーしてみてください。 \n一緒にクリケットを楽しみましょう！ \nボーナス：各日の優勝チームにはトロフィーが贈られる！ \n詳細： \n\n人数：1チーム6名\n試合形式： 各6オーバー\n登録リンク：https://forms.gle/Yz9q8T13fydGZkLG8\n参加お申込み期限： 7月５日（金）
URL:https://cricket.or.jp/event/2024j-bashchallengeleague-2/2024-07-27/
LOCATION:Nagasawa Sports Ground\, 〒214-0034 神奈川県川崎市多摩区三田５丁目9052\, Japan
CATEGORIES:- 参加／体験 -
ATTACH;FMTTYPE=image/jpeg:https://cricket.or.jp/wp-content/uploads/2024/03/DSC_0223-scaled.jpg
GEO:35.60482;139.545937
X-APPLE-STRUCTURED-LOCATION;VALUE=URI;X-ADDRESS=Nagasawa Sports Ground 〒214-0034 神奈川県川崎市多摩区三田５丁目9052 Japan;X-APPLE-RADIUS=500;X-TITLE=〒214-0034 神奈川県川崎市多摩区三田５丁目9052:geo:139.545937,35.60482
END:VEVENT
END:VCALENDAR