BEGIN:VCALENDAR
VERSION:2.0
PRODID:-//Japan Cricket Association - ECPv6.15.12.2//NONSGML v1.0//EN
CALSCALE:GREGORIAN
METHOD:PUBLISH
X-WR-CALNAME:Japan Cricket Association
X-ORIGINAL-URL:https://cricket.or.jp/en
X-WR-CALDESC:Events for Japan Cricket Association
REFRESH-INTERVAL;VALUE=DURATION:PT1H
X-Robots-Tag:noindex
X-PUBLISHED-TTL:PT1H
BEGIN:VTIMEZONE
TZID:Asia/Tokyo
BEGIN:STANDARD
TZOFFSETFROM:+0900
TZOFFSETTO:+0900
TZNAME:JST
DTSTART:20230101T000000
END:STANDARD
END:VTIMEZONE
BEGIN:VEVENT
DTSTART;VALUE=DATE:20240507
DTEND;VALUE=DATE:20240513
DTSTAMP:20260424T001208
CREATED:20240324T043039Z
LAST-MODIFIED:20240509T072718Z
UID:10004055-1715040000-1715558399@cricket.or.jp
SUMMARY:[:en]Men's T20I Series: Japan vs Mongolia[:ja]男子国際試合：日本 vs モンゴル[:]
DESCRIPTION:May 7 (Tue) 11:00-14:00 Japan vs Mongolia\nMay 8 (Wed) 9:30-12:30 Japan vs Mongolia｜14:00-17:00 Japan vs Mongolia\nMay 9 (Thurs) 11:00-14:00 Japan vs Mongolia\nMay 10 (Fri) 14:00-17:00 Japan vs Mongolia\nMay 11 (Sat) 9:30-12:30 Japan vs Mongolia｜14:00-17:00 Japan vs Mongolia\nMay 12 (Sun) 11:00-14:00 Japan vs Mongolia
URL:https://cricket.or.jp/en/event/%e7%94%b7%e5%ad%90%e5%9b%bd%e9%9a%9b%e8%a9%a6%e5%90%88%ef%bc%9a%e6%97%a5%e6%9c%ac-vs-%e3%83%a2%e3%83%b3%e3%82%b4%e3%83%ab/
LOCATION:Sano International Cricket Ground (formerly Tanuma Cricket Ground)\, 300-1 Tochimoto-cho\, Sano-shi\, Tochigi-ken\, 327-0312\, Japan
CATEGORIES:- Participate -,- Watch -,International Tournament (Men)
GEO:36.3614163;139.5942198
X-APPLE-STRUCTURED-LOCATION;VALUE=URI;X-ADDRESS=Sano International Cricket Ground (formerly Tanuma Cricket Ground) 300-1 Tochimoto-cho Sano-shi Tochigi-ken 327-0312 Japan;X-APPLE-RADIUS=500;X-TITLE=300-1 Tochimoto-cho:geo:139.5942198,36.3614163
END:VEVENT
END:VCALENDAR