BEGIN:VCALENDAR
VERSION:2.0
PRODID:-//Japan Cricket Association - ECPv6.15.12.2//NONSGML v1.0//EN
CALSCALE:GREGORIAN
METHOD:PUBLISH
X-WR-CALNAME:Japan Cricket Association
X-ORIGINAL-URL:https://cricket.or.jp
X-WR-CALDESC:Japan Cricket Association のイベント
REFRESH-INTERVAL;VALUE=DURATION:PT1H
X-Robots-Tag:noindex
X-PUBLISHED-TTL:PT1H
BEGIN:VTIMEZONE
TZID:Asia/Tokyo
BEGIN:STANDARD
TZOFFSETFROM:+0900
TZOFFSETTO:+0900
TZNAME:JST
DTSTART:20220101T000000
END:STANDARD
END:VTIMEZONE
BEGIN:VEVENT
DTSTART;TZID=Asia/Tokyo:20231014T100000
DTEND;TZID=Asia/Tokyo:20231014T160000
DTSTAMP:20260424T112149
CREATED:20230404T052826Z
LAST-MODIFIED:20230701T062233Z
UID:10003969-1697277600-1697299200@cricket.or.jp
SUMMARY:[:en]Cricket Blast Kanto Cup[:ja]クリケットブラスト関東カップ[:]
DESCRIPTION:江戸川で大会開催！\n小岩クリケットグラウンド\n登録するには、Asalaコーチにメールしてください：asala_29@yahoo.com\nクリケットブラスト 特別ルール\n\nプレイヤー: １チーム６人\nゲームスタイル: １チーム　６オーバーずつ（１オーバー＝６球\nプレイタイム: ４５分\nボール: ゴムボール\nプロテクター: 不要\nバッティング: ペアを作り、各ペアが１２球打つ。\nボウリング: 全員が必ず１オーバー投げる（６球）。\nフィールディング: 全員が順番でウィケットキーパー（捕手）をつとめる。
URL:https://cricket.or.jp/event/cbkantocup/2023-10-14/
LOCATION:Edogawa Cricket Ground\, Near 2 Chome Higashi-Koiwa\, Edogawa-ku\,\, Tokyo (Edogawa Riverside)\, Japan
CATEGORIES:- 参加／体験 -,- 観戦 -
ATTACH;FMTTYPE=image/jpeg:https://cricket.or.jp/wp-content/uploads/2023/03/IMG_8078_2-scaled.jpg
END:VEVENT
BEGIN:VEVENT
DTSTART;TZID=Asia/Tokyo:20231015T130000
DTEND;TZID=Asia/Tokyo:20231015T150000
DTSTAMP:20260424T112149
CREATED:20231001T045417Z
LAST-MODIFIED:20231001T045615Z
UID:10004025-1697374800-1697382000@cricket.or.jp
SUMMARY:[:en]KKR Presents – Girls Cricket Day ![:ja]女子限定＊　クリケット体験会＆練習会[:]
DESCRIPTION:【女子限定　クリケットイベント開催】 \n川崎ナイトライダースクリケットクラブは、地域の皆様や興味ある方向けにクリケット体験会を提供しています。\n今回は女子限定のクリケットイベントとして、初心者〜経験者まで幅広く参加できるイベントとなっております。\n２時間ほど楽しいクリケット体験やミニゲームを楽しむことができます、水分補給の準備や動ける格好、運動に適した靴をお持ちください。 \n日付：2023年10月15日(日)\n時間：13:00−15:00\n最寄駅：二子玉川駅（東急）\n場所：St. Mary’s International School（東京都世田谷区世田1−6−19）\nお問合せ：kkrcricketclub@gmail.com
URL:https://cricket.or.jp/event/krrcamp20231015/
LOCATION:St. Mary’s International School
CATEGORIES:- 参加／体験 -
ORGANIZER;CN="Kawasaki Knight Rider Cricket Club":MAILTO:kkrcricketclub@gmail.com
END:VEVENT
BEGIN:VEVENT
DTSTART;TZID=Asia/Tokyo:20231028T090000
DTEND;TZID=Asia/Tokyo:20231028T193000
DTSTAMP:20260424T112149
CREATED:20230921T080736Z
LAST-MODIFIED:20240617T122036Z
UID:10004023-1698483600-1698521400@cricket.or.jp
SUMMARY:[:en]Embassy Cup 2023[:ja]エンバシーカップ 2023[:]
DESCRIPTION:観る\n今年で第6回を迎えた国内最大級のクリケットイベント「エンバシーカップ」はその名の通り、クリケットが盛んな国の大使館Ⅺチームが出場する大会です！ \n今年から試合フォーマットをT10形式に変更し、1日8試合、1試合90分で開催する予定です！迫力満点で魅力的なクリケットを観戦できること間違いなし！ \n入場は無料ですが、JTBのご協力により、有料観覧席も設けております。チケットはこちらからご購入ください。 \nチケットは、「座席」と「東京駅発着エンバシーカップ観戦！ツアー」に分かれております。 \n\n座席\n\nスタンド席：1\,500円/席\n団体席：55\,000円（50名迄）\nグランピング席：50\,000円(8名迄）※飲み放題付き\nVIP席：75\,000円(15名迄）※飲み放題付き（10月29日のみのご提供）\n\n\n\n詳細はこちらをご参照ください。 \n\n東京駅発着エンバシーカップ観戦！ツアー\n\nお一人様13\,000円 \n「東京駅発着エンバシーカップ観戦！ツアー」は、東京駅発のバスにより、佐野市国際クリケット場でのクリケット観戦・日本代表選手との交流、あしかがフラワーパークのイルミネーションをお楽しみいただいてから、東京駅までのバスツアーとなっております。詳細はこちらをご参照ください。 \n  \nチームカラー（色）を着用して応援しよう！ \nエンバシーカップ開催中、応援するチームの色を着用して応援しよう！その国の代表チームのシャツ（どのスポーツでも！）や各国の特徴的な色を着用して、それぞれのチームの応援をお願いいたします。 \n食べる\n大会出場国に馴染みのあるインターナショナルグルメが大集合！まるで世界旅行気分！？ \n10月28日出店 \n\nTea Room｜紅茶、軽食\nMALINS｜フィッシュ＆チップス\nSiddique｜カレー\nRocco｜ピザ｜夕方のみ\nK2 BURGER｜チキンバーガー\n仙水閣｜ドリンク\n\n10月29日出店 \n\nTea Room｜紅茶、軽食\nMALINS｜フィッシュ＆チップス\nSiddique｜カレー\nK2 BURGER｜チキンバーガー\n\n10月29日は他にも、開催地佐野市の地元のお祭り「第47回たぬまふるさと祭り」が同時開催！「お祭りグルメ」も楽しめます！ \n遊ぶ\nスポフェスZONE　子どもも大人もスポーツを楽しもう！\nミニミニ運動会（当日エントリー必要）\n3×3形式でスポーツ大会に出場しよう！ \n各種目30分前からエントリー受付開始！ \nご家族、ご友人、職場の仲間…3人1チームでお気軽にご参加ください！ \n\n11:00~12:30　3×3 バスケットボール\n13:00~14:30　3×3 フットサル\n15:00~16:30　3×3 クリケット\n\nスポーツ体験会（エントリー不要）\nミニミニ運動会と同時刻に同じスポーツを気軽に体験していただけます！ \n交流会\nクリケット ＆ 食と音楽の夕べ\nクリケット大会終了後、試合会場が解放され、広い芝生の上で音楽やフードをお楽しみいただけます。 \n音楽パフォーマンス\n\n17:30~18:00 ｜Ann G & Dj Daiky｜西インド諸島の大衆音楽\n18:10~19:10 ｜小山太郎(ds) TRIO feat. 小野晃(g)｜Jazz\n19:10~19:20 ｜Ann G & Taro Koyama ｜コラボレーションフィナーレ\n\nチャリティー\n10月28日(土)18：00より、次の2つのチャリティーを支援する有料抽選会（ラッフル）を開催いたします \n\n地域型子ども食堂ちょこっと（佐野市吉水）\n\n佐野市国際クリケット場の近くの子ども食堂です。月1回、地域の子どもからお年寄りに低額で食事を提供しています。 \n\n認定特定非営利活動法人みらいの森（東京都港区）\n\nみらいの森は、児童養護施設で暮らす子どもたちのために、アウトドアプログラムを通じて生涯の糧となる体験を創り出し、幸せな実りある成長をサポートします。詳細はこちらをご参照ください。 \nその他\n\n出展｜佐野市地域おこし協力隊PRブース\n出展｜甘茶及び地元農家の産物販売\n出展｜Party Sano（近隣障がい者施設の紹介、野菜やグッズの販売）\n出展｜クリケットが盛んな国の物産展\n企画｜廃食用油回収\n同時開催｜第47回たぬまふるさと祭り\n\n試合スケジュール\n10月28日（土）\nグループ B \n\nSICG 1｜09:30｜オーストラリア・ニュージーランド合同チーム（アンザック） vs バングラデシュ大使館チーム\nSICG 2｜09:30｜英国大使館チーム vs ネパール大使館チーム\n\nグループ A \n\nSICG 1｜11:15｜日本チーム vs パキスタン大使館チーム\nSICG 2｜11:15｜インド大使館チーム vs スリランカ大使館チーム\n\nグループ B \n\nSICG 1｜13:00｜オーストラリア・ニュージーランド合同チーム（アンザック） vs 英国大使館チーム\nSICG 2｜13:00｜バングラデシュ大使館チーム vs ネパール大使館チーム\n\nグループ A \n\nSICG 1｜14:45｜日本チーム vs インド大使館チーム\nSICG 2｜14:45｜パキスタン大使館チーム vs スリランカ大使館チーム\n\n10月29日（日）\nグループ B \n\nSICG 1｜09:30｜オーストラリア・ニュージーランド合同チーム（アンザック） vs ネパール大使館チーム\nSICG 2｜09:30｜バングラデシュ大使館チーム vs 英国大使館チーム\n\nグループ A \n\nSICG 1｜11:15｜日本チーム vs スリランカ大使館チーム\nSICG 2｜11:15｜インド大使館チーム vs パキスタン大使館チーム\n\nグループ B \n\nSICG 1｜13:00｜グループ B 決勝戦\nSICG 2｜13:00｜グループ B 3位決定戦\n\nグループ A \n\nSICG 1｜14:45｜グループ A 決勝戦\nSICG 2｜14:45｜グループ A 3位決定戦\n\n公式SNS\n\nX：https://twitter.com/CricketJapan\nFacebook：https://www.facebook.com/cricketjapan\nInstagram：https://www.instagram.com/japan_cricket
URL:https://cricket.or.jp/event/2023embassycup/2023-10-28/
LOCATION:佐野市国際クリケット場 (田沼高等学校跡)\, 栃本町300-1\, 佐野市\, 栃木県\, 327-0312\, Japan
CATEGORIES:- 参加／体験 -,- 観戦 -
ATTACH;FMTTYPE=image/png:https://cricket.or.jp/wp-content/uploads/2023/09/2023-09-19-Embassy-Cup-2023-web.png
GEO:36.3614163;139.5942198
X-APPLE-STRUCTURED-LOCATION;VALUE=URI;X-ADDRESS=佐野市国際クリケット場 (田沼高等学校跡) 栃本町300-1 佐野市 栃木県 327-0312 Japan;X-APPLE-RADIUS=500;X-TITLE=栃本町300-1:geo:139.5942198,36.3614163
END:VEVENT
BEGIN:VEVENT
DTSTART;TZID=Asia/Tokyo:20231029T090000
DTEND;TZID=Asia/Tokyo:20231029T170000
DTSTAMP:20260424T112149
CREATED:20230921T080736Z
LAST-MODIFIED:20240617T122036Z
UID:10004024-1698570000-1698598800@cricket.or.jp
SUMMARY:[:en]Embassy Cup 2023[:ja]エンバシーカップ 2023[:]
DESCRIPTION:観る\n今年で第6回を迎えた国内最大級のクリケットイベント「エンバシーカップ」はその名の通り、クリケットが盛んな国の大使館Ⅺチームが出場する大会です！ \n今年から試合フォーマットをT10形式に変更し、1日8試合、1試合90分で開催する予定です！迫力満点で魅力的なクリケットを観戦できること間違いなし！ \n入場は無料ですが、JTBのご協力により、有料観覧席も設けております。チケットはこちらからご購入ください。 \nチケットは、「座席」と「東京駅発着エンバシーカップ観戦！ツアー」に分かれております。 \n\n座席\n\nスタンド席：1\,500円/席\n団体席：55\,000円（50名迄）\nグランピング席：50\,000円(8名迄）※飲み放題付き\nVIP席：75\,000円(15名迄）※飲み放題付き（10月29日のみのご提供）\n\n\n\n詳細はこちらをご参照ください。 \n\n東京駅発着エンバシーカップ観戦！ツアー\n\nお一人様13\,000円 \n「東京駅発着エンバシーカップ観戦！ツアー」は、東京駅発のバスにより、佐野市国際クリケット場でのクリケット観戦・日本代表選手との交流、あしかがフラワーパークのイルミネーションをお楽しみいただいてから、東京駅までのバスツアーとなっております。詳細はこちらをご参照ください。 \n  \nチームカラー（色）を着用して応援しよう！ \nエンバシーカップ開催中、応援するチームの色を着用して応援しよう！その国の代表チームのシャツ（どのスポーツでも！）や各国の特徴的な色を着用して、それぞれのチームの応援をお願いいたします。 \n食べる\n大会出場国に馴染みのあるインターナショナルグルメが大集合！まるで世界旅行気分！？ \n10月28日出店 \n\nTea Room｜紅茶、軽食\nMALINS｜フィッシュ＆チップス\nSiddique｜カレー\nRocco｜ピザ｜夕方のみ\nK2 BURGER｜チキンバーガー\n仙水閣｜ドリンク\n\n10月29日出店 \n\nTea Room｜紅茶、軽食\nMALINS｜フィッシュ＆チップス\nSiddique｜カレー\nK2 BURGER｜チキンバーガー\n\n10月29日は他にも、開催地佐野市の地元のお祭り「第47回たぬまふるさと祭り」が同時開催！「お祭りグルメ」も楽しめます！ \n遊ぶ\nスポフェスZONE　子どもも大人もスポーツを楽しもう！\nミニミニ運動会（当日エントリー必要）\n3×3形式でスポーツ大会に出場しよう！ \n各種目30分前からエントリー受付開始！ \nご家族、ご友人、職場の仲間…3人1チームでお気軽にご参加ください！ \n\n11:00~12:30　3×3 バスケットボール\n13:00~14:30　3×3 フットサル\n15:00~16:30　3×3 クリケット\n\nスポーツ体験会（エントリー不要）\nミニミニ運動会と同時刻に同じスポーツを気軽に体験していただけます！ \n交流会\nクリケット ＆ 食と音楽の夕べ\nクリケット大会終了後、試合会場が解放され、広い芝生の上で音楽やフードをお楽しみいただけます。 \n音楽パフォーマンス\n\n17:30~18:00 ｜Ann G & Dj Daiky｜西インド諸島の大衆音楽\n18:10~19:10 ｜小山太郎(ds) TRIO feat. 小野晃(g)｜Jazz\n19:10~19:20 ｜Ann G & Taro Koyama ｜コラボレーションフィナーレ\n\nチャリティー\n10月28日(土)18：00より、次の2つのチャリティーを支援する有料抽選会（ラッフル）を開催いたします \n\n地域型子ども食堂ちょこっと（佐野市吉水）\n\n佐野市国際クリケット場の近くの子ども食堂です。月1回、地域の子どもからお年寄りに低額で食事を提供しています。 \n\n認定特定非営利活動法人みらいの森（東京都港区）\n\nみらいの森は、児童養護施設で暮らす子どもたちのために、アウトドアプログラムを通じて生涯の糧となる体験を創り出し、幸せな実りある成長をサポートします。詳細はこちらをご参照ください。 \nその他\n\n出展｜佐野市地域おこし協力隊PRブース\n出展｜甘茶及び地元農家の産物販売\n出展｜Party Sano（近隣障がい者施設の紹介、野菜やグッズの販売）\n出展｜クリケットが盛んな国の物産展\n企画｜廃食用油回収\n同時開催｜第47回たぬまふるさと祭り\n\n試合スケジュール\n10月28日（土）\nグループ B \n\nSICG 1｜09:30｜オーストラリア・ニュージーランド合同チーム（アンザック） vs バングラデシュ大使館チーム\nSICG 2｜09:30｜英国大使館チーム vs ネパール大使館チーム\n\nグループ A \n\nSICG 1｜11:15｜日本チーム vs パキスタン大使館チーム\nSICG 2｜11:15｜インド大使館チーム vs スリランカ大使館チーム\n\nグループ B \n\nSICG 1｜13:00｜オーストラリア・ニュージーランド合同チーム（アンザック） vs 英国大使館チーム\nSICG 2｜13:00｜バングラデシュ大使館チーム vs ネパール大使館チーム\n\nグループ A \n\nSICG 1｜14:45｜日本チーム vs インド大使館チーム\nSICG 2｜14:45｜パキスタン大使館チーム vs スリランカ大使館チーム\n\n10月29日（日）\nグループ B \n\nSICG 1｜09:30｜オーストラリア・ニュージーランド合同チーム（アンザック） vs ネパール大使館チーム\nSICG 2｜09:30｜バングラデシュ大使館チーム vs 英国大使館チーム\n\nグループ A \n\nSICG 1｜11:15｜日本チーム vs スリランカ大使館チーム\nSICG 2｜11:15｜インド大使館チーム vs パキスタン大使館チーム\n\nグループ B \n\nSICG 1｜13:00｜グループ B 決勝戦\nSICG 2｜13:00｜グループ B 3位決定戦\n\nグループ A \n\nSICG 1｜14:45｜グループ A 決勝戦\nSICG 2｜14:45｜グループ A 3位決定戦\n\n公式SNS\n\nX：https://twitter.com/CricketJapan\nFacebook：https://www.facebook.com/cricketjapan\nInstagram：https://www.instagram.com/japan_cricket
URL:https://cricket.or.jp/event/2023embassycup/2023-10-29/
LOCATION:佐野市国際クリケット場 (田沼高等学校跡)\, 栃本町300-1\, 佐野市\, 栃木県\, 327-0312\, Japan
CATEGORIES:- 参加／体験 -,- 観戦 -
ATTACH;FMTTYPE=image/png:https://cricket.or.jp/wp-content/uploads/2023/09/2023-09-19-Embassy-Cup-2023-web.png
GEO:36.3614163;139.5942198
X-APPLE-STRUCTURED-LOCATION;VALUE=URI;X-ADDRESS=佐野市国際クリケット場 (田沼高等学校跡) 栃本町300-1 佐野市 栃木県 327-0312 Japan;X-APPLE-RADIUS=500;X-TITLE=栃本町300-1:geo:139.5942198,36.3614163
END:VEVENT
END:VCALENDAR