BEGIN:VCALENDAR
VERSION:2.0
PRODID:-//Japan Cricket Association - ECPv6.15.12.2//NONSGML v1.0//EN
CALSCALE:GREGORIAN
METHOD:PUBLISH
X-WR-CALNAME:Japan Cricket Association
X-ORIGINAL-URL:https://cricket.or.jp/en
X-WR-CALDESC:Events for Japan Cricket Association
REFRESH-INTERVAL;VALUE=DURATION:PT1H
X-Robots-Tag:noindex
X-PUBLISHED-TTL:PT1H
BEGIN:VTIMEZONE
TZID:Asia/Tokyo
BEGIN:STANDARD
TZOFFSETFROM:+0900
TZOFFSETTO:+0900
TZNAME:JST
DTSTART:20220101T000000
END:STANDARD
END:VTIMEZONE
BEGIN:VEVENT
DTSTART;TZID=Asia/Tokyo:20230806T140000
DTEND;TZID=Asia/Tokyo:20230806T161500
DTSTAMP:20260424T161005
CREATED:20230711T042900Z
LAST-MODIFIED:20230711T043346Z
UID:10004020-1691330400-1691338500@cricket.or.jp
SUMMARY:[:en]2023 Kawasaki Cricket Blast Series in August[:ja]クリケットブラスト・シリーズ川崎 2023[:]
DESCRIPTION:Kawasaki Cricket Blast Series to be held in August \nCricket Blast in Kawasaki\, a program designed to bring the cricket to U12 kids\, will take place three times every Sunday starting August 6 at the BST Nagasawa Sports Ground and is open to elementary school students from beginners to those who enjoy playing cricket on a daily basis. \nCome and meet new friends through cricket with local cricket clubs and university student cricketers. \n<Cricket Blast Series Kawasaki> \nCricket is for everyone for those who would like to bat and bowl and field and wicket keep\, but also for those who would like to try a new sports or make new friends. \nPlease check the details below and click on the registration link to register. \nThis program is designed for elementary school students who are new to cricket. Activities using a large ball that is easy to hit are perfect for children who are beginning to play ball games! The program will progress step by step to mini-games and matches. \n\nAfter a warm-up session that includes a variety of physical activities such as batting (hitting)\, bowling (throwing)\, catching (catching)\, and running (running)\, children can enjoy a game of cricket to the fullest. \n\nDate : 6th\, 13th and 20th August \nTime : 14:00 – 16:15 \nLocation: BST Nagasawa Sports Ground \n5-9052 Mita\, Tama-ku\, Kawasaki\, Kanagawa 214-0034\, Japan \nParking is available at the venue. \nTo register via the web\, please click here \n→ https://forms.gle/eLsn5bEfjJPhFU5q7 \n 
URL:https://cricket.or.jp/en/event/kawasakicbs2023/2023-08-06/
LOCATION:BST長沢スポーツグラウンド\, 川崎市多摩区三田5丁目9052
CATEGORIES:- Participate -
END:VEVENT
BEGIN:VEVENT
DTSTART;TZID=Asia/Tokyo:20230813T140000
DTEND;TZID=Asia/Tokyo:20230813T161500
DTSTAMP:20260424T161005
CREATED:20230711T042900Z
LAST-MODIFIED:20230711T043346Z
UID:10004021-1691935200-1691943300@cricket.or.jp
SUMMARY:[:en]2023 Kawasaki Cricket Blast Series in August[:ja]クリケットブラスト・シリーズ川崎 2023[:]
DESCRIPTION:Kawasaki Cricket Blast Series to be held in August \nCricket Blast in Kawasaki\, a program designed to bring the cricket to U12 kids\, will take place three times every Sunday starting August 6 at the BST Nagasawa Sports Ground and is open to elementary school students from beginners to those who enjoy playing cricket on a daily basis. \nCome and meet new friends through cricket with local cricket clubs and university student cricketers. \n<Cricket Blast Series Kawasaki> \nCricket is for everyone for those who would like to bat and bowl and field and wicket keep\, but also for those who would like to try a new sports or make new friends. \nPlease check the details below and click on the registration link to register. \nThis program is designed for elementary school students who are new to cricket. Activities using a large ball that is easy to hit are perfect for children who are beginning to play ball games! The program will progress step by step to mini-games and matches. \n\nAfter a warm-up session that includes a variety of physical activities such as batting (hitting)\, bowling (throwing)\, catching (catching)\, and running (running)\, children can enjoy a game of cricket to the fullest. \n\nDate : 6th\, 13th and 20th August \nTime : 14:00 – 16:15 \nLocation: BST Nagasawa Sports Ground \n5-9052 Mita\, Tama-ku\, Kawasaki\, Kanagawa 214-0034\, Japan \nParking is available at the venue. \nTo register via the web\, please click here \n→ https://forms.gle/eLsn5bEfjJPhFU5q7 \n 
URL:https://cricket.or.jp/en/event/kawasakicbs2023/2023-08-13/
LOCATION:BST長沢スポーツグラウンド\, 川崎市多摩区三田5丁目9052
CATEGORIES:- Participate -
END:VEVENT
BEGIN:VEVENT
DTSTART;TZID=Asia/Tokyo:20230820T140000
DTEND;TZID=Asia/Tokyo:20230820T161500
DTSTAMP:20260424T161005
CREATED:20230711T042900Z
LAST-MODIFIED:20230711T043346Z
UID:10004022-1692540000-1692548100@cricket.or.jp
SUMMARY:[:en]2023 Kawasaki Cricket Blast Series in August[:ja]クリケットブラスト・シリーズ川崎 2023[:]
DESCRIPTION:Kawasaki Cricket Blast Series to be held in August \nCricket Blast in Kawasaki\, a program designed to bring the cricket to U12 kids\, will take place three times every Sunday starting August 6 at the BST Nagasawa Sports Ground and is open to elementary school students from beginners to those who enjoy playing cricket on a daily basis. \nCome and meet new friends through cricket with local cricket clubs and university student cricketers. \n<Cricket Blast Series Kawasaki> \nCricket is for everyone for those who would like to bat and bowl and field and wicket keep\, but also for those who would like to try a new sports or make new friends. \nPlease check the details below and click on the registration link to register. \nThis program is designed for elementary school students who are new to cricket. Activities using a large ball that is easy to hit are perfect for children who are beginning to play ball games! The program will progress step by step to mini-games and matches. \n\nAfter a warm-up session that includes a variety of physical activities such as batting (hitting)\, bowling (throwing)\, catching (catching)\, and running (running)\, children can enjoy a game of cricket to the fullest. \n\nDate : 6th\, 13th and 20th August \nTime : 14:00 – 16:15 \nLocation: BST Nagasawa Sports Ground \n5-9052 Mita\, Tama-ku\, Kawasaki\, Kanagawa 214-0034\, Japan \nParking is available at the venue. \nTo register via the web\, please click here \n→ https://forms.gle/eLsn5bEfjJPhFU5q7 \n 
URL:https://cricket.or.jp/en/event/kawasakicbs2023/2023-08-20/
LOCATION:BST長沢スポーツグラウンド\, 川崎市多摩区三田5丁目9052
CATEGORIES:- Participate -
END:VEVENT
END:VCALENDAR