BEGIN:VCALENDAR
VERSION:2.0
PRODID:-//Japan Cricket Association - ECPv6.15.12.2//NONSGML v1.0//EN
CALSCALE:GREGORIAN
METHOD:PUBLISH
X-WR-CALNAME:Japan Cricket Association
X-ORIGINAL-URL:https://cricket.or.jp
X-WR-CALDESC:Japan Cricket Association のイベント
REFRESH-INTERVAL;VALUE=DURATION:PT1H
X-Robots-Tag:noindex
X-PUBLISHED-TTL:PT1H
BEGIN:VTIMEZONE
TZID:Asia/Tokyo
BEGIN:STANDARD
TZOFFSETFROM:+0900
TZOFFSETTO:+0900
TZNAME:JST
DTSTART:20220101T000000
END:STANDARD
END:VTIMEZONE
BEGIN:VEVENT
DTSTART;TZID=Asia/Tokyo:20230702T123000
DTEND;TZID=Asia/Tokyo:20230702T160000
DTSTAMP:20260424T175743
CREATED:20230606T065436Z
LAST-MODIFIED:20230808T073510Z
UID:10004006-1688301000-1688313600@cricket.or.jp
SUMMARY:[:en]Akishima Cricket Festival (Let's Try Social Cricket )[:ja]昭島クリケット祭[:]
DESCRIPTION:2023年　7月2日㈰、9月18日㈪、11月18日㈯に昭和公園陸上競技場にて開催される昭島クリケット祭への参加をご案内いたします。この大会はどなたでも楽しめるイベントですので、ぜひご家族や友人と一緒にお申込みの上ご参加ください。\n\n\n＜概要＞　昭島クリケット祭\n日付　令和5年7月2日（日）\n　　　令和5年9月18日（月祝）\n\n　　　令和5年11月18日（土）\n　　※複数日でも！どの回からでも！ご参加可能です。\n\n時間　12時30分から16時00分\n　　（12時00分から入場可能）\n会場　昭和公園陸上競技場\n（東京都昭島市東町5丁目）\n　　　https://goo.gl/maps/zbnqRr1N4EHeNcLU9\n連絡　infoakishima@cricket.or.jp / 080-9645-8182\n\n申込　https://forms.gle/S1z9FkgR7gAsXt218 \n  \n＜申込＆チーム＞\nご参加には事前申し込みが必要となります、上記のリンクより大会開催10日前までにご登録ください。 \n\n\nまた6名未満チームでご参加希望される方は infoakishima@cricket.or.jp 昭島クリケット祭委員会までお知らせください。 \n  \n＜大会ルール＞ \n\n下記リンクより大会ルールをご確認ください。\nhttps://drive.google.com/file/d/16W7tY0iVKcr6K6H7lWHED1PDEebdNNUT/view?usp=sharing\n\n※女性得点2倍ルールが追加などルール改正があります。 \n  \nお持物について \n\n運動できる服装及び靴をご用意ください。\n※クリケット用具は大会側で用意します。\n\n（可能であれば、チームで同じような色の服やアイテムを用意ください。） \n  \n飲食について \n\n当日はキッチンカーが入る予定となっております。\nまたクリケットらしくティ（紅茶）があります、クリケットピクニックをお楽しみください。\n\n\n\nご注意\n駐車場を含む陸上競技場及び昭和公園園内一体は全面禁煙となっております。\nご喫煙される方は総合スポーツセンター横の喫煙所をご利用ください。
URL:https://cricket.or.jp/event/2023akishimacricketfestival/2023-07-02/
LOCATION:昭和公園陸上競技場\, 東町5-11-43\, 昭島市\, 東京都\, 196-0033\, Japan
CATEGORIES:- 参加／体験 -
GEO:35.702251;139.387369
X-APPLE-STRUCTURED-LOCATION;VALUE=URI;X-ADDRESS=昭和公園陸上競技場 東町5-11-43 昭島市 東京都 196-0033 Japan;X-APPLE-RADIUS=500;X-TITLE=東町5-11-43:geo:139.387369,35.702251
END:VEVENT
BEGIN:VEVENT
DTSTART;TZID=Asia/Tokyo:20230712T173000
DTEND;TZID=Asia/Tokyo:20230712T183000
DTSTAMP:20260424T175743
CREATED:20230705T072222Z
LAST-MODIFIED:20230705T072426Z
UID:10004018-1689183000-1689186600@cricket.or.jp
SUMMARY:[:ja]Weekday Cricket!!　[小学生向け体験イベント][:]
DESCRIPTION:神奈川県川崎市で小学生向け体験イベントを実施します。 \n世界中で爆発的な人気を誇る英国発祥のスポーツ「クリケット🏏」 \nその競技規模はサッカーに次ぐ世界2位と言われています。 \nあなたもクリケットを通じてKAWASAKIから世界へ！ \n＊本事業は英国ホストタウン交流事業のレガシー企画として実施します。 \n  \n第1回：2023年7月12日(水) 17:30~18:30 \n第2回：2023年7月19日(水)17:30~18:30 \n*1日参加でも両日参加でも可　参加費無料 \n会場：BST 長沢スポーツグラウンド（川崎市多摩区三田5丁目9052） \n申込：各回の3日前までにお申し込みください。 \nお申込みはこちら \nお問合せ：一般社団法人日本クリケット協会 \nTEL:050-3766-4483　E-mail：y-sato@cricket.or.jp
URL:https://cricket.or.jp/event/weekday-cricket%e5%b0%8f%e5%ad%a6%e7%94%9f%e5%90%91%e3%81%91%e4%bd%93%e9%a8%93%e3%82%a4%e3%83%99%e3%83%b3%e3%83%88/2023-07-12/
LOCATION:BST長沢スポーツグラウンド\, 川崎市多摩区三田5丁目9052
CATEGORIES:- 参加／体験 -
END:VEVENT
BEGIN:VEVENT
DTSTART;TZID=Asia/Tokyo:20230719T173000
DTEND;TZID=Asia/Tokyo:20230719T183000
DTSTAMP:20260424T175743
CREATED:20230705T072222Z
LAST-MODIFIED:20230705T072426Z
UID:10004019-1689787800-1689791400@cricket.or.jp
SUMMARY:[:ja]Weekday Cricket!!　[小学生向け体験イベント][:]
DESCRIPTION:神奈川県川崎市で小学生向け体験イベントを実施します。 \n世界中で爆発的な人気を誇る英国発祥のスポーツ「クリケット🏏」 \nその競技規模はサッカーに次ぐ世界2位と言われています。 \nあなたもクリケットを通じてKAWASAKIから世界へ！ \n＊本事業は英国ホストタウン交流事業のレガシー企画として実施します。 \n  \n第1回：2023年7月12日(水) 17:30~18:30 \n第2回：2023年7月19日(水)17:30~18:30 \n*1日参加でも両日参加でも可　参加費無料 \n会場：BST 長沢スポーツグラウンド（川崎市多摩区三田5丁目9052） \n申込：各回の3日前までにお申し込みください。 \nお申込みはこちら \nお問合せ：一般社団法人日本クリケット協会 \nTEL:050-3766-4483　E-mail：y-sato@cricket.or.jp
URL:https://cricket.or.jp/event/weekday-cricket%e5%b0%8f%e5%ad%a6%e7%94%9f%e5%90%91%e3%81%91%e4%bd%93%e9%a8%93%e3%82%a4%e3%83%99%e3%83%b3%e3%83%88/2023-07-19/
LOCATION:BST長沢スポーツグラウンド\, 川崎市多摩区三田5丁目9052
CATEGORIES:- 参加／体験 -
END:VEVENT
END:VCALENDAR