BEGIN:VCALENDAR
VERSION:2.0
PRODID:-//Japan Cricket Association - ECPv6.15.12.2//NONSGML v1.0//EN
CALSCALE:GREGORIAN
METHOD:PUBLISH
X-ORIGINAL-URL:https://cricket.or.jp
X-WR-CALDESC:Japan Cricket Association のイベント
REFRESH-INTERVAL;VALUE=DURATION:PT1H
X-Robots-Tag:noindex
X-PUBLISHED-TTL:PT1H
BEGIN:VTIMEZONE
TZID:Asia/Tokyo
BEGIN:STANDARD
TZOFFSETFROM:+0900
TZOFFSETTO:+0900
TZNAME:JST
DTSTART:20220101T000000
END:STANDARD
END:VTIMEZONE
BEGIN:VEVENT
DTSTART;TZID=Asia/Tokyo:20230226T100000
DTEND;TZID=Asia/Tokyo:20230226T160000
DTSTAMP:20260425T020950
CREATED:20230213T004824Z
LAST-MODIFIED:20230213T010255Z
UID:10003294-1677405600-1677427200@cricket.or.jp
SUMMARY:[:en]Kansai Chargers Regional Trials[:ja]関西チャージャーズ地域選考会[:]
DESCRIPTION:開催日: 2月26日（日） \n会場: 貝塚市クリケットフィールド \n時間: 午前10時～午後4時 \n登録フォーム: https://forms.gle/RH2Jov8Joyiop9EK7
URL:https://cricket.or.jp/event/regional-trials-kansai/
LOCATION:Kaizuka Cricket Field\, 1517 Hashimoto\, Kaizuka-shi\, Osaka-fu\, 597-0043\, Japan
CATEGORIES:- 参加／体験 -
ATTACH;FMTTYPE=image/jpeg:https://cricket.or.jp/wp-content/uploads/2022/04/DSC_6659-scaled.jpg
END:VEVENT
END:VCALENDAR