BEGIN:VCALENDAR
VERSION:2.0
PRODID:-//Japan Cricket Association - ECPv6.15.12.2//NONSGML v1.0//EN
CALSCALE:GREGORIAN
METHOD:PUBLISH
X-WR-CALNAME:Japan Cricket Association
X-ORIGINAL-URL:https://cricket.or.jp
X-WR-CALDESC:Japan Cricket Association のイベント
REFRESH-INTERVAL;VALUE=DURATION:PT1H
X-Robots-Tag:noindex
X-PUBLISHED-TTL:PT1H
BEGIN:VTIMEZONE
TZID:Asia/Tokyo
BEGIN:STANDARD
TZOFFSETFROM:+0900
TZOFFSETTO:+0900
TZNAME:JST
DTSTART:20170101T000000
END:STANDARD
END:VTIMEZONE
BEGIN:VEVENT
DTSTART;TZID=Asia/Tokyo:20180915T093000
DTEND;TZID=Asia/Tokyo:20180915T133000
DTSTAMP:20260422T223204
CREATED:20180202T010208Z
LAST-MODIFIED:20180706T080902Z
UID:10003137-1537003800-1537018200@cricket.or.jp
SUMMARY:[:en]Yokohama Cricket Blast Cup[:ja]横浜クリケットブラスト・カップ[:]
DESCRIPTION:2018年YCAC クリケットブラスト・カップが開催されます。 \nクリケットブラスト・カップでは、年間を通して、3回のクリケットブラストが開催され（5月、9月、11月）、10チームを上限とした参加各チームが少なくとも4回ずつ試合を行います。クリケットブラストとは、12歳以下の子供たちを対象に、フレンドリーな雰囲気の中でプレーを楽しみ、クリケットというスポーツを身近に感じてもらうイベントです。 \nクリケットブラスト参加料: 選手1人につき1\,000円 \nクリケットブラスト参加チーム条件: 1チーム6名以上 \n試合時間：午前9時30分から午後1時30分 \nより詳しい情報については、アラン・カーまでお問い合わせください。 \n連絡先: アラン・カー　　a-curr@cricket.or.jp.
URL:https://cricket.or.jp/event/cricketblastyokohama/2018-09-15/
LOCATION:横浜カントリー＆アスレチッククラブ\, 中区矢口台11-1\, 横浜市\, 神奈川県\, 231-0831\, Japan
CATEGORIES:- 参加／体験 -
ATTACH;FMTTYPE=image/jpeg:https://cricket.or.jp/wp-content/uploads/2016/04/rsz_img_7011-1.jpg
GEO:35.42406;139.649331
X-APPLE-STRUCTURED-LOCATION;VALUE=URI;X-ADDRESS=横浜カントリー＆アスレチッククラブ 中区矢口台11-1 横浜市 神奈川県 231-0831 Japan;X-APPLE-RADIUS=500;X-TITLE=中区矢口台11-1:geo:139.649331,35.42406
END:VEVENT
END:VCALENDAR