BEGIN:VCALENDAR
VERSION:2.0
PRODID:-//Japan Cricket Association - ECPv6.15.12.2//NONSGML v1.0//EN
CALSCALE:GREGORIAN
METHOD:PUBLISH
X-WR-CALNAME:Japan Cricket Association
X-ORIGINAL-URL:https://cricket.or.jp/en
X-WR-CALDESC:Events for Japan Cricket Association
REFRESH-INTERVAL;VALUE=DURATION:PT1H
X-Robots-Tag:noindex
X-PUBLISHED-TTL:PT1H
BEGIN:VTIMEZONE
TZID:Asia/Tokyo
BEGIN:STANDARD
TZOFFSETFROM:+0900
TZOFFSETTO:+0900
TZNAME:JST
DTSTART:20170101T000000
END:STANDARD
END:VTIMEZONE
BEGIN:VEVENT
DTSTART;TZID=Asia/Tokyo:20180701T090000
DTEND;TZID=Asia/Tokyo:20180701T120000
DTSTAMP:20260420T213342
CREATED:20180413T061459Z
LAST-MODIFIED:20180628T070056Z
UID:10003155-1530435600-1530446400@cricket.or.jp
SUMMARY:[:en]Cricket Blast Series Sano\, Tochigi[:ja]クリケットブラストシリーズ佐野[:]
DESCRIPTION:Cricket Blast is our entry level program for kids in elementary school to learn about cricket. More information can be found at www.japancricketblast.com. \nThe event runs in two parts: \nBeginner course : 9:00~10:00 \nThis is for anyone who is new to cricket\, here they can experience the sport in a fun\, safe and friendly environment and learn the basics. \nExpert course : 10:00~11:30 \nThis course is for those who are more familiar with cricket and are ready for match-play. The rules will be explained to everyone at the start and then away you go with hitting sixes and taking wickets! \nEntry fee : 1000 yen ( first session is free)
URL:https://cricket.or.jp/en/event/cricket-blast-series-sano-3/
CATEGORIES:- Participate -
END:VEVENT
BEGIN:VEVENT
DTSTART;TZID=Asia/Tokyo:20180701T090000
DTEND;TZID=Asia/Tokyo:20180701T123000
DTSTAMP:20260420T213342
CREATED:20180515T014412Z
LAST-MODIFIED:20180628T065715Z
UID:10003158-1530435600-1530448200@cricket.or.jp
SUMMARY:[:en]Cricket Blast Akishima\, Tokyo[:ja]クリケットブラストシリーズ昭島[:]
DESCRIPTION:We have Beginner course for those are new to the game and Game course for those have some experience! All participants would get first time free + Bowling \, Batting\, Catching and lots of other activity! The course runs for 4 weeks\, no need any experience of cricket\, boys and girls of age 6-11 are welcome! Everyone would have lots of fun. \n＜ Dates ＞\n17th\, 24th June\n1st\, 8th July\n\n\n＜Time＞ each day\nBeginners（ 09:00～10:00 ）\nGame course（10:00～11:30）\n\n＜Venue＞each day \nHaijima Daini Elementary school　（Haijimacho 3927-2） \nRegister here \nhttp://www.japancricketblast.com/blog/register-en/
URL:https://cricket.or.jp/en/event/cb-series/2018-07-01/
CATEGORIES:- Participate -
ATTACH;FMTTYPE=image/jpeg:https://cricket.or.jp/wp-content/uploads/2017/09/IMG_201706191226308-scaled.jpg
END:VEVENT
BEGIN:VEVENT
DTSTART;TZID=Asia/Tokyo:20180708T090000
DTEND;TZID=Asia/Tokyo:20180708T120000
DTSTAMP:20260420T213342
CREATED:20180413T061551Z
LAST-MODIFIED:20180628T070129Z
UID:10003329-1531040400-1531051200@cricket.or.jp
SUMMARY:[:en]Cricket Blast Series Sano\, Tochigi[:ja]クリケットブラストシリーズ佐野[:]
DESCRIPTION:Cricket Blast is our entry level program for kids in elementary school to learn about cricket. More information can be found at www.japancricketblast.com. \nThe event runs in two parts: \nBeginner course : 9:00~10:00 \nThis is for anyone who is new to cricket\, here they can experience the sport in a fun\, safe and friendly environment and learn the basics. \nExpert course : 10:00~11:30 \nThis course is for those who are more familiar with cricket and are ready for match-play. The rules will be explained to everyone at the start and then away you go with hitting sixes and taking wickets! \nEntry fee : 1000 yen ( first session is free)
URL:https://cricket.or.jp/en/event/cricket-blast-series-sano-4/
CATEGORIES:- Participate -
END:VEVENT
BEGIN:VEVENT
DTSTART;TZID=Asia/Tokyo:20180708T090000
DTEND;TZID=Asia/Tokyo:20180708T123000
DTSTAMP:20260420T213342
CREATED:20180515T014412Z
LAST-MODIFIED:20180628T065715Z
UID:10003159-1531040400-1531053000@cricket.or.jp
SUMMARY:[:en]Cricket Blast Akishima\, Tokyo[:ja]クリケットブラストシリーズ昭島[:]
DESCRIPTION:We have Beginner course for those are new to the game and Game course for those have some experience! All participants would get first time free + Bowling \, Batting\, Catching and lots of other activity! The course runs for 4 weeks\, no need any experience of cricket\, boys and girls of age 6-11 are welcome! Everyone would have lots of fun. \n＜ Dates ＞\n17th\, 24th June\n1st\, 8th July\n\n\n＜Time＞ each day\nBeginners（ 09:00～10:00 ）\nGame course（10:00～11:30）\n\n＜Venue＞each day \nHaijima Daini Elementary school　（Haijimacho 3927-2） \nRegister here \nhttp://www.japancricketblast.com/blog/register-en/
URL:https://cricket.or.jp/en/event/cb-series/2018-07-08/
CATEGORIES:- Participate -
ATTACH;FMTTYPE=image/jpeg:https://cricket.or.jp/wp-content/uploads/2017/09/IMG_201706191226308-scaled.jpg
END:VEVENT
BEGIN:VEVENT
DTSTART;TZID=Asia/Tokyo:20180708T130000
DTEND;TZID=Asia/Tokyo:20180708T170000
DTSTAMP:20260420T213342
CREATED:20180413T061924Z
LAST-MODIFIED:20180522T083218Z
UID:10003330-1531054800-1531069200@cricket.or.jp
SUMMARY:[:en]Sano Mayors cup in Spring[:ja]2018年佐野市長杯・春　クリケットブラスト小学校大会[:]
DESCRIPTION:A day long event which all elementary schools in Sano are invited to participate in\, this competition has been supported by the Sano City Mayor for many years and is the most prestigious junior cricket event of the year.
URL:https://cricket.or.jp/en/event/2018-sano-mayers-cup-spring/
CATEGORIES:- Participate -
END:VEVENT
END:VCALENDAR