BEGIN:VCALENDAR
VERSION:2.0
PRODID:-//Japan Cricket Association - ECPv6.15.12.2//NONSGML v1.0//EN
CALSCALE:GREGORIAN
METHOD:PUBLISH
X-WR-CALNAME:Japan Cricket Association
X-ORIGINAL-URL:https://cricket.or.jp
X-WR-CALDESC:Japan Cricket Association のイベント
REFRESH-INTERVAL;VALUE=DURATION:PT1H
X-Robots-Tag:noindex
X-PUBLISHED-TTL:PT1H
BEGIN:VTIMEZONE
TZID:Asia/Tokyo
BEGIN:STANDARD
TZOFFSETFROM:+0900
TZOFFSETTO:+0900
TZNAME:JST
DTSTART:20160101T000000
END:STANDARD
END:VTIMEZONE
BEGIN:VEVENT
DTSTART;TZID=Asia/Tokyo:20170921T080000
DTEND;TZID=Asia/Tokyo:20170924T170000
DTSTAMP:20260423T090543
CREATED:20170322T070308Z
LAST-MODIFIED:20200518T064410Z
UID:10003131-1505980800-1506272400@cricket.or.jp
SUMMARY:[:en]2017 East Asia Cup (Women)[:ja]2017東アジアカップ[:]
DESCRIPTION:2017年女子東アジアカップ\n\n2017年9月に香港で開催された第2回女子東アジアカップに日本代表チームが出場した。女子日本代表としての海外遠征が初となる3名の選手を含むチームを率いたのはナタリー・シロフコーチと柳田舞キャプテン。\n日本は中国と韓国に勝利し、東アジアカップ優勝決勝戦に初めて駒を進めたが、強豪香港に惜しくも破れた。柳田舞選手が大会最優秀選手に、小林悦子選手が最優秀ボウラーに選出された。 \n香港遠征参加フルメンバーはこちらよりご覧いただけます。 \n全試合結果は ESPN Cricinfoをご確認ください。\n\n大会日程\n\n\n\n日付\n時間\n対戦\n会場\n\n\n9月21日（木）\n10:30 – 13:30\n第1試合：日本 vs 韓国\n香港CC\n\n\n\n13:30 – 14:00\n昼食\n\n\n\n\n14:00 – 17:00\n第2試合：中国 vs 香港\n香港CC\n\n\n9月22日（金）\n10:30 – 13:30\n第3試合：中国 vs 日本\n九龍CC\n\n\n\n13:30 – 14:00\n昼食\n\n\n\n\n14:00 – 17:00\n第4試合：韓国 vs 香港\n九龍CC\n\n\n9月23日（土）\n10:30 – 13:30\n第5試合：香港 vs 日本\nミッションロード\n\n\n\n13:30 – 14:00\n昼食\n\n\n\n\n14:00 – 17:00\n第6試合：中国 vs 韓国\nミッションロード\n\n\n9月24日（日）\n13:30 – 15:30\n第7試合：3位決定戦 中国 vs 韓国\n九龍CC\n\n\n\n15:30 – 16:00\n昼食\n\n\n\n\n16:00 – 19:00\n第8試合：決勝戦 香港 vs 日本\n九龍CC
URL:https://cricket.or.jp/event/eacup/
LOCATION:Hong Kong\, Hong Kong
CATEGORIES:国際試合(女子)
ATTACH;FMTTYPE=image/jpeg:https://cricket.or.jp/wp-content/uploads/2017/09/CHK-7-Post-match-team-scaled.jpg
GEO:22.396428;114.109497
END:VEVENT
END:VCALENDAR