BEGIN:VCALENDAR
VERSION:2.0
PRODID:-//Japan Cricket Association - ECPv6.15.12.2//NONSGML v1.0//EN
CALSCALE:GREGORIAN
METHOD:PUBLISH
X-ORIGINAL-URL:https://cricket.or.jp
X-WR-CALDESC:Japan Cricket Association のイベント
REFRESH-INTERVAL;VALUE=DURATION:PT1H
X-Robots-Tag:noindex
X-PUBLISHED-TTL:PT1H
BEGIN:VTIMEZONE
TZID:Asia/Tokyo
BEGIN:STANDARD
TZOFFSETFROM:+0900
TZOFFSETTO:+0900
TZNAME:JST
DTSTART:20160101T000000
END:STANDARD
END:VTIMEZONE
BEGIN:VEVENT
DTSTART;TZID=Asia/Tokyo:20170428T090000
DTEND;TZID=Asia/Tokyo:20170505T170000
DTSTAMP:20260423T193222
CREATED:20170313T013618Z
LAST-MODIFIED:20200518T064533Z
UID:10003119-1493370000-1494003600@cricket.or.jp
SUMMARY:[:en]2017 Women's World T20 Qualifier\, East Asia Pacific[:ja]2017女子ワールドT20東アジア太平洋予選[:]
DESCRIPTION:女子ワールドT20 EAP予選大会\n\n2017年女子ワールドT20予選大会が、4月、5月に佐野市で開催された。参加国は主催国である日本に加え、パプアニューギニア、サモア、バヌアツ。\n女子日本代表チームを率いるのは、日本をしばらく離れていたが本体会のために再来日したカトリーナ・キーナンコーチと初めてキャプテンを務める大田くる美選手。 \n経験の浅い日本チームは終始苦戦したが、大会最終試合ではバヌアツに勝利し盛り上がりを見せた。日本の最終結果は4位となった。 \n本体会出場フルメンバーはこちらよりご覧いただけます。 \n全試合結果は ESPN Cricinfoをご確認ください。。\n\n日程\n\n\n\n日付\n時間\n対戦カード\n会場\n\n\n4月28日金曜日\n09：30 – 12:30\n日本 対 サモア\n佐野市国際クリケット場\n\n\n\n13：30 – 16:30\nPNG 対 バヌアツ\n佐野市国際クリケット場\n\n\n4月29日土曜日\n09：30 – 12:30\nサモア 対 PNG\n佐野市国際クリケット場\n\n\n\n13：30 – 16:30\nバヌアツ 対 日本\n佐野市国際クリケット場\n\n\n4月30日日曜日\n09：30 – 12:30\nサモア 対 バヌアツ\n佐野市国際クリケット場\n\n\n\n13：30 – 16:30\n日本 対 PNG\n佐野市国際クリケット場\n\n\n5月2日火曜日\n09：30 – 12:30\nサモア 対 日本\n佐野市国際クリケット場\n\n\n\n13：30 – 16:30\n バヌアツ 対 PNG\n佐野市国際クリケット場\n\n\n 5月3日水曜日\n09：30 – 12:30\nPNG 対 日本\n佐野市国際クリケット場\n\n\n\n13：30 – 16:30\nバヌアツ 対 サモア\n佐野市国際クリケット場\n\n\n5月4日木曜日\n09：30 – 12:30\nPNG 対 サモア\n佐野市国際クリケット場\n\n\n\n13：30 – 16:30\n日本 対 バヌアツ\n佐野市国際クリケット場\n\n\n\n\n\n* 5月1日月曜日と5月5日金曜日は悪天候の場合の予備日です。 \n  \nhttps://www.icc-cricket.com/womens-world-t20-q/womens-east-asia-pacific/results
URL:https://cricket.or.jp/event/wwt20eapq/
LOCATION:佐野市国際クリケット場 (田沼高等学校跡)\, 栃本町300-1\, 佐野市\, 栃木県\, 327-0312\, Japan
CATEGORIES:国際試合(女子)
ATTACH;FMTTYPE=image/jpeg:https://cricket.or.jp/wp-content/uploads/2017/05/Japan-Samoa-1-scaled.jpg
GEO:36.3614163;139.5942198
X-APPLE-STRUCTURED-LOCATION;VALUE=URI;X-ADDRESS=佐野市国際クリケット場 (田沼高等学校跡) 栃本町300-1 佐野市 栃木県 327-0312 Japan;X-APPLE-RADIUS=500;X-TITLE=栃本町300-1:geo:139.5942198,36.3614163
END:VEVENT
END:VCALENDAR