BEGIN:VCALENDAR
VERSION:2.0
PRODID:-//Japan Cricket Association - ECPv6.15.12.2//NONSGML v1.0//EN
CALSCALE:GREGORIAN
METHOD:PUBLISH
X-WR-CALNAME:Japan Cricket Association
X-ORIGINAL-URL:https://cricket.or.jp/en
X-WR-CALDESC:Events for Japan Cricket Association
REFRESH-INTERVAL;VALUE=DURATION:PT1H
X-Robots-Tag:noindex
X-PUBLISHED-TTL:PT1H
BEGIN:VTIMEZONE
TZID:Asia/Tokyo
BEGIN:STANDARD
TZOFFSETFROM:+0900
TZOFFSETTO:+0900
TZNAME:JST
DTSTART:20180101T000000
END:STANDARD
END:VTIMEZONE
BEGIN:VEVENT
DTSTART;VALUE=DATE:20190506
DTEND;VALUE=DATE:20190511
DTSTAMP:20260423T074347
CREATED:20190423T065050Z
LAST-MODIFIED:20200518T064251Z
UID:10003754-1557100800-1557532799@cricket.or.jp
SUMMARY:[:en]ICC Women's Qualifier - EAP (2019)[:ja]2019 ICC女子東アジア太平洋予選大会[:]
DESCRIPTION:The 2019 ICC Women’s EAP Qualifier took place in Vanuatu during May of that year and the Japan Team was coached by Duncan Harrison of Cricket Victoria and captained by Mai Yanagida. \nThis was the first tournament where the matches were given official T20 International status by the ICC and so when Japan defeated Fiji in Round Three it was their first official victory under the new ICC rules. Japan finished fourth out of five in the tournament. \nThe tour included seven players travelling abroad with the team for the first time and Ruan Kanai became the youngest player to ever play for the Japan Women’s Team in the match against Fiji. The full list of players can be found by clicking here and all results are available on ESPN Cricinfo. \nSchedule: \n\n\n\nDate\nTime\nUnder 19 Cricket World Cup Qualifier – EAP\nVENUE (Vanuatu)\n\n\nMay 6th\,  Monday\n09:30 – 12:30\nJapan vs Indonesia\nVanuatu Cricket Ground\n\n\nMay 7th\,  Tuesday\n09:30 – 12:30\nSamoa vs Japan\nVanuatu Cricket Ground\n\n\nMay 9th\, Thursday\n09:30 – 12:30\nFiji vs Japan\nVanuatu Cricket Ground\n\n\n\n13:30 – 16:30\nPNG vs Japan\nVanuatu Cricket Ground\n\n\nMay 10th\, Friday\n09:30 – 12:30\nJapan vs Vanuatu\nVanuatu Cricket Ground\n\n\n\n  \nWednesday 8th and Saturday 11th are reserve days in the event of bad weather.
URL:https://cricket.or.jp/en/event/iccwomensqualifier-vanuatu/
LOCATION:Vanuatu\, Cricket Ground\, Port Vila\, Vanuatu
CATEGORIES:International Tournament (Women)
ATTACH;FMTTYPE=image/jpeg:https://cricket.or.jp/wp-content/uploads/2019/04/Tournament-Logo-1.jpg
END:VEVENT
BEGIN:VEVENT
DTSTART;TZID=Asia/Tokyo:20190919T100000
DTEND;TZID=Asia/Tokyo:20190922T170000
DTSTAMP:20260423T074347
CREATED:20190213T010115Z
LAST-MODIFIED:20200518T064120Z
UID:10003175-1568887200-1569171600@cricket.or.jp
SUMMARY:[:en]East Asia Cup 2019 (Women)[:ja]2019年東アジアカップ(女子)[:]
DESCRIPTION:In September 2019 the third edition of the Women’s East Asia Cup took place in South Korea between China\, Hong Kong and Japan\, as well as the hosts. \nThe squad of 14 was coached by Dean Russ of Cricket Victoria and captained by Mai Yanagida. Although Japan finished third\, the team did record their first ever win over Hong Kong and finished the tournament with a record of two wins and two losses. \nThe full travelling squad can be found by clicking here\, and all results can be seen on ESPN Cricinfo. \n  \n\nSchedule\n\n\n\nDate\nTime\nEast Asia Cup\nVenue\n\n\nSep. 19 Thurs\n09:30 – 12:30\nMatch 1: Japan vs Korea\nYeonhui Cricket Ground\n\n\n\n12:30 – 13:30\nLunch\n\n\n\n\n14:00 – 17:00\nMatch 2: China vs Hong Kong\nYeonhui Cricket Ground\n\n\nSep. 20 Fri\n09:30 – 12:30\nMatch 3: Hong Kong vs Japan\nYeonhui Cricket Ground\n\n\n\n12:30 – 13:30\nLunch\n\n\n\n\n14:00 – 17:00\nMatch 4: Korea vs China\nYeonhui Cricket Ground\n\n\nSep. 21 Sat\n09:30 – 12:30\nMatch 5: Hong Kong vs Korea\nYeonhui Cricket Ground\n\n\n\n12:30 – 13:30\nLunch\n\n\n\n\n14:00 – 17:00\nMatch 6: China vs Japan\n Yeonhui Cricket Ground\n\n\nSep. 22 Sun\n09:30 – 12:30\nMatch 7: Final\nYeonhui Cricket Ground\n\n\n\n12:30 – 13:30\nLunch\n\n\n\n\n14:00 – 17:00\nMatch 8: 3rd Place Playoff\nYeonhui Cricket Ground\n\n\n\n\nHost\nKorea Cricket Association
URL:https://cricket.or.jp/en/event/2019eastasiacup/
LOCATION:Incheon\, 138 Simgok-dong\, Seo-gu\,\, Incheon\, Korea\, Republic of
CATEGORIES:- Watch -,International Tournament (Women)
ATTACH;FMTTYPE=image/jpeg:https://cricket.or.jp/wp-content/uploads/2017/09/CHK-7-Post-match-team-scaled.jpg
END:VEVENT
BEGIN:VEVENT
DTSTART;TZID=Asia/Tokyo:20221027T110000
DTEND;TZID=Asia/Tokyo:20221027T140000
DTSTAMP:20260423T074347
CREATED:20221024T234635Z
LAST-MODIFIED:20221024T234711Z
UID:10003285-1666868400-1666879200@cricket.or.jp
SUMMARY:[:en]Women's East Asia Cup[:ja]女子東アジアカップ[:]
DESCRIPTION:Visiting Japan for the tournament is the Hong Kong Women’s team\, who Japan will contest a four-match series against following the withdrawal from the tournament of China and South Korea. \nThere will be one match per day starting on Thursday 27th October and ending on Sunday 30th October. \nSchedule: \n\nThursday 27th October: Match 1: Japan vs Hong Kong\, 11am\nFriday 28th October: Match 2: Japan vs Hong Kong\, 11am\nSaturday 29th October: Match 3: Japan vs Hong Kong\, 11am\nSunday 30th October: Match 4: Japan vs Hong Kong\, 11am
URL:https://cricket.or.jp/en/event/%e5%a5%b3%e5%ad%90%e6%9d%b1%e3%82%a2%e3%82%b8%e3%82%a2%e3%82%ab%e3%83%83%e3%83%97/2022-10-27/
LOCATION:Kaizuka Cricket Field\, 1517 Hashimoto\, Kaizuka-shi\, Osaka-fu\, 597-0043\, Japan
CATEGORIES:- Watch -,International Tournament (Women)
ATTACH;FMTTYPE=image/jpeg:https://cricket.or.jp/wp-content/uploads/2022/10/East-Asia-Cup-Logo-2022.jpg
END:VEVENT
BEGIN:VEVENT
DTSTART;TZID=Asia/Tokyo:20221028T110000
DTEND;TZID=Asia/Tokyo:20221028T140000
DTSTAMP:20260423T074347
CREATED:20221024T234635Z
LAST-MODIFIED:20221024T234711Z
UID:10003286-1666954800-1666965600@cricket.or.jp
SUMMARY:[:en]Women's East Asia Cup[:ja]女子東アジアカップ[:]
DESCRIPTION:Visiting Japan for the tournament is the Hong Kong Women’s team\, who Japan will contest a four-match series against following the withdrawal from the tournament of China and South Korea. \nThere will be one match per day starting on Thursday 27th October and ending on Sunday 30th October. \nSchedule: \n\nThursday 27th October: Match 1: Japan vs Hong Kong\, 11am\nFriday 28th October: Match 2: Japan vs Hong Kong\, 11am\nSaturday 29th October: Match 3: Japan vs Hong Kong\, 11am\nSunday 30th October: Match 4: Japan vs Hong Kong\, 11am
URL:https://cricket.or.jp/en/event/%e5%a5%b3%e5%ad%90%e6%9d%b1%e3%82%a2%e3%82%b8%e3%82%a2%e3%82%ab%e3%83%83%e3%83%97/2022-10-28/
LOCATION:Kaizuka Cricket Field\, 1517 Hashimoto\, Kaizuka-shi\, Osaka-fu\, 597-0043\, Japan
CATEGORIES:- Watch -,International Tournament (Women)
ATTACH;FMTTYPE=image/jpeg:https://cricket.or.jp/wp-content/uploads/2022/10/East-Asia-Cup-Logo-2022.jpg
END:VEVENT
BEGIN:VEVENT
DTSTART;TZID=Asia/Tokyo:20221029T110000
DTEND;TZID=Asia/Tokyo:20221029T140000
DTSTAMP:20260423T074347
CREATED:20221024T234635Z
LAST-MODIFIED:20221024T234711Z
UID:10003287-1667041200-1667052000@cricket.or.jp
SUMMARY:[:en]Women's East Asia Cup[:ja]女子東アジアカップ[:]
DESCRIPTION:Visiting Japan for the tournament is the Hong Kong Women’s team\, who Japan will contest a four-match series against following the withdrawal from the tournament of China and South Korea. \nThere will be one match per day starting on Thursday 27th October and ending on Sunday 30th October. \nSchedule: \n\nThursday 27th October: Match 1: Japan vs Hong Kong\, 11am\nFriday 28th October: Match 2: Japan vs Hong Kong\, 11am\nSaturday 29th October: Match 3: Japan vs Hong Kong\, 11am\nSunday 30th October: Match 4: Japan vs Hong Kong\, 11am
URL:https://cricket.or.jp/en/event/%e5%a5%b3%e5%ad%90%e6%9d%b1%e3%82%a2%e3%82%b8%e3%82%a2%e3%82%ab%e3%83%83%e3%83%97/2022-10-29/
LOCATION:Kaizuka Cricket Field\, 1517 Hashimoto\, Kaizuka-shi\, Osaka-fu\, 597-0043\, Japan
CATEGORIES:- Watch -,International Tournament (Women)
ATTACH;FMTTYPE=image/jpeg:https://cricket.or.jp/wp-content/uploads/2022/10/East-Asia-Cup-Logo-2022.jpg
END:VEVENT
BEGIN:VEVENT
DTSTART;TZID=Asia/Tokyo:20221030T110000
DTEND;TZID=Asia/Tokyo:20221030T140000
DTSTAMP:20260423T074347
CREATED:20221024T234635Z
LAST-MODIFIED:20221024T234711Z
UID:10003288-1667127600-1667138400@cricket.or.jp
SUMMARY:[:en]Women's East Asia Cup[:ja]女子東アジアカップ[:]
DESCRIPTION:Visiting Japan for the tournament is the Hong Kong Women’s team\, who Japan will contest a four-match series against following the withdrawal from the tournament of China and South Korea. \nThere will be one match per day starting on Thursday 27th October and ending on Sunday 30th October. \nSchedule: \n\nThursday 27th October: Match 1: Japan vs Hong Kong\, 11am\nFriday 28th October: Match 2: Japan vs Hong Kong\, 11am\nSaturday 29th October: Match 3: Japan vs Hong Kong\, 11am\nSunday 30th October: Match 4: Japan vs Hong Kong\, 11am
URL:https://cricket.or.jp/en/event/%e5%a5%b3%e5%ad%90%e6%9d%b1%e3%82%a2%e3%82%b8%e3%82%a2%e3%82%ab%e3%83%83%e3%83%97/2022-10-30/
LOCATION:Kaizuka Cricket Field\, 1517 Hashimoto\, Kaizuka-shi\, Osaka-fu\, 597-0043\, Japan
CATEGORIES:- Watch -,International Tournament (Women)
ATTACH;FMTTYPE=image/jpeg:https://cricket.or.jp/wp-content/uploads/2022/10/East-Asia-Cup-Logo-2022.jpg
END:VEVENT
BEGIN:VEVENT
DTSTART;TZID=Asia/Tokyo:20230321T100000
DTEND;TZID=Asia/Tokyo:20230321T160000
DTSTAMP:20260423T074347
CREATED:20230213T005342Z
LAST-MODIFIED:20240304T051822Z
UID:10003298-1679392800-1679414400@cricket.or.jp
SUMMARY:[:en]Japan Women’s National Trials[:ja]女子日本代表選考会[:]
DESCRIPTION:Date: Tuesday 21st March \nVenue: Sano International Cricket Ground \nTime: 10am – 4pm \nRegistration Form: https://forms.gle/GErTME9YhsNJkgmG6 \nDeadline for registration is March 22nd \n 
URL:https://cricket.or.jp/en/event/national-trials-women/
LOCATION:Sano International Cricket Ground (formerly Tanuma Cricket Ground)\, 300-1 Tochimoto-cho\, Sano-shi\, Tochigi-ken\, 327-0312\, Japan
CATEGORIES:- Participate -,International Tournament (Women)
ATTACH;FMTTYPE=image/jpeg:https://cricket.or.jp/wp-content/uploads/2022/10/0V2A7676.jpeg
GEO:36.3614163;139.5942198
X-APPLE-STRUCTURED-LOCATION;VALUE=URI;X-ADDRESS=Sano International Cricket Ground (formerly Tanuma Cricket Ground) 300-1 Tochimoto-cho Sano-shi Tochigi-ken 327-0312 Japan;X-APPLE-RADIUS=500;X-TITLE=300-1 Tochimoto-cho:geo:139.5942198,36.3614163
END:VEVENT
BEGIN:VEVENT
DTSTART;TZID=Asia/Tokyo:20241001T140000
DTEND;TZID=Asia/Tokyo:20241001T170000
DTSTAMP:20260423T074347
CREATED:20240927T022750Z
LAST-MODIFIED:20240927T023358Z
UID:10004085-1727791200-1727802000@cricket.or.jp
SUMMARY:[:en]Women's T20I Series : Japan vs Singapore[:ja]女子国際試合：日本 vs シンガポール[:]
DESCRIPTION:Match Schedule (Japan Standard Time)\n\nSingapore Series\n\n1st October (Tuesday) 14:00 – Match 1\n2nd October (Wednesday) 14:00 – Match 2\n4th October (Friday) 10:00 – Match 3\n5th October (Saturday) 10:00 – Match 4\n6th October (Sunday) 10:00 – Match 5\n\nAll matches can be watched live on https://www.youtube.com/@japan_cricket/ and entry to the SICG is free.\n \n\nWomen’s National Team Partner\n\nMitsui Knowledge Industry Co.\, Ltd.\n\n\nMitsui Knowledge Industry Co.\, Ltd. is a wholly owned subsidiary of Mitsui & Co.\, Ltd. (MKI) specialized in providing services and products related to ICT (information and communication technology). Partnering with various global ICT vendors and supporting more than 2\,500 companies\, MKI offers best-in-class solutions to customers. \nWebsite: https://www.mki.co.jp/english/ \nJCA Official Social Media\n\n\nFacebook: https://www.facebook.com/cricketjapan\nInstagram: https://www.instagram.com/japan_cricket\nX: https://twitter.com/CricketJapan
URL:https://cricket.or.jp/en/event/%e5%a5%b3%e5%ad%90%e5%9b%bd%e9%9a%9b%e8%a9%a6%e5%90%88%ef%bc%9a%e6%97%a5%e6%9c%ac-vs-%e3%82%b7%e3%83%b3%e3%82%ac%e3%83%9d%e3%83%bc%e3%83%ab/2024-10-01/
LOCATION:Sano International Cricket Ground (formerly Tanuma Cricket Ground)\, 300-1 Tochimoto-cho\, Sano-shi\, Tochigi-ken\, 327-0312\, Japan
CATEGORIES:- Watch -,International Tournament (Women)
GEO:36.3614163;139.5942198
X-APPLE-STRUCTURED-LOCATION;VALUE=URI;X-ADDRESS=Sano International Cricket Ground (formerly Tanuma Cricket Ground) 300-1 Tochimoto-cho Sano-shi Tochigi-ken 327-0312 Japan;X-APPLE-RADIUS=500;X-TITLE=300-1 Tochimoto-cho:geo:139.5942198,36.3614163
END:VEVENT
BEGIN:VEVENT
DTSTART;TZID=Asia/Tokyo:20241002T140000
DTEND;TZID=Asia/Tokyo:20241002T170000
DTSTAMP:20260423T074347
CREATED:20240927T022750Z
LAST-MODIFIED:20240927T023358Z
UID:10004086-1727877600-1727888400@cricket.or.jp
SUMMARY:[:en]Women's T20I Series : Japan vs Singapore[:ja]女子国際試合：日本 vs シンガポール[:]
DESCRIPTION:Match Schedule (Japan Standard Time)\n\nSingapore Series\n\n1st October (Tuesday) 14:00 – Match 1\n2nd October (Wednesday) 14:00 – Match 2\n4th October (Friday) 10:00 – Match 3\n5th October (Saturday) 10:00 – Match 4\n6th October (Sunday) 10:00 – Match 5\n\nAll matches can be watched live on https://www.youtube.com/@japan_cricket/ and entry to the SICG is free.\n \n\nWomen’s National Team Partner\n\nMitsui Knowledge Industry Co.\, Ltd.\n\n\nMitsui Knowledge Industry Co.\, Ltd. is a wholly owned subsidiary of Mitsui & Co.\, Ltd. (MKI) specialized in providing services and products related to ICT (information and communication technology). Partnering with various global ICT vendors and supporting more than 2\,500 companies\, MKI offers best-in-class solutions to customers. \nWebsite: https://www.mki.co.jp/english/ \nJCA Official Social Media\n\n\nFacebook: https://www.facebook.com/cricketjapan\nInstagram: https://www.instagram.com/japan_cricket\nX: https://twitter.com/CricketJapan
URL:https://cricket.or.jp/en/event/%e5%a5%b3%e5%ad%90%e5%9b%bd%e9%9a%9b%e8%a9%a6%e5%90%88%ef%bc%9a%e6%97%a5%e6%9c%ac-vs-%e3%82%b7%e3%83%b3%e3%82%ac%e3%83%9d%e3%83%bc%e3%83%ab/2024-10-02/
LOCATION:Sano International Cricket Ground (formerly Tanuma Cricket Ground)\, 300-1 Tochimoto-cho\, Sano-shi\, Tochigi-ken\, 327-0312\, Japan
CATEGORIES:- Watch -,International Tournament (Women)
GEO:36.3614163;139.5942198
X-APPLE-STRUCTURED-LOCATION;VALUE=URI;X-ADDRESS=Sano International Cricket Ground (formerly Tanuma Cricket Ground) 300-1 Tochimoto-cho Sano-shi Tochigi-ken 327-0312 Japan;X-APPLE-RADIUS=500;X-TITLE=300-1 Tochimoto-cho:geo:139.5942198,36.3614163
END:VEVENT
BEGIN:VEVENT
DTSTART;TZID=Asia/Tokyo:20241004T100000
DTEND;TZID=Asia/Tokyo:20241004T130000
DTSTAMP:20260423T074347
CREATED:20240927T022750Z
LAST-MODIFIED:20240927T023358Z
UID:10004087-1728036000-1728046800@cricket.or.jp
SUMMARY:[:en]Women's T20I Series : Japan vs Singapore[:ja]女子国際試合：日本 vs シンガポール[:]
DESCRIPTION:Match Schedule (Japan Standard Time)\n\nSingapore Series\n\n1st October (Tuesday) 14:00 – Match 1\n2nd October (Wednesday) 14:00 – Match 2\n4th October (Friday) 10:00 – Match 3\n5th October (Saturday) 10:00 – Match 4\n6th October (Sunday) 10:00 – Match 5\n\nAll matches can be watched live on https://www.youtube.com/@japan_cricket/ and entry to the SICG is free.\n \n\nWomen’s National Team Partner\n\nMitsui Knowledge Industry Co.\, Ltd.\n\n\nMitsui Knowledge Industry Co.\, Ltd. is a wholly owned subsidiary of Mitsui & Co.\, Ltd. (MKI) specialized in providing services and products related to ICT (information and communication technology). Partnering with various global ICT vendors and supporting more than 2\,500 companies\, MKI offers best-in-class solutions to customers. \nWebsite: https://www.mki.co.jp/english/ \nJCA Official Social Media\n\n\nFacebook: https://www.facebook.com/cricketjapan\nInstagram: https://www.instagram.com/japan_cricket\nX: https://twitter.com/CricketJapan
URL:https://cricket.or.jp/en/event/%e5%a5%b3%e5%ad%90%e5%9b%bd%e9%9a%9b%e8%a9%a6%e5%90%88%ef%bc%9a%e6%97%a5%e6%9c%ac-vs-%e3%82%b7%e3%83%b3%e3%82%ac%e3%83%9d%e3%83%bc%e3%83%ab/2024-10-04/
LOCATION:Sano International Cricket Ground (formerly Tanuma Cricket Ground)\, 300-1 Tochimoto-cho\, Sano-shi\, Tochigi-ken\, 327-0312\, Japan
CATEGORIES:- Watch -,International Tournament (Women)
GEO:36.3614163;139.5942198
X-APPLE-STRUCTURED-LOCATION;VALUE=URI;X-ADDRESS=Sano International Cricket Ground (formerly Tanuma Cricket Ground) 300-1 Tochimoto-cho Sano-shi Tochigi-ken 327-0312 Japan;X-APPLE-RADIUS=500;X-TITLE=300-1 Tochimoto-cho:geo:139.5942198,36.3614163
END:VEVENT
BEGIN:VEVENT
DTSTART;TZID=Asia/Tokyo:20241005T100000
DTEND;TZID=Asia/Tokyo:20241005T130000
DTSTAMP:20260423T074347
CREATED:20240927T022750Z
LAST-MODIFIED:20240927T023358Z
UID:10004088-1728122400-1728133200@cricket.or.jp
SUMMARY:[:en]Women's T20I Series : Japan vs Singapore[:ja]女子国際試合：日本 vs シンガポール[:]
DESCRIPTION:Match Schedule (Japan Standard Time)\n\nSingapore Series\n\n1st October (Tuesday) 14:00 – Match 1\n2nd October (Wednesday) 14:00 – Match 2\n4th October (Friday) 10:00 – Match 3\n5th October (Saturday) 10:00 – Match 4\n6th October (Sunday) 10:00 – Match 5\n\nAll matches can be watched live on https://www.youtube.com/@japan_cricket/ and entry to the SICG is free.\n \n\nWomen’s National Team Partner\n\nMitsui Knowledge Industry Co.\, Ltd.\n\n\nMitsui Knowledge Industry Co.\, Ltd. is a wholly owned subsidiary of Mitsui & Co.\, Ltd. (MKI) specialized in providing services and products related to ICT (information and communication technology). Partnering with various global ICT vendors and supporting more than 2\,500 companies\, MKI offers best-in-class solutions to customers. \nWebsite: https://www.mki.co.jp/english/ \nJCA Official Social Media\n\n\nFacebook: https://www.facebook.com/cricketjapan\nInstagram: https://www.instagram.com/japan_cricket\nX: https://twitter.com/CricketJapan
URL:https://cricket.or.jp/en/event/%e5%a5%b3%e5%ad%90%e5%9b%bd%e9%9a%9b%e8%a9%a6%e5%90%88%ef%bc%9a%e6%97%a5%e6%9c%ac-vs-%e3%82%b7%e3%83%b3%e3%82%ac%e3%83%9d%e3%83%bc%e3%83%ab/2024-10-05/
LOCATION:Sano International Cricket Ground (formerly Tanuma Cricket Ground)\, 300-1 Tochimoto-cho\, Sano-shi\, Tochigi-ken\, 327-0312\, Japan
CATEGORIES:- Watch -,International Tournament (Women)
GEO:36.3614163;139.5942198
X-APPLE-STRUCTURED-LOCATION;VALUE=URI;X-ADDRESS=Sano International Cricket Ground (formerly Tanuma Cricket Ground) 300-1 Tochimoto-cho Sano-shi Tochigi-ken 327-0312 Japan;X-APPLE-RADIUS=500;X-TITLE=300-1 Tochimoto-cho:geo:139.5942198,36.3614163
END:VEVENT
BEGIN:VEVENT
DTSTART;TZID=Asia/Tokyo:20241006T100000
DTEND;TZID=Asia/Tokyo:20241006T130000
DTSTAMP:20260423T074347
CREATED:20240927T022750Z
LAST-MODIFIED:20240927T023358Z
UID:10004089-1728208800-1728219600@cricket.or.jp
SUMMARY:[:en]Women's T20I Series : Japan vs Singapore[:ja]女子国際試合：日本 vs シンガポール[:]
DESCRIPTION:Match Schedule (Japan Standard Time)\n\nSingapore Series\n\n1st October (Tuesday) 14:00 – Match 1\n2nd October (Wednesday) 14:00 – Match 2\n4th October (Friday) 10:00 – Match 3\n5th October (Saturday) 10:00 – Match 4\n6th October (Sunday) 10:00 – Match 5\n\nAll matches can be watched live on https://www.youtube.com/@japan_cricket/ and entry to the SICG is free.\n \n\nWomen’s National Team Partner\n\nMitsui Knowledge Industry Co.\, Ltd.\n\n\nMitsui Knowledge Industry Co.\, Ltd. is a wholly owned subsidiary of Mitsui & Co.\, Ltd. (MKI) specialized in providing services and products related to ICT (information and communication technology). Partnering with various global ICT vendors and supporting more than 2\,500 companies\, MKI offers best-in-class solutions to customers. \nWebsite: https://www.mki.co.jp/english/ \nJCA Official Social Media\n\n\nFacebook: https://www.facebook.com/cricketjapan\nInstagram: https://www.instagram.com/japan_cricket\nX: https://twitter.com/CricketJapan
URL:https://cricket.or.jp/en/event/%e5%a5%b3%e5%ad%90%e5%9b%bd%e9%9a%9b%e8%a9%a6%e5%90%88%ef%bc%9a%e6%97%a5%e6%9c%ac-vs-%e3%82%b7%e3%83%b3%e3%82%ac%e3%83%9d%e3%83%bc%e3%83%ab/2024-10-06/
LOCATION:Sano International Cricket Ground (formerly Tanuma Cricket Ground)\, 300-1 Tochimoto-cho\, Sano-shi\, Tochigi-ken\, 327-0312\, Japan
CATEGORIES:- Watch -,International Tournament (Women)
GEO:36.3614163;139.5942198
X-APPLE-STRUCTURED-LOCATION;VALUE=URI;X-ADDRESS=Sano International Cricket Ground (formerly Tanuma Cricket Ground) 300-1 Tochimoto-cho Sano-shi Tochigi-ken 327-0312 Japan;X-APPLE-RADIUS=500;X-TITLE=300-1 Tochimoto-cho:geo:139.5942198,36.3614163
END:VEVENT
BEGIN:VEVENT
DTSTART;TZID=Asia/Tokyo:20250603T080000
DTEND;TZID=Asia/Tokyo:20250608T170000
DTSTAMP:20260423T074347
CREATED:20250516T033141Z
LAST-MODIFIED:20250601T044956Z
UID:10004110-1748937600-1749402000@cricket.or.jp
SUMMARY:[:en]Women's Sano City International Trophy[:ja]女子佐野市国際トロフィー[:]
DESCRIPTION:Women’s Sano City International Trophy schedule is as follows: \n\n3rd June (Tuesday) 09:30 – Japan vs Mongolia\n3rd June (Tuesday) 14:30 – China vs Hong Kong\n4th June (Wednesday) 09:30 – Japan vs Hong Kong\n4th June (Wednesday) 14:30 – Philippines vs China\n5th June (Thursday) 09:30 – Philippines vs Hong Kong\n5th June (Thursday 14:30 – China vs Mongolia\n6th June (Friday) 09:30 – Japan vs China\n6th June (Friday) 14:30 – Mongolia vs Philippines\n7th June (Saturday) 09:30 – Japan vs Philippines\n7th June (Saturday) 14:30 – Hong Kong vs Mongolia\n8th June (Sunday) 09:30 – 3rd Place Playoff\n8th June (Sunday) 14:30 – Final\n\nVenue: Sano International Cricket Ground \nAddress: 300-1 Tochimoto-cho\, Sano City\, Tochigi 327-0312\, Japan\nAdmission: Free for all matches \nAll matches will be live streamed on the JCA YouTube Channel \nNational Team Partner\n\nMitsui Knowledge Industry Co.\, Ltd.\n\nMitsui Knowledge Industry Co.\, Ltd. is a wholly owned subsidiary of Mitsui & Co.\, Ltd. (MKI) specialized in providing services and products related to ICT (information and communication technology). Partnering with various global ICT vendors and supporting more than 2\,500 companies\, MKI offers best-in-class solutions to customers. \nWebsite: https://www.mki.co.jp/english/ \nJCA Official Social Media\n\nFacebook: https://www.facebook.com/cricketjapan\nInstagram: https://www.instagram.com/japan_cricket\nX: https://twitter.com/CricketJapan
URL:https://cricket.or.jp/en/event/womens-sano-international-trophy/
LOCATION:Sano International Cricket Ground (formerly Tanuma Cricket Ground)\, 300-1 Tochimoto-cho\, Sano-shi\, Tochigi-ken\, 327-0312\, Japan
CATEGORIES:- Watch -,International Tournament (Women)
ATTACH;FMTTYPE=image/jpeg:https://cricket.or.jp/wp-content/uploads/2025/05/0522日本クリケット協会_女子佐野市国際トロフィーA1ポスターA04_cropped_page-0001-1-scaled.jpg
GEO:36.3614163;139.5942198
X-APPLE-STRUCTURED-LOCATION;VALUE=URI;X-ADDRESS=Sano International Cricket Ground (formerly Tanuma Cricket Ground) 300-1 Tochimoto-cho Sano-shi Tochigi-ken 327-0312 Japan;X-APPLE-RADIUS=500;X-TITLE=300-1 Tochimoto-cho:geo:139.5942198,36.3614163
END:VEVENT
END:VCALENDAR