BEGIN:VCALENDAR
VERSION:2.0
PRODID:-//Japan Cricket Association - ECPv6.15.12.2//NONSGML v1.0//EN
CALSCALE:GREGORIAN
METHOD:PUBLISH
X-WR-CALNAME:Japan Cricket Association
X-ORIGINAL-URL:https://cricket.or.jp/en
X-WR-CALDESC:Events for Japan Cricket Association
REFRESH-INTERVAL;VALUE=DURATION:PT1H
X-Robots-Tag:noindex
X-PUBLISHED-TTL:PT1H
BEGIN:VTIMEZONE
TZID:Asia/Tokyo
BEGIN:STANDARD
TZOFFSETFROM:+0900
TZOFFSETTO:+0900
TZNAME:JST
DTSTART:20100101T000000
END:STANDARD
END:VTIMEZONE
BEGIN:VEVENT
DTSTART;VALUE=DATE:20170219
DTEND;VALUE=DATE:20170226
DTSTAMP:20260421T141726
CREATED:20170213T031458Z
LAST-MODIFIED:20200518T065223Z
UID:10003111-1487462400-1488067199@cricket.or.jp
SUMMARY:[:en]World Cricket League Division 5 Qualifier (2017)[:ja]2017ワールドクリケットリーグ5部大会東アジア太平洋予選[:]
DESCRIPTION:The World Cricket League Division Five Qualifier was held in Bendigo\, Australia in February 2017 and featured six teams competing in a 50-over tournament held over a week. \nAlongside Japan were Fiji\, Indonesia\, The Philippines\, Samoa and Vanuatu and Japan were coached by former Test Cricketer Julien Wiener from Cricket Victoria\, and captained by Masaomi Kobayashi. \nThe young side struggled playing the long format in a tournament held four months after the end of the Japanese season and finished bottom of the group. \nFor a list of all players selected click here\, while a full list of results can be found on ESPN Cricinfo. \n\nSchedule\n\n\n\nDate\nTime\nWorld Cricket League Division 5 Qualifier\nVenue (Bendigo)\n\n\nFeb. 19 Sunday\n08：00 – 15:00 (JST)\nJapan vs Samoa\nCanterbury Park\n\n\nFeb. 20 Monday\n08：00 – 15:00 (JST)\nJapan vs Indonesia\nQueen Elizabeth Oval\n\n\nFeb. 22 Wednesday\n08：00 – 15:00 (JST)\nJapan vs Fiji\nWeeroona Oval\n\n\nFeb. 23 Thursday\n08：00 – 15:00 (JST)\nJapan vs Vanuatu\n Strathsfieldsaye\n\n\nFeb. 25 Saturday\n08：00 – 15:00 (JST)\nJapan vs Philippines\n White Hills Oval
URL:https://cricket.or.jp/en/event/%e7%94%b7%e5%ad%90%e3%83%af%e3%83%bc%e3%83%ab%e3%83%89%e3%82%ab%e3%83%83%e3%83%97%e4%ba%88%e9%81%b8%e5%a4%a7%e4%bc%9a/
LOCATION:City of Bendigo\, Bendigo\, Victoria\, VIC 3550\, Australia
CATEGORIES:International Tournament (Men)
ATTACH;FMTTYPE=image/jpeg:https://cricket.or.jp/wp-content/uploads/2017/02/Bendigo-vs-Indonesia-3_R.jpg
GEO:-36.7570157;144.2793906
END:VEVENT
BEGIN:VEVENT
DTSTART;VALUE=DATE:20161103
DTEND;VALUE=DATE:20161107
DTSTAMP:20260421T141726
CREATED:20160703T025004Z
LAST-MODIFIED:20200518T065532Z
UID:10003106-1478131200-1478476799@cricket.or.jp
SUMMARY:[:en]2016 East Asia Cup & Sano UK Festival[:ja]2016年男子東アジアカップ・佐野英国祭[:]
DESCRIPTION:2016 Men’s East Asia Cup & Sano UK Festival\nThe 2016 Men’s East Asia Cup was the first event of it’s kind and was hosted in Sano\, Japan and alongside the hosts would feature the China\, Hong Kong Dragons and South Korea. \nJapan were coached by David Reid of Cricket Victoria\, and captained by Masaomi Kobayashi and also included 15-year-old Marcus Thurgate who made his debut. \nJapan won each of their first three matches before losing a tense final to South Korea in front of an excellent crowd. Despite losing the Final Masaomi Kobayashi was the leading run-scorer of the tournament and Kohei Wakita the leading wicket-taker. \nFor the full list of players selected please click here while all results can be found on ESPN Cricinfo. \n\n\nSchedule\n\n\n\nDate\nTime\nEast Asia Cup\nUK Festival etc\n\n\nNov. 3 Thurs\n09：15 – 12:15\nMatch 1: Japan vs China\n\n\n\n\n12：15 – 13:15\nLunch\n\n\n\n\n13：15 – 16:15\nMatch 2: CHK Sportsroad Dragons vs Korea\n\n\n\nNov. 4 Fri\n09：15 – 12:15\nMatch 3: China vs Korea\n\n\n\n\n12：15 – 13:15\nLunch\n\n\n\n\n13：15 – 16:15\nMatch 4: Japan vs CHK Sportsroad Dragons\n\n\n\nNov. 5 Sat\n08：45 – 11:45\nMatch 5: CHK Sportsroad Dragons vs China\n\n\n\n\n09：40 – 13:00\n\nSano Social League\n\n\n\n12：00 – 13:00\nLunch\n\n\n\n\n13：15 – 16:15\nMatch 6: Japan vs Korea\n\n\n\nNov. 6 Sun\n09：15 – 12:45\n3rd Pace Playoff\nSano UK Festival\n\n\n\n12：15 – 13:15\n Lunch\nSano UK Festival\n\n\n\n13：15 – 16:15\nFinal\nSano UK Festival\n\n\n\n16:45 – 17:15\nClosing Ceremony\n\n\n\n\n\nHost\nJapan Cricket Association\nCo-host\nSano City\, Sano Chamber of Commerce and Industries\, “City of Cricket Sano” Supporter Club\nSupport\nMinistry of Foreigh Affairs\, British Embassy Tokyo\, British Chamber of Commerce in Japan\, Tochigi Prefecture\, Sano City Board of Education\, Sano Aso Chamber of Commerce\, Sano City Tourism Association\, Sano City International Exchange Association\, JA Sano\, Sano City Doctor’s Association\, Sano Rugby Football Association\, Sano City Soccer Association
URL:https://cricket.or.jp/en/event/east-asia-cup/
LOCATION:Sano International Cricket Ground (formerly Tanuma Cricket Ground)\, 300-1 Tochimoto-cho\, Sano-shi\, Tochigi-ken\, 327-0312\, Japan
CATEGORIES:- Participate -,- Watch -,International Tournament (Men)
ATTACH;FMTTYPE=image/jpeg:https://cricket.or.jp/wp-content/uploads/2016/11/IMG_9250-scaled.jpg
GEO:36.3614163;139.5942198
X-APPLE-STRUCTURED-LOCATION;VALUE=URI;X-ADDRESS=Sano International Cricket Ground (formerly Tanuma Cricket Ground) 300-1 Tochimoto-cho Sano-shi Tochigi-ken 327-0312 Japan;X-APPLE-RADIUS=500;X-TITLE=300-1 Tochimoto-cho:geo:139.5942198,36.3614163
END:VEVENT
BEGIN:VEVENT
DTSTART;VALUE=DATE:20151030
DTEND;VALUE=DATE:20151103
DTSTAMP:20260421T141726
CREATED:20160617T071606Z
LAST-MODIFIED:20160629T142942Z
UID:10003255-1446163200-1446508799@cricket.or.jp
SUMMARY:[:en]2015 Japan Tour of Hong Kong[:ja]2015年東アジアシリーズ香港大会[:]
DESCRIPTION:In October/ November 2015 the Japan Men’s Team toured Hong Kong\, playing a series of Twenty20 matches and one 40-over contest. The team\, coached by Dhugal Bedingfield\, played four matches\, winning three and losing one. \nA full list of players selected can be seen by clicking here and the tournament homepage can be found by clicking here. \nThe summary of the results is below: \nHong Kong Tour: 30th October – 2nd November \n30th October: \nJapan: 215/10 (29 Overs) \nHong Kong Cricket Club: 175/10 (32 Overs) \nJapan win by 40 runs \n31st October: \nChina: 56/10 (19.2 Overs) \nJapan: 57/1 (7 Overs) \nJapan win by 9 wickets \n1st November: \nJapan: 178/6 (20 Overs) \nHong Kong Dragons: 147/7 (20 Overs) \nJapan win by 31 runs \n2nd November:  \nJapan: 102/10 (19.4 Overs) \nHong Kong ‘A’: 104/1 (15 Overs) \nHong Kong ‘A’ win by 9 wickets
URL:https://cricket.or.jp/en/event/english-2015-japan-tour-of-hong-kong-friendly-matches/
LOCATION:Tochigi-ken
CATEGORIES:International Tournament (Men)
ATTACH;FMTTYPE=image/jpeg:https://cricket.or.jp/wp-content/uploads/2016/06/rsz_pb021203.jpg
END:VEVENT
BEGIN:VEVENT
DTSTART;VALUE=DATE:20150925
DTEND;VALUE=DATE:20150928
DTSTAMP:20260421T141726
CREATED:20160617T072128Z
LAST-MODIFIED:20160703T075733Z
UID:10003256-1443139200-1443398399@cricket.or.jp
SUMMARY:[:en]2015 East Asia Series (Friendly Matches)[:]
DESCRIPTION:In September 2015 Japan hosted a series of Twenty20 matches between the Japan Men’s Team\, Hong Kong Dragons and an invitational ‘Commonwealth XI’. The Japan team\, coached by Dhugal Bedingfield\, played three matches\, winning two and drawing one. \n  \nThe tournament homepage can be found by clicking here. \n  \nThe summary of the results is below: \n  \nEast Asia Series: 25th – 27th September 2015 \n25th September: \nJapan vs Hong Kong Dragons – Match Abandoned without a ball bowled. \n26th September: \nHong Kong Dragons: 42/10 (18.5 Overs) \nJapan: 43/1 (5.4 Overs) \nJapan win by 9 wickets \n26th September: \nJapan: 83/6 (14 Overs) \nCommonwealth XI: 83/9 (14 Overs) \nMatch Tied \n27th September:  \nJapan: 144/9 (20 Overs) \nHong Kong Dragons: 44/10 (15 Overs) \nJapan win by 100 runs
URL:https://cricket.or.jp/en/event/english-2015-east-asia-series-friendly-matches/
LOCATION:Sano International Cricket Ground (formerly Tanuma Cricket Ground)\, 300-1 Tochimoto-cho\, Sano-shi\, Tochigi-ken\, 327-0312\, Japan
CATEGORIES:International Tournament (Men)
ATTACH;FMTTYPE=image/jpeg:https://cricket.or.jp/wp-content/uploads/2016/06/S__3645449.jpg
GEO:36.3614163;139.5942198
X-APPLE-STRUCTURED-LOCATION;VALUE=URI;X-ADDRESS=Sano International Cricket Ground (formerly Tanuma Cricket Ground) 300-1 Tochimoto-cho Sano-shi Tochigi-ken 327-0312 Japan;X-APPLE-RADIUS=500;X-TITLE=300-1 Tochimoto-cho:geo:139.5942198,36.3614163
END:VEVENT
BEGIN:VEVENT
DTSTART;VALUE=DATE:20141119
DTEND;VALUE=DATE:20141124
DTSTAMP:20260421T141726
CREATED:20160617T074059Z
LAST-MODIFIED:20160703T075630Z
UID:10003257-1416355200-1416787199@cricket.or.jp
SUMMARY:[:en]2014 Pepsi ICC EAP Men’s Trophy (Official Competition)[:]
DESCRIPTION:In November 2014 Japan took part in the ICC East Asia Pacific Regional Tournament as part of the pathway to World Cup Qualification and the World Cricket League. The competition would feature eight teams in the Twenty20 format\, followed by another four teams in a 50-over knockout format. \n  \nThe Japan team\, coached by Dhugal Bedingfield\, played seven matches\, winning two and losing five. In the four-team 50-over knockout event the Japan team were defeated in the semi-final. \n  \nThe squad selected can be found by clicking here. \n  \nThe tournament homepage can be found by clicking here. \n  \nThe summary of the results is below: \n  \nICC EAP T20 Trophy: 19th – 23rd November 2014 \n19th November: \nSamoa: 166/6 (20 Overs) \nJapan: 146/9 (20 Overs) \nSamoa win by 20 runs \n19th November: \nIndonesia: 98/7 (20 Overs) \nJapan: 100/0 (9.1 Overs) \nJapan win by 10 wickets \n20th November:  \nJapan: 102/9 (20 Overs) \nPhilippines: 106/4 (14.4 Overs) \nPhilippines win by 6 wickets \n20th November:  \nFiji: 161/9 (20 Overs) \nJapan: 79/9 (18 Overs) \nFiji win by 82 runs \n22nd November:  \nPapua New Guinea: 179/5 (20 Overs) \nJapan: 84/10 (17 Overs) \nPapua New Guinea win by 95 runs \n22nd November:  \nVanuatu: 150/10 (20 Overs) \nJapan: 74/10 (18.4 Overs) \nVanuatu win by 76 runs \n23rd November:  \nJapan: 160/4 (20 Overs) \nCook Islands: 141/9 (20 Overs) \nJapan win by 19 runs \n50-over Knockout:  \n25th November:  \nJapan: 103/10 (40.3 Overs) \nFiji: 104/1 (19 Overs) \nFiji win by 9 wickets
URL:https://cricket.or.jp/en/event/english-2014-pepsi-icc-eap-mens-trophy-official-competition/
LOCATION:Tochigi-ken
CATEGORIES:International Tournament (Men)
ATTACH;FMTTYPE=image/jpeg:https://cricket.or.jp/wp-content/uploads/2016/06/JPNFOR-Resize.jpg
END:VEVENT
BEGIN:VEVENT
DTSTART;VALUE=DATE:20130203
DTEND;VALUE=DATE:20130208
DTSTAMP:20260421T141726
CREATED:20160617T075252Z
LAST-MODIFIED:20160720T014858Z
UID:10003096-1359849600-1360281599@cricket.or.jp
SUMMARY:[:en]2012/13 Pepsi ICC EAP Men’s Championship (Official Competition)[:]
DESCRIPTION:In February 2013 Japan took part in the ICC East Asia Pacific Regional Tournament as part of the pathway to World Cup Qualification and the World Cricket League. The competition would feature seven teams in a Twenty20 format and was played in New Zealand. \n  \nThe Japan team\, coached by Scott McNaughton\, played six matches\, winning two and losing four. \n  \nThe tournament homepage can be found by clicking here. \n  \nThe summary of the results is below: \n  \nPepsi ICC Men’s Championship: 3rd – 7th February 2013 \n3rd February:  \nJapan: 86/10 (18.5 Overs) \nSamoa: 88/2 (12.4 Overs) \nSamoa win by 8 wickets \n3rd February:  \nVanuatu: 196/2 (20 Overs) \nJapan: 91/9 (20 Overs) \nVanuatu win by 105 runs \n4th February:  \nJapan: 38/10 (14 Overs) \nFiji: 40/1 (8.3 Overs) \nFiji win by 9 wickets \n4th February:  \nIndonesia: 93/10 (17.3 Overs) \nJapan: 94/2 (16.2 Overs) \nJapan win by 8 wickets \n6th February: \nJapan: 144/8 (20 Overs) \nCook Islands: 120/5 (20 Overs) \nJapan win by 24 runs \n7th February: \nPapua New Guinea: 206/8 (20 Overs) \nJapan: 125/6 (20 Overs) \nPapua New Guinea win by 81 runs
URL:https://cricket.or.jp/en/event/english-201213-pepsi-icc-eap-mens-championship-official-competition/
LOCATION:Tochigi-ken
CATEGORIES:International Tournament (Men)
ATTACH;FMTTYPE=image/jpeg:https://cricket.or.jp/wp-content/uploads/2016/06/DSC08239-640.jpg
END:VEVENT
BEGIN:VEVENT
DTSTART;VALUE=DATE:20110704
DTEND;VALUE=DATE:20110711
DTSTAMP:20260421T141726
CREATED:20160617T084422Z
LAST-MODIFIED:20160703T075026Z
UID:10003097-1309737600-1310342399@cricket.or.jp
SUMMARY:[:en]2011 ICC World Cricket League EAP Division One Twenty20 (Official Tournament)[:]
DESCRIPTION:In 2011 Papua New Guinea hosted the five team East Asia Pacific regional tournament at their Port Moresby facility. Japan played four Twenty20 matches and returned without a win in the competition. \n  \nICC World Cricket League EAP Division One: 4th – 10th July 2011 \n4th July \nFiji: 160/2 (20 Overs) \nJapan: 86/7 (20 Overs) \nFiji win by 74 runs \n5th July \nJapan: 109/7 (20 Overs) \nVanuatu: 113/4 (13.5 Overs) \nVanuatu win by 6 wickets \n5th July \nPapua New Guinea: 225/3 (20 Overs) \nJapan: 79/8 (20 Overs) \nPapua New Guinea win by 146 runs \n6th July \nJapan: 123/3 (20 Overs) \nSamoa: 126/4 (19.2 Overs) \nSamoa win by 6 wickets
URL:https://cricket.or.jp/en/event/english-2011-icc-world-cricket-league-eap-division-one-twenty20-official-tournament/
LOCATION:Tochigi-ken
CATEGORIES:International Tournament (Men)
ATTACH;FMTTYPE=image/jpeg:https://cricket.or.jp/wp-content/uploads/2016/06/DSC01286_R.jpg
END:VEVENT
BEGIN:VEVENT
DTSTART;VALUE=DATE:20110501
DTEND;VALUE=DATE:20110507
DTSTAMP:20260421T141726
CREATED:20160617T093537Z
LAST-MODIFIED:20160703T074958Z
UID:10003098-1304208000-1304726399@cricket.or.jp
SUMMARY:[:en]ICC World Cricket League Division 7[:]
DESCRIPTION:  \n  \nGroup League \n1st May: \nGermany: 147/1 (30.4 Overs)\nJapan: 146/10 (49.3 Overs)\nGermany won by 9 wickets \n2nd May \nJapan: 84/10 (31.4 Overs)\nBotswana: 86/2 (29.5 Overs) \nBotswana won by 8 wickets \n3rd May \nNorway: 244/9 (50 Overs)\nJapan: 191/10 (48.3 Overs) \nNorway won by 53 runs \n5th May \nNigeria: 220/9 (50 Overs)\nJapan: 130/10 (38.5 Overs) \nNigeria won by 90 runs \n6th May: \nNorway: 225/10 (48 Overs)\nJapan: 169/10 (50 Overs) \nNorway won by 56 runs
URL:https://cricket.or.jp/en/event/english-icc-world-cricket-league-division-7/
LOCATION:Tochigi-ken
CATEGORIES:International Tournament (Men)
ATTACH;FMTTYPE=image/jpeg:https://cricket.or.jp/wp-content/uploads/2016/06/RRDSC01019.jpg
END:VEVENT
END:VCALENDAR