BEGIN:VCALENDAR
VERSION:2.0
PRODID:-//Japan Cricket Association - ECPv6.15.12.2//NONSGML v1.0//EN
CALSCALE:GREGORIAN
METHOD:PUBLISH
X-WR-CALNAME:Japan Cricket Association
X-ORIGINAL-URL:https://cricket.or.jp/en
X-WR-CALDESC:Events for Japan Cricket Association
REFRESH-INTERVAL;VALUE=DURATION:PT1H
X-Robots-Tag:noindex
X-PUBLISHED-TTL:PT1H
BEGIN:VTIMEZONE
TZID:Asia/Tokyo
BEGIN:STANDARD
TZOFFSETFROM:+0900
TZOFFSETTO:+0900
TZNAME:JST
DTSTART:20190101T000000
END:STANDARD
END:VTIMEZONE
BEGIN:VEVENT
DTSTART;TZID=Asia/Tokyo:20201108T100000
DTEND;TZID=Asia/Tokyo:20201108T143000
DTSTAMP:20260423T004728
CREATED:20201019T043918Z
LAST-MODIFIED:20201019T050428Z
UID:10003225-1604829600-1604845800@cricket.or.jp
SUMMARY:[:en]Cricket Dome in Suginami Festa[:ja]クリケット体験 in すぎなみフェスタ[:]
DESCRIPTION:<Cricket Have a go at Suginami Festa> \nCricket Have a go Dome would be open during the Suginami Festa (7th and 8th November)\, Various activity and games for beginner and for those how have some experience of cricket. \n\n– Bowling : Hit the stumps !\n– Batting :  360 batting target !\n– Mini game : Pairs cricket !\n\n< Outline > Cricket Have a go at Suginami Festa \nDate: 7th and 8th November\, 2020. \nTime: 10:00 am – 15:00 (14:30 finish for 8th \nPlace: Momoi Harappa Park (Suginami-ku) \nFee: Free
URL:https://cricket.or.jp/en/event/suginami-festa/2020-11-08/
LOCATION:杉並区立桃井原っぱ公園\, 桃井３丁目８−１\, 杉並区\, 東京都\, 〒167-0034\, Japan
CATEGORIES:- Participate -
END:VEVENT
BEGIN:VEVENT
DTSTART;TZID=Asia/Tokyo:20201107T100000
DTEND;TZID=Asia/Tokyo:20201107T150000
DTSTAMP:20260423T004728
CREATED:20201019T043918Z
LAST-MODIFIED:20201019T050428Z
UID:10003224-1604743200-1604761200@cricket.or.jp
SUMMARY:[:en]Cricket Dome in Suginami Festa[:ja]クリケット体験 in すぎなみフェスタ[:]
DESCRIPTION:<Cricket Have a go at Suginami Festa> \nCricket Have a go Dome would be open during the Suginami Festa (7th and 8th November)\, Various activity and games for beginner and for those how have some experience of cricket. \n\n– Bowling : Hit the stumps !\n– Batting :  360 batting target !\n– Mini game : Pairs cricket !\n\n< Outline > Cricket Have a go at Suginami Festa \nDate: 7th and 8th November\, 2020. \nTime: 10:00 am – 15:00 (14:30 finish for 8th \nPlace: Momoi Harappa Park (Suginami-ku) \nFee: Free
URL:https://cricket.or.jp/en/event/suginami-festa/2020-11-07/
LOCATION:杉並区立桃井原っぱ公園\, 桃井３丁目８−１\, 杉並区\, 東京都\, 〒167-0034\, Japan
CATEGORIES:- Participate -
END:VEVENT
END:VCALENDAR