BEGIN:VCALENDAR
VERSION:2.0
PRODID:-//Japan Cricket Association - ECPv6.15.12.2//NONSGML v1.0//EN
CALSCALE:GREGORIAN
METHOD:PUBLISH
X-ORIGINAL-URL:https://cricket.or.jp
X-WR-CALDESC:Japan Cricket Association のイベント
REFRESH-INTERVAL;VALUE=DURATION:PT1H
X-Robots-Tag:noindex
X-PUBLISHED-TTL:PT1H
BEGIN:VTIMEZONE
TZID:Asia/Tokyo
BEGIN:STANDARD
TZOFFSETFROM:+0900
TZOFFSETTO:+0900
TZNAME:JST
DTSTART:20220101T000000
END:STANDARD
END:VTIMEZONE
BEGIN:VEVENT
DTSTART;TZID=Asia/Tokyo:20230504T130000
DTEND;TZID=Asia/Tokyo:20230504T140000
DTSTAMP:20260423T081833
CREATED:20230425T043114Z
LAST-MODIFIED:20230425T043150Z
UID:10003983-1683205200-1683208800@cricket.or.jp
SUMMARY:[:en]Cricket Experience Event at Umi to Mori Sendai 2023[:ja]クリケット体験会 in 未来の杜せんだい２０２３[:]
DESCRIPTION:クリケット体験会 in 未来の杜せんだい２０２３\n日本クリケット協会・仙台クリケットクラブ・仙台大学クリケット部\n開催日：2023年5月3日（水）、4日（木）\n開催時間：3日（水）①10:00～11:00、②13:00～14:00\n4日（木）①10:00～11:00、②13:00～14:00\n定員：30名\n参加対象者：小学3年生～6年生\n持ち物：水筒、動きやすい服装、その他個人で必要なもの \n内容 \nクリケットの体験会では、初めての方でも楽しめるゲーム楽しみましょう。ボールを打ち返すバッティングやキャッチボール、ボールを投げて的を狙うゲームなど、多彩なアクティビティを楽しめます。また、プラスティック製の簡易セットを使用するため、実際の体験をそのままに、小学生から大人まで楽しめる体験ができます。楽しみながらクリケットの醍醐味を味わいましょう！ \n  \nhttps://www.umi-to-mori.jp/information#event3　（当日飛び入り参加も可能です！）
URL:https://cricket.or.jp/event/umi-to-mori-sendai-2023/2023-05-04/2/
LOCATION:未来の杜せんだい2023 高砂中央公園\, 宮城県仙台市宮城野区中野４丁目６\, 〒983-0013
CATEGORIES:- 参加／体験 -
END:VEVENT
BEGIN:VEVENT
DTSTART;TZID=Asia/Tokyo:20230504T100000
DTEND;TZID=Asia/Tokyo:20230504T110000
DTSTAMP:20260423T081833
CREATED:20230425T043114Z
LAST-MODIFIED:20230425T043150Z
UID:10003982-1683194400-1683198000@cricket.or.jp
SUMMARY:[:en]Cricket Experience Event at Umi to Mori Sendai 2023[:ja]クリケット体験会 in 未来の杜せんだい２０２３[:]
DESCRIPTION:クリケット体験会 in 未来の杜せんだい２０２３\n日本クリケット協会・仙台クリケットクラブ・仙台大学クリケット部\n開催日：2023年5月3日（水）、4日（木）\n開催時間：3日（水）①10:00～11:00、②13:00～14:00\n4日（木）①10:00～11:00、②13:00～14:00\n定員：30名\n参加対象者：小学3年生～6年生\n持ち物：水筒、動きやすい服装、その他個人で必要なもの \n内容 \nクリケットの体験会では、初めての方でも楽しめるゲーム楽しみましょう。ボールを打ち返すバッティングやキャッチボール、ボールを投げて的を狙うゲームなど、多彩なアクティビティを楽しめます。また、プラスティック製の簡易セットを使用するため、実際の体験をそのままに、小学生から大人まで楽しめる体験ができます。楽しみながらクリケットの醍醐味を味わいましょう！ \n  \nhttps://www.umi-to-mori.jp/information#event3　（当日飛び入り参加も可能です！）
URL:https://cricket.or.jp/event/umi-to-mori-sendai-2023/2023-05-04/1/
LOCATION:未来の杜せんだい2023 高砂中央公園\, 宮城県仙台市宮城野区中野４丁目６\, 〒983-0013
CATEGORIES:- 参加／体験 -
END:VEVENT
BEGIN:VEVENT
DTSTART;TZID=Asia/Tokyo:20230503T130000
DTEND;TZID=Asia/Tokyo:20230503T140000
DTSTAMP:20260423T081833
CREATED:20230425T043114Z
LAST-MODIFIED:20230425T043150Z
UID:10003981-1683118800-1683122400@cricket.or.jp
SUMMARY:[:en]Cricket Experience Event at Umi to Mori Sendai 2023[:ja]クリケット体験会 in 未来の杜せんだい２０２３[:]
DESCRIPTION:クリケット体験会 in 未来の杜せんだい２０２３\n日本クリケット協会・仙台クリケットクラブ・仙台大学クリケット部\n開催日：2023年5月3日（水）、4日（木）\n開催時間：3日（水）①10:00～11:00、②13:00～14:00\n4日（木）①10:00～11:00、②13:00～14:00\n定員：30名\n参加対象者：小学3年生～6年生\n持ち物：水筒、動きやすい服装、その他個人で必要なもの \n内容 \nクリケットの体験会では、初めての方でも楽しめるゲーム楽しみましょう。ボールを打ち返すバッティングやキャッチボール、ボールを投げて的を狙うゲームなど、多彩なアクティビティを楽しめます。また、プラスティック製の簡易セットを使用するため、実際の体験をそのままに、小学生から大人まで楽しめる体験ができます。楽しみながらクリケットの醍醐味を味わいましょう！ \n  \nhttps://www.umi-to-mori.jp/information#event3　（当日飛び入り参加も可能です！）
URL:https://cricket.or.jp/event/umi-to-mori-sendai-2023/2023-05-03/2/
LOCATION:未来の杜せんだい2023 高砂中央公園\, 宮城県仙台市宮城野区中野４丁目６\, 〒983-0013
CATEGORIES:- 参加／体験 -
END:VEVENT
BEGIN:VEVENT
DTSTART;TZID=Asia/Tokyo:20230503T100000
DTEND;TZID=Asia/Tokyo:20230503T110000
DTSTAMP:20260423T081833
CREATED:20230425T043114Z
LAST-MODIFIED:20230425T043150Z
UID:10003980-1683108000-1683111600@cricket.or.jp
SUMMARY:[:en]Cricket Experience Event at Umi to Mori Sendai 2023[:ja]クリケット体験会 in 未来の杜せんだい２０２３[:]
DESCRIPTION:クリケット体験会 in 未来の杜せんだい２０２３\n日本クリケット協会・仙台クリケットクラブ・仙台大学クリケット部\n開催日：2023年5月3日（水）、4日（木）\n開催時間：3日（水）①10:00～11:00、②13:00～14:00\n4日（木）①10:00～11:00、②13:00～14:00\n定員：30名\n参加対象者：小学3年生～6年生\n持ち物：水筒、動きやすい服装、その他個人で必要なもの \n内容 \nクリケットの体験会では、初めての方でも楽しめるゲーム楽しみましょう。ボールを打ち返すバッティングやキャッチボール、ボールを投げて的を狙うゲームなど、多彩なアクティビティを楽しめます。また、プラスティック製の簡易セットを使用するため、実際の体験をそのままに、小学生から大人まで楽しめる体験ができます。楽しみながらクリケットの醍醐味を味わいましょう！ \n  \nhttps://www.umi-to-mori.jp/information#event3　（当日飛び入り参加も可能です！）
URL:https://cricket.or.jp/event/umi-to-mori-sendai-2023/2023-05-03/1/
LOCATION:未来の杜せんだい2023 高砂中央公園\, 宮城県仙台市宮城野区中野４丁目６\, 〒983-0013
CATEGORIES:- 参加／体験 -
END:VEVENT
END:VCALENDAR