BEGIN:VCALENDAR
VERSION:2.0
PRODID:-//Japan Cricket Association - ECPv6.15.12.2//NONSGML v1.0//EN
CALSCALE:GREGORIAN
METHOD:PUBLISH
X-WR-CALNAME:Japan Cricket Association
X-ORIGINAL-URL:https://cricket.or.jp
X-WR-CALDESC:Japan Cricket Association のイベント
REFRESH-INTERVAL;VALUE=DURATION:PT1H
X-Robots-Tag:noindex
X-PUBLISHED-TTL:PT1H
BEGIN:VTIMEZONE
TZID:Asia/Tokyo
BEGIN:STANDARD
TZOFFSETFROM:+0900
TZOFFSETTO:+0900
TZNAME:JST
DTSTART:20250101T000000
END:STANDARD
END:VTIMEZONE
BEGIN:VEVENT
DTSTART;TZID=Asia/Tokyo:20260419T103000
DTEND;TZID=Asia/Tokyo:20260419T160000
DTSTAMP:20260419T020855
CREATED:20260411T042700Z
LAST-MODIFIED:20260411T042700Z
UID:10004148-1776594600-1776614400@cricket.or.jp
SUMMARY:[:en]CrickeTRY2026 4/19(Sunday)[:ja]クリケット体験イベント「CrickeTRY2026体験会」4月19日（日）[:]
DESCRIPTION:本イベントは、クリケットを初めて体験する方を対象としており、基本的なルールの説明に加え、バッティングやボウリングなどの基礎動作を体験いただけます。ミニゲームも実施し、クリケットの楽しさに触れることができる内容となっています。道具は簡易キットを使用し、初心者でも安心して参加いただけます。 \n体験会の詳細は以下のサイトをご確認下さい。\nhttps://www.cricket.ne.jp/CrickeTRY2026/omiya0322/index.html \n<イベント概要>\n\n日時：2026年4月19日（日）10:30～16:00\n会場：大宮けんぽグラウンド Sフィールド（埼玉県さいたま市西区二ツ宮113-1）\n会場情報：https://s-field.saitamasc.jp/facility/\n参加費：1名 1\,500円（小学生以下 1\,000円）\n対象：初心者・未経験者歓迎（年齢制限なし）\n内容：ルール説明、基本動作体験（バッティング／ボウリング）、ミニゲーム\n使用用具：簡易キット（プラスチック製バット・ゴムボール）\n申込締切：2026年4月17日（金）\n申込ページ：https://www.cricket.ne.jp/CrickeTRY20260322_form/index.php\n主催：CrickeTRY2026実行委員会\n\n<注意事項>\n\n「小学校低学年以下」のお子さんが参加の際は、必ず親御さんが近くに付き添うか、親子で一緒にご参加ください。\nプログラムにない自由な時間帯に関しましては、主催者では責任を負えませんので各自の責任で怪我や体調の管理をお願いいたします。\n飲み物はご自身でご準備ください。\n動きやすい服装でお越しになられるか、当日お着替えください。\n会場の駐車場は無料です。\nマイカー以外の方は大宮駅からはバス便がありますが便数が少なので時間には余裕を持ってお越しください。\n雨天時の開催について、会場のオフィシャルサイトに当日朝6時に使用に関して発表になり、それに準ずることになります。\nその他、当日に関する詳細に関しましては追ってご連絡いたします。
URL:https://cricket.or.jp/event/cricketry2026-0419/
LOCATION:大宮けんぽグラウンドSフィールド\, 埼玉県さいたま市西区二ツ宮113-1
CATEGORIES:- 参加／体験 -
ATTACH;FMTTYPE=image/jpeg:https://cricket.or.jp/wp-content/uploads/2026/03/TRYlogo-e1775880581108.jpg
END:VEVENT
END:VCALENDAR