BEGIN:VCALENDAR
VERSION:2.0
PRODID:-//Japan Cricket Association - ECPv6.15.12.2//NONSGML v1.0//EN
CALSCALE:GREGORIAN
METHOD:PUBLISH
X-ORIGINAL-URL:https://cricket.or.jp
X-WR-CALDESC:Japan Cricket Association のイベント
REFRESH-INTERVAL;VALUE=DURATION:PT1H
X-Robots-Tag:noindex
X-PUBLISHED-TTL:PT1H
BEGIN:VTIMEZONE
TZID:Asia/Tokyo
BEGIN:STANDARD
TZOFFSETFROM:+0900
TZOFFSETTO:+0900
TZNAME:JST
DTSTART:20170101T000000
END:STANDARD
END:VTIMEZONE
BEGIN:VEVENT
DTSTART;TZID=Asia/Tokyo:20180913T093000
DTEND;TZID=Asia/Tokyo:20180916T163000
DTSTAMP:20260421T214817
CREATED:20180828T023128Z
LAST-MODIFIED:20200518T065026Z
UID:10003344-1536831000-1537115400@cricket.or.jp
SUMMARY:[:en]2018 Men's East Asia Cup[:ja]2018年男子東アジア カップ[:]
DESCRIPTION:2018年男子東アジア カップ\n2018年9月に香港で開催された男子アジアカップ第2回大会に日本代表チームが出場した。2年前に開催された第1回大会では惜しくも準優勝となった日本代表は、優勝を目指して本大会に挑んだ。日本代表チームを率いたのは、日本クリケット協会のドゥーグル・ベディングフィールドコーチとクリケットビクトリアのスティーブ・ザイラーコーチ。キャプテンには小林正臣選手が任命された。 \n日本代表チームには、本大会1日前に15歳の誕生日を迎えたばかりの高橋和雅選手が選出され、香港ドラゴンズ戦に出場した際には、日本代表史上最年少での試合出場となった。また、元プロ野球選手の木村昇吾選手も日本代表初選出となった。 \n試合結果は、バッティング、ボウリングともに素晴らしいパフォーマンスを見せた谷山誠選手の活躍などもあり、全試合に勝利して大会を終えた。 \n本体会出場フルメンバーはこちらよりご覧いただけます。 \n全試合結果はESPN Cricinfoをご確認ください。 \n  \n\n\n\n\n\n月日\n時間\n東アジアカップ\n会場\n\n\n9月13日（木）\n09：30 – 12:30\n第1戦： 中国vs韓国\nMission Road\n\n\n\n12：30 – 13:30\n昼食\n\n\n\n\n13：30 – 16:30\n第2戦： 日本vs香港ドラゴンズ\nMission Road\n\n\n9月14日（金）\n09：30 – 12:30\n第3戦： 韓国vs日本\nHong Kong CC\n\n\n\n12：30 – 13:30\n昼食\n\n\n\n\n13：30 – 16:30\n第4戦：香港ドラゴンズ vs中国\nHong Kong CC\n\n\n9月15日（土）\n09：30 – 12:30\n第5戦：日本vs 中国\nMission Road\n\n\n\n12：30 – 13:30\n昼食\n\n\n\n\n13：30 – 16:30\n第6戦： 香港ドラゴンズvs韓国\nMission Road\n\n\n9月16日（日）\n09：30 – 12:30\n3位決定戦\nKowloon CC\n\n\n\n12：30 – 13:30\n昼食\n\n\n\n\n13：30 – 16:30\n決勝戦\nKowloon CC\n\n\n\n16：45 – 17:15\n閉会式\n\n\n\n\n\n\n\n\n\n\n 
URL:https://cricket.or.jp/event/2018eastasiacup-fixtures/
LOCATION:Hong Kong\, Hong Kong
CATEGORIES:国際試合(男子)
ATTACH;FMTTYPE=image/jpeg:https://cricket.or.jp/wp-content/uploads/2018/09/IMG_2002-scaled.jpg
GEO:22.396428;114.109497
END:VEVENT
END:VCALENDAR