BEGIN:VCALENDAR
VERSION:2.0
PRODID:-//Japan Cricket Association - ECPv6.15.12.2//NONSGML v1.0//EN
CALSCALE:GREGORIAN
METHOD:PUBLISH
X-ORIGINAL-URL:https://cricket.or.jp
X-WR-CALDESC:Japan Cricket Association のイベント
REFRESH-INTERVAL;VALUE=DURATION:PT1H
X-Robots-Tag:noindex
X-PUBLISHED-TTL:PT1H
BEGIN:VTIMEZONE
TZID:Asia/Tokyo
BEGIN:STANDARD
TZOFFSETFROM:+0900
TZOFFSETTO:+0900
TZNAME:JST
DTSTART:20180101T000000
END:STANDARD
END:VTIMEZONE
BEGIN:VEVENT
DTSTART;TZID=Asia/Tokyo:20211121T093000
DTEND;TZID=Asia/Tokyo:20211121T230000
DTSTAMP:20260422T185618
CREATED:20210924T080949Z
LAST-MODIFIED:20211101T013818Z
UID:10003854-1637487000-1637535600@cricket.or.jp
SUMMARY:[:en]Cricket Blast Series Akishima[:ja]クリケットブラストシリーズ in 昭島[:]
DESCRIPTION:クリケットブラストシリーズはじまるよ。\nみんなで参加しよう！\nクリケットブラストシリーズは、だれでも参加できるクリケット (スポーツ) プログラムです！とっても簡単な球技スポーツで打ったり、投げたり、捕ったり、走ったり、をみんなで楽しく参加しましょう！ \n  \n初めて方の（ビギナーズコース）と経験者用（ゲームコース）のクリケットプログラムが用意されています。 \n第一週（7日）は、どなたでも無料でお試し！ \n第三週（21日）は、親子で（ご家族）ご参加ください！ \n※開催あたって皆様と共に新型コロナウィルス感染対策を講じ、心身共に健康の向上を目指して参ります。 \n  \n  \nビギナーコース & ゲームコース共に： 9:30~11:00 \nビギナーコース： \n初めてクリケットに触れる小学生向けのプログラムです。楽しく体を動かし、クリケットを体験してみましょう！（ボールを捕るゲームや止まっているボールを打つゲームまで楽しさ十分！） \nゲームコース： \nクリケットのゲームを体験したい方向けのクリケットプログラムです。試合を楽しみながら運動能力や協調性、社会性などの向上を図ります。（ペアで行うクリケットゲームや投げ方、打ち方が上手になるよ！） \n  \n参加費： 4\,000円  →　3\,000円 \nWebからのお申込みはこちらから \n→　http://www.japancricketblast.com/blog/register/ \n  \n  \n \n 
URL:https://cricket.or.jp/event/2021-akishima-cbs-autumn/2021-11-21/
LOCATION:拝島第二小学校\, 拝島町3927-2\, 昭島市\, 東京都\, 196-0002\, Japan
CATEGORIES:- 参加／体験 -
GEO:35.7050033;139.3424738
X-APPLE-STRUCTURED-LOCATION;VALUE=URI;X-ADDRESS=拝島第二小学校 拝島町3927-2 昭島市 東京都 196-0002 Japan;X-APPLE-RADIUS=500;X-TITLE=拝島町3927-2:geo:139.3424738,35.7050033
END:VEVENT
BEGIN:VEVENT
DTSTART;TZID=Asia/Tokyo:20211114T093000
DTEND;TZID=Asia/Tokyo:20211114T230000
DTSTAMP:20260422T185618
CREATED:20210924T080949Z
LAST-MODIFIED:20211101T013818Z
UID:10003853-1636882200-1636930800@cricket.or.jp
SUMMARY:[:en]Cricket Blast Series Akishima[:ja]クリケットブラストシリーズ in 昭島[:]
DESCRIPTION:クリケットブラストシリーズはじまるよ。\nみんなで参加しよう！\nクリケットブラストシリーズは、だれでも参加できるクリケット (スポーツ) プログラムです！とっても簡単な球技スポーツで打ったり、投げたり、捕ったり、走ったり、をみんなで楽しく参加しましょう！ \n  \n初めて方の（ビギナーズコース）と経験者用（ゲームコース）のクリケットプログラムが用意されています。 \n第一週（7日）は、どなたでも無料でお試し！ \n第三週（21日）は、親子で（ご家族）ご参加ください！ \n※開催あたって皆様と共に新型コロナウィルス感染対策を講じ、心身共に健康の向上を目指して参ります。 \n  \n  \nビギナーコース & ゲームコース共に： 9:30~11:00 \nビギナーコース： \n初めてクリケットに触れる小学生向けのプログラムです。楽しく体を動かし、クリケットを体験してみましょう！（ボールを捕るゲームや止まっているボールを打つゲームまで楽しさ十分！） \nゲームコース： \nクリケットのゲームを体験したい方向けのクリケットプログラムです。試合を楽しみながら運動能力や協調性、社会性などの向上を図ります。（ペアで行うクリケットゲームや投げ方、打ち方が上手になるよ！） \n  \n参加費： 4\,000円  →　3\,000円 \nWebからのお申込みはこちらから \n→　http://www.japancricketblast.com/blog/register/ \n  \n  \n \n 
URL:https://cricket.or.jp/event/2021-akishima-cbs-autumn/2021-11-14/
LOCATION:拝島第二小学校\, 拝島町3927-2\, 昭島市\, 東京都\, 196-0002\, Japan
CATEGORIES:- 参加／体験 -
GEO:35.7050033;139.3424738
X-APPLE-STRUCTURED-LOCATION;VALUE=URI;X-ADDRESS=拝島第二小学校 拝島町3927-2 昭島市 東京都 196-0002 Japan;X-APPLE-RADIUS=500;X-TITLE=拝島町3927-2:geo:139.3424738,35.7050033
END:VEVENT
BEGIN:VEVENT
DTSTART;TZID=Asia/Tokyo:20211107T093000
DTEND;TZID=Asia/Tokyo:20211107T230000
DTSTAMP:20260422T185618
CREATED:20210924T080949Z
LAST-MODIFIED:20211101T013818Z
UID:10003852-1636277400-1636326000@cricket.or.jp
SUMMARY:[:en]Cricket Blast Series Akishima[:ja]クリケットブラストシリーズ in 昭島[:]
DESCRIPTION:クリケットブラストシリーズはじまるよ。\nみんなで参加しよう！\nクリケットブラストシリーズは、だれでも参加できるクリケット (スポーツ) プログラムです！とっても簡単な球技スポーツで打ったり、投げたり、捕ったり、走ったり、をみんなで楽しく参加しましょう！ \n  \n初めて方の（ビギナーズコース）と経験者用（ゲームコース）のクリケットプログラムが用意されています。 \n第一週（7日）は、どなたでも無料でお試し！ \n第三週（21日）は、親子で（ご家族）ご参加ください！ \n※開催あたって皆様と共に新型コロナウィルス感染対策を講じ、心身共に健康の向上を目指して参ります。 \n  \n  \nビギナーコース & ゲームコース共に： 9:30~11:00 \nビギナーコース： \n初めてクリケットに触れる小学生向けのプログラムです。楽しく体を動かし、クリケットを体験してみましょう！（ボールを捕るゲームや止まっているボールを打つゲームまで楽しさ十分！） \nゲームコース： \nクリケットのゲームを体験したい方向けのクリケットプログラムです。試合を楽しみながら運動能力や協調性、社会性などの向上を図ります。（ペアで行うクリケットゲームや投げ方、打ち方が上手になるよ！） \n  \n参加費： 4\,000円  →　3\,000円 \nWebからのお申込みはこちらから \n→　http://www.japancricketblast.com/blog/register/ \n  \n  \n \n 
URL:https://cricket.or.jp/event/2021-akishima-cbs-autumn/2021-11-07/
LOCATION:拝島第二小学校\, 拝島町3927-2\, 昭島市\, 東京都\, 196-0002\, Japan
CATEGORIES:- 参加／体験 -
GEO:35.7050033;139.3424738
X-APPLE-STRUCTURED-LOCATION;VALUE=URI;X-ADDRESS=拝島第二小学校 拝島町3927-2 昭島市 東京都 196-0002 Japan;X-APPLE-RADIUS=500;X-TITLE=拝島町3927-2:geo:139.3424738,35.7050033
END:VEVENT
BEGIN:VEVENT
DTSTART;TZID=Asia/Tokyo:20210711T093000
DTEND;TZID=Asia/Tokyo:20210711T114500
DTSTAMP:20260422T185618
CREATED:20210408T051855Z
LAST-MODIFIED:20210616T032017Z
UID:10003833-1625995800-1626003900@cricket.or.jp
SUMMARY:[:en]Cricket Blast Series Akishima[:ja]クリケットブラストシリーズ昭島[:]
DESCRIPTION:クリケットブラストシリーズはじまるよ。\nみんなで参加しよう！\nクリケットブラストシリーズは、だれでも参加できるクリケット (スポーツ) プログラムです！とっても簡単な球技スポーツで打ったり、投げたり、捕ったり、走ったり、をみんなで楽しく参加しましょう！ \n  \n初めて方の（ビギナーズコース）と経験者用（ゲームコース）のクリケットプログラムが用意されています。また今年は女子のみのコース（おまけコース）もありますよ！クリケットをやったことある人もない人も楽しめるスポーツ体験プログラムに参加してみませんか？ \n※開催あたって皆様と共に新型コロナウィルス感染対策を講じ、心身共に健康の向上を目指して参ります。 \n  \nビギナーコース：9:30~10:30 \n初めてクリケットに触れる小学生向けのプログラムです。楽しく体を動かし、クリケットを体験してみましょう！（ボールを捕るゲームや止まっているボールを打つゲームまで楽しさ十分！） \nおまけコース（女子のみ）：10:10~10:50 \n女性スタッフを増員して「女子クリケットブラスト」を行います。おまけコースは「ビギナーコース」又は「ゲームコース」と合わせて参加できます！ \nゲームコース：11:45~12:00 \nクリケットを体験したことがある、普段からプレーしている小学生向けのプログラムです。試合を楽しみながら運動能力や協調性、社会性などの向上を図ります。（ペアで行うクリケットゲームや投げ方、打ち方が上手になるよ！） \n  \n参加費：4\,000円 \nWebからのお申込みはこちらから \n→　http://www.japancricketblast.com/blog/register/ \n  \n\n\n  \n持ち物と注意点： \n・ご参加は事前登録をお願いします。 \n・参加当日の体温を測ってください。 \n・マスクの持参と運動時以外での着用 \n・熱中症対策に、汗拭きタオルや水筒など（お友達と共用しない） \n・体調がすぐれなかったり、軽い症状（咳・発熱など）でも大事をとって参加しない判断をしましょう。 \n・当日記載いただく健康チェック表がございます、下記をご確認ください。 \n・氏名、年齢、住所、連絡先（電話番号）、利用当日の体温\n・利用前２週間における以下の事項の有無 \n・平熱を超える発熱\n・咳（せき）、のどの痛みなど風邪の症状\n・だるさ（倦怠（けんたい）感）、息苦しさ（呼吸困難）\n・嗅覚や味覚の異常\n・体が重く感じる、疲れやすい等\n・新型コロナウイルス感染症陽性とされた者との濃厚接触の有無\n・同居家族や身近な知人に感染が疑われる方がいる場合\n・過去１４日以内に政府から入国制限、入国後の観察期間を必要とされている国、地域等への渡航又は当該在住者との濃厚接触がある場合 \n※その他活動中の注意は当日スタッフより説明があります。
URL:https://cricket.or.jp/event/2021spring-akishima-cbs/2021-07-11/
LOCATION:拝島第二小学校\, 拝島町3927-2\, 昭島市\, 東京都\, 196-0002\, Japan
GEO:35.7050033;139.3424738
X-APPLE-STRUCTURED-LOCATION;VALUE=URI;X-ADDRESS=拝島第二小学校 拝島町3927-2 昭島市 東京都 196-0002 Japan;X-APPLE-RADIUS=500;X-TITLE=拝島町3927-2:geo:139.3424738,35.7050033
END:VEVENT
BEGIN:VEVENT
DTSTART;TZID=Asia/Tokyo:20210704T093000
DTEND;TZID=Asia/Tokyo:20210704T114500
DTSTAMP:20260422T185618
CREATED:20210408T051855Z
LAST-MODIFIED:20210616T032017Z
UID:10003832-1625391000-1625399100@cricket.or.jp
SUMMARY:[:en]Cricket Blast Series Akishima[:ja]クリケットブラストシリーズ昭島[:]
DESCRIPTION:クリケットブラストシリーズはじまるよ。\nみんなで参加しよう！\nクリケットブラストシリーズは、だれでも参加できるクリケット (スポーツ) プログラムです！とっても簡単な球技スポーツで打ったり、投げたり、捕ったり、走ったり、をみんなで楽しく参加しましょう！ \n  \n初めて方の（ビギナーズコース）と経験者用（ゲームコース）のクリケットプログラムが用意されています。また今年は女子のみのコース（おまけコース）もありますよ！クリケットをやったことある人もない人も楽しめるスポーツ体験プログラムに参加してみませんか？ \n※開催あたって皆様と共に新型コロナウィルス感染対策を講じ、心身共に健康の向上を目指して参ります。 \n  \nビギナーコース：9:30~10:30 \n初めてクリケットに触れる小学生向けのプログラムです。楽しく体を動かし、クリケットを体験してみましょう！（ボールを捕るゲームや止まっているボールを打つゲームまで楽しさ十分！） \nおまけコース（女子のみ）：10:10~10:50 \n女性スタッフを増員して「女子クリケットブラスト」を行います。おまけコースは「ビギナーコース」又は「ゲームコース」と合わせて参加できます！ \nゲームコース：11:45~12:00 \nクリケットを体験したことがある、普段からプレーしている小学生向けのプログラムです。試合を楽しみながら運動能力や協調性、社会性などの向上を図ります。（ペアで行うクリケットゲームや投げ方、打ち方が上手になるよ！） \n  \n参加費：4\,000円 \nWebからのお申込みはこちらから \n→　http://www.japancricketblast.com/blog/register/ \n  \n\n\n  \n持ち物と注意点： \n・ご参加は事前登録をお願いします。 \n・参加当日の体温を測ってください。 \n・マスクの持参と運動時以外での着用 \n・熱中症対策に、汗拭きタオルや水筒など（お友達と共用しない） \n・体調がすぐれなかったり、軽い症状（咳・発熱など）でも大事をとって参加しない判断をしましょう。 \n・当日記載いただく健康チェック表がございます、下記をご確認ください。 \n・氏名、年齢、住所、連絡先（電話番号）、利用当日の体温\n・利用前２週間における以下の事項の有無 \n・平熱を超える発熱\n・咳（せき）、のどの痛みなど風邪の症状\n・だるさ（倦怠（けんたい）感）、息苦しさ（呼吸困難）\n・嗅覚や味覚の異常\n・体が重く感じる、疲れやすい等\n・新型コロナウイルス感染症陽性とされた者との濃厚接触の有無\n・同居家族や身近な知人に感染が疑われる方がいる場合\n・過去１４日以内に政府から入国制限、入国後の観察期間を必要とされている国、地域等への渡航又は当該在住者との濃厚接触がある場合 \n※その他活動中の注意は当日スタッフより説明があります。
URL:https://cricket.or.jp/event/2021spring-akishima-cbs/2021-07-04/
LOCATION:拝島第二小学校\, 拝島町3927-2\, 昭島市\, 東京都\, 196-0002\, Japan
GEO:35.7050033;139.3424738
X-APPLE-STRUCTURED-LOCATION;VALUE=URI;X-ADDRESS=拝島第二小学校 拝島町3927-2 昭島市 東京都 196-0002 Japan;X-APPLE-RADIUS=500;X-TITLE=拝島町3927-2:geo:139.3424738,35.7050033
END:VEVENT
BEGIN:VEVENT
DTSTART;TZID=Asia/Tokyo:20210627T093000
DTEND;TZID=Asia/Tokyo:20210627T114500
DTSTAMP:20260422T185618
CREATED:20210408T051855Z
LAST-MODIFIED:20210616T032017Z
UID:10003831-1624786200-1624794300@cricket.or.jp
SUMMARY:[:en]Cricket Blast Series Akishima[:ja]クリケットブラストシリーズ昭島[:]
DESCRIPTION:クリケットブラストシリーズはじまるよ。\nみんなで参加しよう！\nクリケットブラストシリーズは、だれでも参加できるクリケット (スポーツ) プログラムです！とっても簡単な球技スポーツで打ったり、投げたり、捕ったり、走ったり、をみんなで楽しく参加しましょう！ \n  \n初めて方の（ビギナーズコース）と経験者用（ゲームコース）のクリケットプログラムが用意されています。また今年は女子のみのコース（おまけコース）もありますよ！クリケットをやったことある人もない人も楽しめるスポーツ体験プログラムに参加してみませんか？ \n※開催あたって皆様と共に新型コロナウィルス感染対策を講じ、心身共に健康の向上を目指して参ります。 \n  \nビギナーコース：9:30~10:30 \n初めてクリケットに触れる小学生向けのプログラムです。楽しく体を動かし、クリケットを体験してみましょう！（ボールを捕るゲームや止まっているボールを打つゲームまで楽しさ十分！） \nおまけコース（女子のみ）：10:10~10:50 \n女性スタッフを増員して「女子クリケットブラスト」を行います。おまけコースは「ビギナーコース」又は「ゲームコース」と合わせて参加できます！ \nゲームコース：11:45~12:00 \nクリケットを体験したことがある、普段からプレーしている小学生向けのプログラムです。試合を楽しみながら運動能力や協調性、社会性などの向上を図ります。（ペアで行うクリケットゲームや投げ方、打ち方が上手になるよ！） \n  \n参加費：4\,000円 \nWebからのお申込みはこちらから \n→　http://www.japancricketblast.com/blog/register/ \n  \n\n\n  \n持ち物と注意点： \n・ご参加は事前登録をお願いします。 \n・参加当日の体温を測ってください。 \n・マスクの持参と運動時以外での着用 \n・熱中症対策に、汗拭きタオルや水筒など（お友達と共用しない） \n・体調がすぐれなかったり、軽い症状（咳・発熱など）でも大事をとって参加しない判断をしましょう。 \n・当日記載いただく健康チェック表がございます、下記をご確認ください。 \n・氏名、年齢、住所、連絡先（電話番号）、利用当日の体温\n・利用前２週間における以下の事項の有無 \n・平熱を超える発熱\n・咳（せき）、のどの痛みなど風邪の症状\n・だるさ（倦怠（けんたい）感）、息苦しさ（呼吸困難）\n・嗅覚や味覚の異常\n・体が重く感じる、疲れやすい等\n・新型コロナウイルス感染症陽性とされた者との濃厚接触の有無\n・同居家族や身近な知人に感染が疑われる方がいる場合\n・過去１４日以内に政府から入国制限、入国後の観察期間を必要とされている国、地域等への渡航又は当該在住者との濃厚接触がある場合 \n※その他活動中の注意は当日スタッフより説明があります。
URL:https://cricket.or.jp/event/2021spring-akishima-cbs/2021-06-27/
LOCATION:拝島第二小学校\, 拝島町3927-2\, 昭島市\, 東京都\, 196-0002\, Japan
GEO:35.7050033;139.3424738
X-APPLE-STRUCTURED-LOCATION;VALUE=URI;X-ADDRESS=拝島第二小学校 拝島町3927-2 昭島市 東京都 196-0002 Japan;X-APPLE-RADIUS=500;X-TITLE=拝島町3927-2:geo:139.3424738,35.7050033
END:VEVENT
BEGIN:VEVENT
DTSTART;TZID=Asia/Tokyo:20201122T093000
DTEND;TZID=Asia/Tokyo:20201122T120000
DTSTAMP:20260422T185618
CREATED:20200929T022056Z
LAST-MODIFIED:20200929T022534Z
UID:10003817-1606037400-1606046400@cricket.or.jp
SUMMARY:[:en]Cricket Blast Series Akishima[:ja]クリケットブラストシリーズ昭島[:]
DESCRIPTION:秋シリーズはじまるよ、みんなで参加しよう！\nクリケットブラストシリーズは、だれでも参加できるクリケット (スポーツ) プログラムです！とっても簡単な球技スポーツで打ったり、投げたり、捕ったり、走ったり、を気持ちのいい天然芝の上で楽しめます。 \n  \n初めてのみんな用（ビギナーズコース）と経験者用（ゲームコース）のクリケットプログラムが用意されています。やったことある人もない人も楽しめるスポーツ体験プログラムに参加してみませんか？ \n※開催あたって皆様と共に新型コロナウィルス感染対策を講じ、心身共に健康の向上を目指して参ります。 \n  \nビギナーコース：9:30~10:30 \n初めてクリケットに触れる小学生向けのプログラムです。楽しく体を動かし、クリケットを体験してみましょう！（ボールを捕るゲームや止まっているボールを打つゲームまで楽しさ十分！） \n  \nエキスパートコース：10:45~11:45 \nクリケットを体験したことがある、普段からプレーしている小学生向けのプログラムです。試合を楽しみながら運動能力や協調性、社会性などの向上を図ります。（ペアで行うクリケットゲームや投げ方、打ち方が上手になるよ！） \n  \n参加費：1コース1\,000円、どちらかのコース１つをお選びください。 \nWebからのお申込みはこちらから \n→　http://www.japancricketblast.com/blog/register/ \n  \n持ち物と注意点： \n・ご参加は事前登録をお願いします。 \n・参加当日の体温を測ってください。 \n・マスクの持参と運動時以外での着用 \n・熱中症対策に、汗拭きタオルや水筒など（お友達と共用しない） \n・体調がすぐれなかったり、軽い症状（咳・発熱など）でも大事をとって参加しない判断をしましょう。 \n・当日記載いただく健康チェック表がございます、下記をご確認ください。 \n・氏名、年齢、住所、連絡先（電話番号）、利用当日の体温\n・利用前２週間における以下の事項の有無 \n・平熱を超える発熱\n・咳（せき）、のどの痛みなど風邪の症状\n・だるさ（倦怠（けんたい）感）、息苦しさ（呼吸困難）\n・嗅覚や味覚の異常\n・体が重く感じる、疲れやすい等\n・新型コロナウイルス感染症陽性とされた者との濃厚接触の有無\n・同居家族や身近な知人に感染が疑われる方がいる場合\n・過去１４日以内に政府から入国制限、入国後の観察期間を必要とされている国、地域等への渡航又は当該在住者との濃厚接触がある場合 \n※その他活動中の注意は当日スタッフより説明があります。 \n 
URL:https://cricket.or.jp/event/%e3%82%af%e3%83%aa%e3%82%b1%e3%83%83%e3%83%88%e3%83%96%e3%83%a9%e3%82%b9%e3%83%88%e3%82%b7%e3%83%aa%e3%83%bc%e3%82%ba%e6%98%ad%e5%b3%b6-2/2020-11-22/
LOCATION:拝島第二小学校\, 拝島町3927-2\, 昭島市\, 東京都\, 196-0002\, Japan
CATEGORIES:- 参加／体験 -
GEO:35.7050033;139.3424738
X-APPLE-STRUCTURED-LOCATION;VALUE=URI;X-ADDRESS=拝島第二小学校 拝島町3927-2 昭島市 東京都 196-0002 Japan;X-APPLE-RADIUS=500;X-TITLE=拝島町3927-2:geo:139.3424738,35.7050033
END:VEVENT
BEGIN:VEVENT
DTSTART;TZID=Asia/Tokyo:20201115T093000
DTEND;TZID=Asia/Tokyo:20201115T120000
DTSTAMP:20260422T185618
CREATED:20200929T022056Z
LAST-MODIFIED:20200929T022534Z
UID:10003816-1605432600-1605441600@cricket.or.jp
SUMMARY:[:en]Cricket Blast Series Akishima[:ja]クリケットブラストシリーズ昭島[:]
DESCRIPTION:秋シリーズはじまるよ、みんなで参加しよう！\nクリケットブラストシリーズは、だれでも参加できるクリケット (スポーツ) プログラムです！とっても簡単な球技スポーツで打ったり、投げたり、捕ったり、走ったり、を気持ちのいい天然芝の上で楽しめます。 \n  \n初めてのみんな用（ビギナーズコース）と経験者用（ゲームコース）のクリケットプログラムが用意されています。やったことある人もない人も楽しめるスポーツ体験プログラムに参加してみませんか？ \n※開催あたって皆様と共に新型コロナウィルス感染対策を講じ、心身共に健康の向上を目指して参ります。 \n  \nビギナーコース：9:30~10:30 \n初めてクリケットに触れる小学生向けのプログラムです。楽しく体を動かし、クリケットを体験してみましょう！（ボールを捕るゲームや止まっているボールを打つゲームまで楽しさ十分！） \n  \nエキスパートコース：10:45~11:45 \nクリケットを体験したことがある、普段からプレーしている小学生向けのプログラムです。試合を楽しみながら運動能力や協調性、社会性などの向上を図ります。（ペアで行うクリケットゲームや投げ方、打ち方が上手になるよ！） \n  \n参加費：1コース1\,000円、どちらかのコース１つをお選びください。 \nWebからのお申込みはこちらから \n→　http://www.japancricketblast.com/blog/register/ \n  \n持ち物と注意点： \n・ご参加は事前登録をお願いします。 \n・参加当日の体温を測ってください。 \n・マスクの持参と運動時以外での着用 \n・熱中症対策に、汗拭きタオルや水筒など（お友達と共用しない） \n・体調がすぐれなかったり、軽い症状（咳・発熱など）でも大事をとって参加しない判断をしましょう。 \n・当日記載いただく健康チェック表がございます、下記をご確認ください。 \n・氏名、年齢、住所、連絡先（電話番号）、利用当日の体温\n・利用前２週間における以下の事項の有無 \n・平熱を超える発熱\n・咳（せき）、のどの痛みなど風邪の症状\n・だるさ（倦怠（けんたい）感）、息苦しさ（呼吸困難）\n・嗅覚や味覚の異常\n・体が重く感じる、疲れやすい等\n・新型コロナウイルス感染症陽性とされた者との濃厚接触の有無\n・同居家族や身近な知人に感染が疑われる方がいる場合\n・過去１４日以内に政府から入国制限、入国後の観察期間を必要とされている国、地域等への渡航又は当該在住者との濃厚接触がある場合 \n※その他活動中の注意は当日スタッフより説明があります。 \n 
URL:https://cricket.or.jp/event/%e3%82%af%e3%83%aa%e3%82%b1%e3%83%83%e3%83%88%e3%83%96%e3%83%a9%e3%82%b9%e3%83%88%e3%82%b7%e3%83%aa%e3%83%bc%e3%82%ba%e6%98%ad%e5%b3%b6-2/2020-11-15/
LOCATION:拝島第二小学校\, 拝島町3927-2\, 昭島市\, 東京都\, 196-0002\, Japan
CATEGORIES:- 参加／体験 -
GEO:35.7050033;139.3424738
X-APPLE-STRUCTURED-LOCATION;VALUE=URI;X-ADDRESS=拝島第二小学校 拝島町3927-2 昭島市 東京都 196-0002 Japan;X-APPLE-RADIUS=500;X-TITLE=拝島町3927-2:geo:139.3424738,35.7050033
END:VEVENT
BEGIN:VEVENT
DTSTART;TZID=Asia/Tokyo:20201108T093000
DTEND;TZID=Asia/Tokyo:20201108T120000
DTSTAMP:20260422T185618
CREATED:20200929T022056Z
LAST-MODIFIED:20200929T022534Z
UID:10003815-1604827800-1604836800@cricket.or.jp
SUMMARY:[:en]Cricket Blast Series Akishima[:ja]クリケットブラストシリーズ昭島[:]
DESCRIPTION:秋シリーズはじまるよ、みんなで参加しよう！\nクリケットブラストシリーズは、だれでも参加できるクリケット (スポーツ) プログラムです！とっても簡単な球技スポーツで打ったり、投げたり、捕ったり、走ったり、を気持ちのいい天然芝の上で楽しめます。 \n  \n初めてのみんな用（ビギナーズコース）と経験者用（ゲームコース）のクリケットプログラムが用意されています。やったことある人もない人も楽しめるスポーツ体験プログラムに参加してみませんか？ \n※開催あたって皆様と共に新型コロナウィルス感染対策を講じ、心身共に健康の向上を目指して参ります。 \n  \nビギナーコース：9:30~10:30 \n初めてクリケットに触れる小学生向けのプログラムです。楽しく体を動かし、クリケットを体験してみましょう！（ボールを捕るゲームや止まっているボールを打つゲームまで楽しさ十分！） \n  \nエキスパートコース：10:45~11:45 \nクリケットを体験したことがある、普段からプレーしている小学生向けのプログラムです。試合を楽しみながら運動能力や協調性、社会性などの向上を図ります。（ペアで行うクリケットゲームや投げ方、打ち方が上手になるよ！） \n  \n参加費：1コース1\,000円、どちらかのコース１つをお選びください。 \nWebからのお申込みはこちらから \n→　http://www.japancricketblast.com/blog/register/ \n  \n持ち物と注意点： \n・ご参加は事前登録をお願いします。 \n・参加当日の体温を測ってください。 \n・マスクの持参と運動時以外での着用 \n・熱中症対策に、汗拭きタオルや水筒など（お友達と共用しない） \n・体調がすぐれなかったり、軽い症状（咳・発熱など）でも大事をとって参加しない判断をしましょう。 \n・当日記載いただく健康チェック表がございます、下記をご確認ください。 \n・氏名、年齢、住所、連絡先（電話番号）、利用当日の体温\n・利用前２週間における以下の事項の有無 \n・平熱を超える発熱\n・咳（せき）、のどの痛みなど風邪の症状\n・だるさ（倦怠（けんたい）感）、息苦しさ（呼吸困難）\n・嗅覚や味覚の異常\n・体が重く感じる、疲れやすい等\n・新型コロナウイルス感染症陽性とされた者との濃厚接触の有無\n・同居家族や身近な知人に感染が疑われる方がいる場合\n・過去１４日以内に政府から入国制限、入国後の観察期間を必要とされている国、地域等への渡航又は当該在住者との濃厚接触がある場合 \n※その他活動中の注意は当日スタッフより説明があります。 \n 
URL:https://cricket.or.jp/event/%e3%82%af%e3%83%aa%e3%82%b1%e3%83%83%e3%83%88%e3%83%96%e3%83%a9%e3%82%b9%e3%83%88%e3%82%b7%e3%83%aa%e3%83%bc%e3%82%ba%e6%98%ad%e5%b3%b6-2/2020-11-08/
LOCATION:拝島第二小学校\, 拝島町3927-2\, 昭島市\, 東京都\, 196-0002\, Japan
CATEGORIES:- 参加／体験 -
GEO:35.7050033;139.3424738
X-APPLE-STRUCTURED-LOCATION;VALUE=URI;X-ADDRESS=拝島第二小学校 拝島町3927-2 昭島市 東京都 196-0002 Japan;X-APPLE-RADIUS=500;X-TITLE=拝島町3927-2:geo:139.3424738,35.7050033
END:VEVENT
BEGIN:VEVENT
DTSTART;TZID=Asia/Tokyo:20201101T093000
DTEND;TZID=Asia/Tokyo:20201101T120000
DTSTAMP:20260422T185618
CREATED:20200929T022056Z
LAST-MODIFIED:20200929T022534Z
UID:10003814-1604223000-1604232000@cricket.or.jp
SUMMARY:[:en]Cricket Blast Series Akishima[:ja]クリケットブラストシリーズ昭島[:]
DESCRIPTION:秋シリーズはじまるよ、みんなで参加しよう！\nクリケットブラストシリーズは、だれでも参加できるクリケット (スポーツ) プログラムです！とっても簡単な球技スポーツで打ったり、投げたり、捕ったり、走ったり、を気持ちのいい天然芝の上で楽しめます。 \n  \n初めてのみんな用（ビギナーズコース）と経験者用（ゲームコース）のクリケットプログラムが用意されています。やったことある人もない人も楽しめるスポーツ体験プログラムに参加してみませんか？ \n※開催あたって皆様と共に新型コロナウィルス感染対策を講じ、心身共に健康の向上を目指して参ります。 \n  \nビギナーコース：9:30~10:30 \n初めてクリケットに触れる小学生向けのプログラムです。楽しく体を動かし、クリケットを体験してみましょう！（ボールを捕るゲームや止まっているボールを打つゲームまで楽しさ十分！） \n  \nエキスパートコース：10:45~11:45 \nクリケットを体験したことがある、普段からプレーしている小学生向けのプログラムです。試合を楽しみながら運動能力や協調性、社会性などの向上を図ります。（ペアで行うクリケットゲームや投げ方、打ち方が上手になるよ！） \n  \n参加費：1コース1\,000円、どちらかのコース１つをお選びください。 \nWebからのお申込みはこちらから \n→　http://www.japancricketblast.com/blog/register/ \n  \n持ち物と注意点： \n・ご参加は事前登録をお願いします。 \n・参加当日の体温を測ってください。 \n・マスクの持参と運動時以外での着用 \n・熱中症対策に、汗拭きタオルや水筒など（お友達と共用しない） \n・体調がすぐれなかったり、軽い症状（咳・発熱など）でも大事をとって参加しない判断をしましょう。 \n・当日記載いただく健康チェック表がございます、下記をご確認ください。 \n・氏名、年齢、住所、連絡先（電話番号）、利用当日の体温\n・利用前２週間における以下の事項の有無 \n・平熱を超える発熱\n・咳（せき）、のどの痛みなど風邪の症状\n・だるさ（倦怠（けんたい）感）、息苦しさ（呼吸困難）\n・嗅覚や味覚の異常\n・体が重く感じる、疲れやすい等\n・新型コロナウイルス感染症陽性とされた者との濃厚接触の有無\n・同居家族や身近な知人に感染が疑われる方がいる場合\n・過去１４日以内に政府から入国制限、入国後の観察期間を必要とされている国、地域等への渡航又は当該在住者との濃厚接触がある場合 \n※その他活動中の注意は当日スタッフより説明があります。 \n 
URL:https://cricket.or.jp/event/%e3%82%af%e3%83%aa%e3%82%b1%e3%83%83%e3%83%88%e3%83%96%e3%83%a9%e3%82%b9%e3%83%88%e3%82%b7%e3%83%aa%e3%83%bc%e3%82%ba%e6%98%ad%e5%b3%b6-2/2020-11-01/
LOCATION:拝島第二小学校\, 拝島町3927-2\, 昭島市\, 東京都\, 196-0002\, Japan
CATEGORIES:- 参加／体験 -
GEO:35.7050033;139.3424738
X-APPLE-STRUCTURED-LOCATION;VALUE=URI;X-ADDRESS=拝島第二小学校 拝島町3927-2 昭島市 東京都 196-0002 Japan;X-APPLE-RADIUS=500;X-TITLE=拝島町3927-2:geo:139.3424738,35.7050033
END:VEVENT
BEGIN:VEVENT
DTSTART;TZID=Asia/Tokyo:20191117T093000
DTEND;TZID=Asia/Tokyo:20191117T120000
DTSTAMP:20260422T185618
CREATED:20190924T070750Z
LAST-MODIFIED:20190924T074759Z
UID:10003794-1573983000-1573992000@cricket.or.jp
SUMMARY:[:en]Cricket Blast Series Akishima[:ja]クリケットブラストシリーズ・昭島[:]
DESCRIPTION:ビギナーコース：9:30~10:30 \n初めてクリケットに触れる小学生向けのプログラムです。楽しく体を動かし、クリケットを体験してみましょう！ \nエキスパートコース：10:30~12:00 \nクリケットを体験したことがある、普段からプレーしている小学生向けのプログラムです。試合を楽しみながら運動能力や協調性、社会性などの向上を図ります。 \n参加費：1コース1\,000円、２コース参加1\,500円（初回無料） \n  \n第一回目: 2019年9月27日(日)：昭島市立拝島第二小学校　(拝島町3927－2） \n第二回目: 2019年10月3日(日)：昭島市立拝島第二小学校　(拝島町3927－2） \n第三回目: 2019年11月10日(日)：昭和公園陸上競技場（東町５丁目２） \n※三回目のみ陸上競技場となります。／なお、同日開催の市長杯には別途申し込みが必要となります。 \n第四回目: 2019年11月17日(日)：昭島市立拝島第二小学校　(拝島町3927－2） \nWebからのお申込みはこちらから \n→　http://www.japancricketblast.com/blog/register/
URL:https://cricket.or.jp/event/akishima-autumnseries-2019/2019-11-17/
LOCATION:拝島第二小学校\, 拝島町3927-2\, 昭島市\, 東京都\, 196-0002\, Japan
CATEGORIES:- 参加／体験 -
GEO:35.7050033;139.3424738
X-APPLE-STRUCTURED-LOCATION;VALUE=URI;X-ADDRESS=拝島第二小学校 拝島町3927-2 昭島市 東京都 196-0002 Japan;X-APPLE-RADIUS=500;X-TITLE=拝島町3927-2:geo:139.3424738,35.7050033
END:VEVENT
BEGIN:VEVENT
DTSTART;TZID=Asia/Tokyo:20191110T093000
DTEND;TZID=Asia/Tokyo:20191110T120000
DTSTAMP:20260422T185618
CREATED:20190924T070750Z
LAST-MODIFIED:20190924T074759Z
UID:10003793-1573378200-1573387200@cricket.or.jp
SUMMARY:[:en]Cricket Blast Series Akishima[:ja]クリケットブラストシリーズ・昭島[:]
DESCRIPTION:ビギナーコース：9:30~10:30 \n初めてクリケットに触れる小学生向けのプログラムです。楽しく体を動かし、クリケットを体験してみましょう！ \nエキスパートコース：10:30~12:00 \nクリケットを体験したことがある、普段からプレーしている小学生向けのプログラムです。試合を楽しみながら運動能力や協調性、社会性などの向上を図ります。 \n参加費：1コース1\,000円、２コース参加1\,500円（初回無料） \n  \n第一回目: 2019年9月27日(日)：昭島市立拝島第二小学校　(拝島町3927－2） \n第二回目: 2019年10月3日(日)：昭島市立拝島第二小学校　(拝島町3927－2） \n第三回目: 2019年11月10日(日)：昭和公園陸上競技場（東町５丁目２） \n※三回目のみ陸上競技場となります。／なお、同日開催の市長杯には別途申し込みが必要となります。 \n第四回目: 2019年11月17日(日)：昭島市立拝島第二小学校　(拝島町3927－2） \nWebからのお申込みはこちらから \n→　http://www.japancricketblast.com/blog/register/
URL:https://cricket.or.jp/event/akishima-autumnseries-2019/2019-11-10/
LOCATION:拝島第二小学校\, 拝島町3927-2\, 昭島市\, 東京都\, 196-0002\, Japan
CATEGORIES:- 参加／体験 -
GEO:35.7050033;139.3424738
X-APPLE-STRUCTURED-LOCATION;VALUE=URI;X-ADDRESS=拝島第二小学校 拝島町3927-2 昭島市 東京都 196-0002 Japan;X-APPLE-RADIUS=500;X-TITLE=拝島町3927-2:geo:139.3424738,35.7050033
END:VEVENT
BEGIN:VEVENT
DTSTART;TZID=Asia/Tokyo:20191103T093000
DTEND;TZID=Asia/Tokyo:20191103T120000
DTSTAMP:20260422T185618
CREATED:20190924T070750Z
LAST-MODIFIED:20190924T074759Z
UID:10003792-1572773400-1572782400@cricket.or.jp
SUMMARY:[:en]Cricket Blast Series Akishima[:ja]クリケットブラストシリーズ・昭島[:]
DESCRIPTION:ビギナーコース：9:30~10:30 \n初めてクリケットに触れる小学生向けのプログラムです。楽しく体を動かし、クリケットを体験してみましょう！ \nエキスパートコース：10:30~12:00 \nクリケットを体験したことがある、普段からプレーしている小学生向けのプログラムです。試合を楽しみながら運動能力や協調性、社会性などの向上を図ります。 \n参加費：1コース1\,000円、２コース参加1\,500円（初回無料） \n  \n第一回目: 2019年9月27日(日)：昭島市立拝島第二小学校　(拝島町3927－2） \n第二回目: 2019年10月3日(日)：昭島市立拝島第二小学校　(拝島町3927－2） \n第三回目: 2019年11月10日(日)：昭和公園陸上競技場（東町５丁目２） \n※三回目のみ陸上競技場となります。／なお、同日開催の市長杯には別途申し込みが必要となります。 \n第四回目: 2019年11月17日(日)：昭島市立拝島第二小学校　(拝島町3927－2） \nWebからのお申込みはこちらから \n→　http://www.japancricketblast.com/blog/register/
URL:https://cricket.or.jp/event/akishima-autumnseries-2019/2019-11-03/
LOCATION:拝島第二小学校\, 拝島町3927-2\, 昭島市\, 東京都\, 196-0002\, Japan
CATEGORIES:- 参加／体験 -
GEO:35.7050033;139.3424738
X-APPLE-STRUCTURED-LOCATION;VALUE=URI;X-ADDRESS=拝島第二小学校 拝島町3927-2 昭島市 東京都 196-0002 Japan;X-APPLE-RADIUS=500;X-TITLE=拝島町3927-2:geo:139.3424738,35.7050033
END:VEVENT
BEGIN:VEVENT
DTSTART;TZID=Asia/Tokyo:20191027T093000
DTEND;TZID=Asia/Tokyo:20191027T120000
DTSTAMP:20260422T185618
CREATED:20190924T070750Z
LAST-MODIFIED:20190924T074759Z
UID:10003791-1572168600-1572177600@cricket.or.jp
SUMMARY:[:en]Cricket Blast Series Akishima[:ja]クリケットブラストシリーズ・昭島[:]
DESCRIPTION:ビギナーコース：9:30~10:30 \n初めてクリケットに触れる小学生向けのプログラムです。楽しく体を動かし、クリケットを体験してみましょう！ \nエキスパートコース：10:30~12:00 \nクリケットを体験したことがある、普段からプレーしている小学生向けのプログラムです。試合を楽しみながら運動能力や協調性、社会性などの向上を図ります。 \n参加費：1コース1\,000円、２コース参加1\,500円（初回無料） \n  \n第一回目: 2019年9月27日(日)：昭島市立拝島第二小学校　(拝島町3927－2） \n第二回目: 2019年10月3日(日)：昭島市立拝島第二小学校　(拝島町3927－2） \n第三回目: 2019年11月10日(日)：昭和公園陸上競技場（東町５丁目２） \n※三回目のみ陸上競技場となります。／なお、同日開催の市長杯には別途申し込みが必要となります。 \n第四回目: 2019年11月17日(日)：昭島市立拝島第二小学校　(拝島町3927－2） \nWebからのお申込みはこちらから \n→　http://www.japancricketblast.com/blog/register/
URL:https://cricket.or.jp/event/akishima-autumnseries-2019/2019-10-27/
LOCATION:拝島第二小学校\, 拝島町3927-2\, 昭島市\, 東京都\, 196-0002\, Japan
CATEGORIES:- 参加／体験 -
GEO:35.7050033;139.3424738
X-APPLE-STRUCTURED-LOCATION;VALUE=URI;X-ADDRESS=拝島第二小学校 拝島町3927-2 昭島市 東京都 196-0002 Japan;X-APPLE-RADIUS=500;X-TITLE=拝島町3927-2:geo:139.3424738,35.7050033
END:VEVENT
BEGIN:VEVENT
DTSTART;TZID=Asia/Tokyo:20190707T090000
DTEND;TZID=Asia/Tokyo:20190707T113000
DTSTAMP:20260422T185618
CREATED:20190510T051654Z
LAST-MODIFIED:20190510T054334Z
UID:10003757-1562490000-1562499000@cricket.or.jp
SUMMARY:[:en]Cricket Blast Series Akishima[:ja]クリケットブラストシリーズ昭島[:]
DESCRIPTION:ビギナーコース：9:00~10:00 \n初めてクリケットに触れる小学生向けのプログラムです。楽しく体を動かし、クリケットを体験してみましょう！ \nエキスパートコース：10:00~11:30 \nクリケットを体験したことがある、普段からプレーしている小学生向けのプログラムです。試合を楽しみながら運動能力や協調性、社会性などの向上を図ります。 \n参加費：1コース1\,000円、２コース参加1\,500円（初回無料） \n  \n＜会場（初回のみ陸上競技場となります。）＞ \n第一回目 \n2019年6月16日(日)：昭和公園陸上競技場（東町５丁目２） \n第二～四回目 \n2019年6月23日(日)：昭島市立拝島第二小学校　(拝島町3927－2） \n2019年6月30日(日)：昭島市立拝島第二小学校　(拝島町3927－2） \n2019年7月7日(日)：昭島市立拝島第二小学校　(拝島町3927－2）
URL:https://cricket.or.jp/event/%e3%82%af%e3%83%aa%e3%82%b1%e3%83%83%e3%83%88%e3%83%96%e3%83%a9%e3%82%b9%e3%83%88%e3%82%b7%e3%83%aa%e3%83%bc%e3%82%ba%e6%98%ad%e5%b3%b6/2019-07-07/
LOCATION:拝島第二小学校\, 拝島町3927-2\, 昭島市\, 東京都\, 196-0002\, Japan
ATTACH;FMTTYPE=image/jpeg:https://cricket.or.jp/wp-content/uploads/2018/03/Best-of-Sano-Blast-26-scaled.jpg
GEO:35.7050033;139.3424738
X-APPLE-STRUCTURED-LOCATION;VALUE=URI;X-ADDRESS=拝島第二小学校 拝島町3927-2 昭島市 東京都 196-0002 Japan;X-APPLE-RADIUS=500;X-TITLE=拝島町3927-2:geo:139.3424738,35.7050033
END:VEVENT
BEGIN:VEVENT
DTSTART;TZID=Asia/Tokyo:20190630T090000
DTEND;TZID=Asia/Tokyo:20190630T113000
DTSTAMP:20260422T185618
CREATED:20190510T051654Z
LAST-MODIFIED:20190510T054334Z
UID:10003756-1561885200-1561894200@cricket.or.jp
SUMMARY:[:en]Cricket Blast Series Akishima[:ja]クリケットブラストシリーズ昭島[:]
DESCRIPTION:ビギナーコース：9:00~10:00 \n初めてクリケットに触れる小学生向けのプログラムです。楽しく体を動かし、クリケットを体験してみましょう！ \nエキスパートコース：10:00~11:30 \nクリケットを体験したことがある、普段からプレーしている小学生向けのプログラムです。試合を楽しみながら運動能力や協調性、社会性などの向上を図ります。 \n参加費：1コース1\,000円、２コース参加1\,500円（初回無料） \n  \n＜会場（初回のみ陸上競技場となります。）＞ \n第一回目 \n2019年6月16日(日)：昭和公園陸上競技場（東町５丁目２） \n第二～四回目 \n2019年6月23日(日)：昭島市立拝島第二小学校　(拝島町3927－2） \n2019年6月30日(日)：昭島市立拝島第二小学校　(拝島町3927－2） \n2019年7月7日(日)：昭島市立拝島第二小学校　(拝島町3927－2）
URL:https://cricket.or.jp/event/%e3%82%af%e3%83%aa%e3%82%b1%e3%83%83%e3%83%88%e3%83%96%e3%83%a9%e3%82%b9%e3%83%88%e3%82%b7%e3%83%aa%e3%83%bc%e3%82%ba%e6%98%ad%e5%b3%b6/2019-06-30/
LOCATION:拝島第二小学校\, 拝島町3927-2\, 昭島市\, 東京都\, 196-0002\, Japan
ATTACH;FMTTYPE=image/jpeg:https://cricket.or.jp/wp-content/uploads/2018/03/Best-of-Sano-Blast-26-scaled.jpg
GEO:35.7050033;139.3424738
X-APPLE-STRUCTURED-LOCATION;VALUE=URI;X-ADDRESS=拝島第二小学校 拝島町3927-2 昭島市 東京都 196-0002 Japan;X-APPLE-RADIUS=500;X-TITLE=拝島町3927-2:geo:139.3424738,35.7050033
END:VEVENT
BEGIN:VEVENT
DTSTART;TZID=Asia/Tokyo:20190623T090000
DTEND;TZID=Asia/Tokyo:20190623T113000
DTSTAMP:20260422T185618
CREATED:20190510T051654Z
LAST-MODIFIED:20190510T054334Z
UID:10003755-1561280400-1561289400@cricket.or.jp
SUMMARY:[:en]Cricket Blast Series Akishima[:ja]クリケットブラストシリーズ昭島[:]
DESCRIPTION:ビギナーコース：9:00~10:00 \n初めてクリケットに触れる小学生向けのプログラムです。楽しく体を動かし、クリケットを体験してみましょう！ \nエキスパートコース：10:00~11:30 \nクリケットを体験したことがある、普段からプレーしている小学生向けのプログラムです。試合を楽しみながら運動能力や協調性、社会性などの向上を図ります。 \n参加費：1コース1\,000円、２コース参加1\,500円（初回無料） \n  \n＜会場（初回のみ陸上競技場となります。）＞ \n第一回目 \n2019年6月16日(日)：昭和公園陸上競技場（東町５丁目２） \n第二～四回目 \n2019年6月23日(日)：昭島市立拝島第二小学校　(拝島町3927－2） \n2019年6月30日(日)：昭島市立拝島第二小学校　(拝島町3927－2） \n2019年7月7日(日)：昭島市立拝島第二小学校　(拝島町3927－2）
URL:https://cricket.or.jp/event/%e3%82%af%e3%83%aa%e3%82%b1%e3%83%83%e3%83%88%e3%83%96%e3%83%a9%e3%82%b9%e3%83%88%e3%82%b7%e3%83%aa%e3%83%bc%e3%82%ba%e6%98%ad%e5%b3%b6/2019-06-23/
LOCATION:拝島第二小学校\, 拝島町3927-2\, 昭島市\, 東京都\, 196-0002\, Japan
ATTACH;FMTTYPE=image/jpeg:https://cricket.or.jp/wp-content/uploads/2018/03/Best-of-Sano-Blast-26-scaled.jpg
GEO:35.7050033;139.3424738
X-APPLE-STRUCTURED-LOCATION;VALUE=URI;X-ADDRESS=拝島第二小学校 拝島町3927-2 昭島市 東京都 196-0002 Japan;X-APPLE-RADIUS=500;X-TITLE=拝島町3927-2:geo:139.3424738,35.7050033
END:VEVENT
END:VCALENDAR