BEGIN:VCALENDAR
VERSION:2.0
PRODID:-//Japan Cricket Association - ECPv6.15.12.2//NONSGML v1.0//EN
CALSCALE:GREGORIAN
METHOD:PUBLISH
X-WR-CALNAME:Japan Cricket Association
X-ORIGINAL-URL:https://cricket.or.jp
X-WR-CALDESC:Japan Cricket Association のイベント
REFRESH-INTERVAL;VALUE=DURATION:PT1H
X-Robots-Tag:noindex
X-PUBLISHED-TTL:PT1H
BEGIN:VTIMEZONE
TZID:Asia/Tokyo
BEGIN:STANDARD
TZOFFSETFROM:+0900
TZOFFSETTO:+0900
TZNAME:JST
DTSTART:20200101T000000
END:STANDARD
END:VTIMEZONE
BEGIN:VEVENT
DTSTART;TZID=Asia/Tokyo:20211127T093000
DTEND;TZID=Asia/Tokyo:20211127T103000
DTSTAMP:20260422T130009
CREATED:20210924T053101Z
LAST-MODIFIED:20211110T014911Z
UID:10003851-1638005400-1638009000@cricket.or.jp
SUMMARY:[:en]Cricket Blast Series Kaizuka [:ja]クリケットブラストシリーズ in 貝塚（クリケットフィールドオープニング記念！）[:]
DESCRIPTION:  \n＜クリケットブラストシリーズ in 貝塚（クリケットフィールドオープニング記念！）＞ \nプログラム： \n9:00 会場＆受付開始 \n9:30 クリケットブラスト・シリーズ　開始 \n10:30 片付け＆終了 \n  \n初めてクリケットに触れる小学生向けのプログラムです。楽しく体を動かし、クリケットを体験してみましょう！「投げる」、バットを使って「打つ」、「走って」得点するなど野球のルールに近いスポーツです。みんな初心者なので同じスタートラインにたてて、新しいお友達も作りましょう！ \n参加費： 無料（貝塚クリケットフィールドオープニング記念） \n場所：「貝塚市立クリケットフィールド」 \n※雨天時は中止となります、予めご了承ください。 \n※事前予約制 \n  \nお申込みは「 kaizukacricket@gmail.com 」のメールアドレスに①参加者氏名、②保護者氏名、③性別、④小学校／学年、⑤メールアドレス、⑥緊急連絡先をご記入の上お申し込みください。 \n \n 
URL:https://cricket.or.jp/event/kaizuka-cbs/2021-11-27/
LOCATION:貝塚市立クリケットフィールド\, 橋本１５１７\, 貝塚市\, 大阪府\, 〒597-0043\, Japan
CATEGORIES:- 参加／体験 -
ATTACH;FMTTYPE=image/png:https://cricket.or.jp/wp-content/uploads/2016/05/cricket_blast_logo.png
END:VEVENT
BEGIN:VEVENT
DTSTART;TZID=Asia/Tokyo:20211120T093000
DTEND;TZID=Asia/Tokyo:20211120T103000
DTSTAMP:20260422T130009
CREATED:20210924T053101Z
LAST-MODIFIED:20211110T014911Z
UID:10003850-1637400600-1637404200@cricket.or.jp
SUMMARY:[:en]Cricket Blast Series Kaizuka [:ja]クリケットブラストシリーズ in 貝塚（クリケットフィールドオープニング記念！）[:]
DESCRIPTION:  \n＜クリケットブラストシリーズ in 貝塚（クリケットフィールドオープニング記念！）＞ \nプログラム： \n9:00 会場＆受付開始 \n9:30 クリケットブラスト・シリーズ　開始 \n10:30 片付け＆終了 \n  \n初めてクリケットに触れる小学生向けのプログラムです。楽しく体を動かし、クリケットを体験してみましょう！「投げる」、バットを使って「打つ」、「走って」得点するなど野球のルールに近いスポーツです。みんな初心者なので同じスタートラインにたてて、新しいお友達も作りましょう！ \n参加費： 無料（貝塚クリケットフィールドオープニング記念） \n場所：「貝塚市立クリケットフィールド」 \n※雨天時は中止となります、予めご了承ください。 \n※事前予約制 \n  \nお申込みは「 kaizukacricket@gmail.com 」のメールアドレスに①参加者氏名、②保護者氏名、③性別、④小学校／学年、⑤メールアドレス、⑥緊急連絡先をご記入の上お申し込みください。 \n \n 
URL:https://cricket.or.jp/event/kaizuka-cbs/2021-11-20/
LOCATION:貝塚市立クリケットフィールド\, 橋本１５１７\, 貝塚市\, 大阪府\, 〒597-0043\, Japan
CATEGORIES:- 参加／体験 -
ATTACH;FMTTYPE=image/png:https://cricket.or.jp/wp-content/uploads/2016/05/cricket_blast_logo.png
END:VEVENT
BEGIN:VEVENT
DTSTART;TZID=Asia/Tokyo:20211106T093000
DTEND;TZID=Asia/Tokyo:20211106T103000
DTSTAMP:20260422T130009
CREATED:20210924T053101Z
LAST-MODIFIED:20211110T014911Z
UID:10003849-1636191000-1636194600@cricket.or.jp
SUMMARY:[:en]Cricket Blast Series Kaizuka [:ja]クリケットブラストシリーズ in 貝塚（クリケットフィールドオープニング記念！）[:]
DESCRIPTION:  \n＜クリケットブラストシリーズ in 貝塚（クリケットフィールドオープニング記念！）＞ \nプログラム： \n9:00 会場＆受付開始 \n9:30 クリケットブラスト・シリーズ　開始 \n10:30 片付け＆終了 \n  \n初めてクリケットに触れる小学生向けのプログラムです。楽しく体を動かし、クリケットを体験してみましょう！「投げる」、バットを使って「打つ」、「走って」得点するなど野球のルールに近いスポーツです。みんな初心者なので同じスタートラインにたてて、新しいお友達も作りましょう！ \n参加費： 無料（貝塚クリケットフィールドオープニング記念） \n場所：「貝塚市立クリケットフィールド」 \n※雨天時は中止となります、予めご了承ください。 \n※事前予約制 \n  \nお申込みは「 kaizukacricket@gmail.com 」のメールアドレスに①参加者氏名、②保護者氏名、③性別、④小学校／学年、⑤メールアドレス、⑥緊急連絡先をご記入の上お申し込みください。 \n \n 
URL:https://cricket.or.jp/event/kaizuka-cbs/2021-11-06/
LOCATION:貝塚市立クリケットフィールド\, 橋本１５１７\, 貝塚市\, 大阪府\, 〒597-0043\, Japan
CATEGORIES:- 参加／体験 -
ATTACH;FMTTYPE=image/png:https://cricket.or.jp/wp-content/uploads/2016/05/cricket_blast_logo.png
END:VEVENT
BEGIN:VEVENT
DTSTART;TZID=Asia/Tokyo:20211103T093000
DTEND;TZID=Asia/Tokyo:20211103T103000
DTSTAMP:20260422T130009
CREATED:20210924T053101Z
LAST-MODIFIED:20211110T014911Z
UID:10003848-1635931800-1635935400@cricket.or.jp
SUMMARY:[:en]Cricket Blast Series Kaizuka [:ja]クリケットブラストシリーズ in 貝塚（クリケットフィールドオープニング記念！）[:]
DESCRIPTION:  \n＜クリケットブラストシリーズ in 貝塚（クリケットフィールドオープニング記念！）＞ \nプログラム： \n9:00 会場＆受付開始 \n9:30 クリケットブラスト・シリーズ　開始 \n10:30 片付け＆終了 \n  \n初めてクリケットに触れる小学生向けのプログラムです。楽しく体を動かし、クリケットを体験してみましょう！「投げる」、バットを使って「打つ」、「走って」得点するなど野球のルールに近いスポーツです。みんな初心者なので同じスタートラインにたてて、新しいお友達も作りましょう！ \n参加費： 無料（貝塚クリケットフィールドオープニング記念） \n場所：「貝塚市立クリケットフィールド」 \n※雨天時は中止となります、予めご了承ください。 \n※事前予約制 \n  \nお申込みは「 kaizukacricket@gmail.com 」のメールアドレスに①参加者氏名、②保護者氏名、③性別、④小学校／学年、⑤メールアドレス、⑥緊急連絡先をご記入の上お申し込みください。 \n \n 
URL:https://cricket.or.jp/event/kaizuka-cbs/2021-11-03/
LOCATION:貝塚市立クリケットフィールド\, 橋本１５１７\, 貝塚市\, 大阪府\, 〒597-0043\, Japan
CATEGORIES:- 参加／体験 -
ATTACH;FMTTYPE=image/png:https://cricket.or.jp/wp-content/uploads/2016/05/cricket_blast_logo.png
END:VEVENT
END:VCALENDAR