BEGIN:VCALENDAR
VERSION:2.0
PRODID:-//Japan Cricket Association - ECPv6.15.12.2//NONSGML v1.0//EN
CALSCALE:GREGORIAN
METHOD:PUBLISH
X-ORIGINAL-URL:https://cricket.or.jp
X-WR-CALDESC:Japan Cricket Association のイベント
REFRESH-INTERVAL;VALUE=DURATION:PT1H
X-Robots-Tag:noindex
X-PUBLISHED-TTL:PT1H
BEGIN:VTIMEZONE
TZID:Asia/Tokyo
BEGIN:STANDARD
TZOFFSETFROM:+0900
TZOFFSETTO:+0900
TZNAME:JST
DTSTART:20220101T000000
END:STANDARD
END:VTIMEZONE
BEGIN:VEVENT
DTSTART;TZID=Asia/Tokyo:20241123T092000
DTEND;TZID=Asia/Tokyo:20241123T113000
DTSTAMP:20260419T200443
CREATED:20240227T020118Z
LAST-MODIFIED:20240927T020829Z
UID:10003357-1732353600-1732361400@cricket.or.jp
SUMMARY:[:en]Cricket Blast Series in Kaizuka[:ja]第5回 クリケットブラスト・シリーズ in 貝塚[:]
DESCRIPTION:今年は秋もクリケットブラストシリーズを開催‼ \nシリーズ型の小学生対象クリケット体験イベント「クリケットブラスト・シリーズ in 貝塚」を11月に開催します！ \n2028年ロサンゼルス五輪の種目にも追加された世界的大人気スポーツ「クリケット」を貝塚で体験してみませんか？ \n日程\n\n11/2(土)\n11/9(土)\n11/16(土)\n11/23(土)\n\n時間\n\nエンジョイコース：9:20~10:20\n\n主に小学生低学年～中学年を対象としたコースで、ボールを捕ったり投げたり打ったりするゲームを楽しみながらクリケットに触れるコースです。\n\n\nゲームコース：10:30~11:30\n\n主に小学生中学年～高学年を対象としたコースで、簡易版クリケットの形式でゲームを楽しみます。ワンバウンドのボールを打って、走って、あなたは何点とれるかな？もちろん、初めてクリケットする君も大歓迎！\n\n\n\n参加費無料！\n会場\n\n大阪河﨑リハビリテーション大学　グラウンド及び体育館　Google map\n\nお申込み\n\nhttps://forms.gle/o5xpN8rZ5XkjpcRMA
URL:https://cricket.or.jp/event/%e7%ac%ac5%e5%9b%9e-%e3%82%af%e3%83%aa%e3%82%b1%e3%83%83%e3%83%88%e3%83%96%e3%83%a9%e3%82%b9%e3%83%88%e3%83%bb%e3%82%b7%e3%83%aa%e3%83%bc%e3%82%ba-in-%e8%b2%9d%e5%a1%9a/2024-11-23/
LOCATION:Osaka Kawasaki Rehabilitation University(大阪河﨑リハビリテーション大学)体育館\, 東山７丁目８−１\, 貝塚市\, 大阪府\, 597-0046\, Japan
CATEGORIES:- 参加／体験 -,- 講習会 -
ATTACH;FMTTYPE=image/jpeg:https://cricket.or.jp/wp-content/uploads/2024/09/cricket_blast_logo.jpg
END:VEVENT
BEGIN:VEVENT
DTSTART;TZID=Asia/Tokyo:20241116T092000
DTEND;TZID=Asia/Tokyo:20241116T113000
DTSTAMP:20260419T200443
CREATED:20240227T020118Z
LAST-MODIFIED:20240927T020829Z
UID:10003356-1731748800-1731756600@cricket.or.jp
SUMMARY:[:en]Cricket Blast Series in Kaizuka[:ja]第5回 クリケットブラスト・シリーズ in 貝塚[:]
DESCRIPTION:今年は秋もクリケットブラストシリーズを開催‼ \nシリーズ型の小学生対象クリケット体験イベント「クリケットブラスト・シリーズ in 貝塚」を11月に開催します！ \n2028年ロサンゼルス五輪の種目にも追加された世界的大人気スポーツ「クリケット」を貝塚で体験してみませんか？ \n日程\n\n11/2(土)\n11/9(土)\n11/16(土)\n11/23(土)\n\n時間\n\nエンジョイコース：9:20~10:20\n\n主に小学生低学年～中学年を対象としたコースで、ボールを捕ったり投げたり打ったりするゲームを楽しみながらクリケットに触れるコースです。\n\n\nゲームコース：10:30~11:30\n\n主に小学生中学年～高学年を対象としたコースで、簡易版クリケットの形式でゲームを楽しみます。ワンバウンドのボールを打って、走って、あなたは何点とれるかな？もちろん、初めてクリケットする君も大歓迎！\n\n\n\n参加費無料！\n会場\n\n大阪河﨑リハビリテーション大学　グラウンド及び体育館　Google map\n\nお申込み\n\nhttps://forms.gle/o5xpN8rZ5XkjpcRMA
URL:https://cricket.or.jp/event/%e7%ac%ac5%e5%9b%9e-%e3%82%af%e3%83%aa%e3%82%b1%e3%83%83%e3%83%88%e3%83%96%e3%83%a9%e3%82%b9%e3%83%88%e3%83%bb%e3%82%b7%e3%83%aa%e3%83%bc%e3%82%ba-in-%e8%b2%9d%e5%a1%9a/2024-11-16/
LOCATION:Osaka Kawasaki Rehabilitation University(大阪河﨑リハビリテーション大学)体育館\, 東山７丁目８−１\, 貝塚市\, 大阪府\, 597-0046\, Japan
CATEGORIES:- 参加／体験 -,- 講習会 -
ATTACH;FMTTYPE=image/jpeg:https://cricket.or.jp/wp-content/uploads/2024/09/cricket_blast_logo.jpg
END:VEVENT
BEGIN:VEVENT
DTSTART;TZID=Asia/Tokyo:20241109T092000
DTEND;TZID=Asia/Tokyo:20241109T113000
DTSTAMP:20260419T200443
CREATED:20240227T020118Z
LAST-MODIFIED:20240927T020829Z
UID:10003355-1731144000-1731151800@cricket.or.jp
SUMMARY:[:en]Cricket Blast Series in Kaizuka[:ja]第5回 クリケットブラスト・シリーズ in 貝塚[:]
DESCRIPTION:今年は秋もクリケットブラストシリーズを開催‼ \nシリーズ型の小学生対象クリケット体験イベント「クリケットブラスト・シリーズ in 貝塚」を11月に開催します！ \n2028年ロサンゼルス五輪の種目にも追加された世界的大人気スポーツ「クリケット」を貝塚で体験してみませんか？ \n日程\n\n11/2(土)\n11/9(土)\n11/16(土)\n11/23(土)\n\n時間\n\nエンジョイコース：9:20~10:20\n\n主に小学生低学年～中学年を対象としたコースで、ボールを捕ったり投げたり打ったりするゲームを楽しみながらクリケットに触れるコースです。\n\n\nゲームコース：10:30~11:30\n\n主に小学生中学年～高学年を対象としたコースで、簡易版クリケットの形式でゲームを楽しみます。ワンバウンドのボールを打って、走って、あなたは何点とれるかな？もちろん、初めてクリケットする君も大歓迎！\n\n\n\n参加費無料！\n会場\n\n大阪河﨑リハビリテーション大学　グラウンド及び体育館　Google map\n\nお申込み\n\nhttps://forms.gle/o5xpN8rZ5XkjpcRMA
URL:https://cricket.or.jp/event/%e7%ac%ac5%e5%9b%9e-%e3%82%af%e3%83%aa%e3%82%b1%e3%83%83%e3%83%88%e3%83%96%e3%83%a9%e3%82%b9%e3%83%88%e3%83%bb%e3%82%b7%e3%83%aa%e3%83%bc%e3%82%ba-in-%e8%b2%9d%e5%a1%9a/2024-11-09/
LOCATION:Osaka Kawasaki Rehabilitation University(大阪河﨑リハビリテーション大学)体育館\, 東山７丁目８−１\, 貝塚市\, 大阪府\, 597-0046\, Japan
CATEGORIES:- 参加／体験 -,- 講習会 -
ATTACH;FMTTYPE=image/jpeg:https://cricket.or.jp/wp-content/uploads/2024/09/cricket_blast_logo.jpg
END:VEVENT
BEGIN:VEVENT
DTSTART;TZID=Asia/Tokyo:20241102T092000
DTEND;TZID=Asia/Tokyo:20241102T113000
DTSTAMP:20260419T200443
CREATED:20240227T020118Z
LAST-MODIFIED:20240927T020829Z
UID:10003354-1730539200-1730547000@cricket.or.jp
SUMMARY:[:en]Cricket Blast Series in Kaizuka[:ja]第5回 クリケットブラスト・シリーズ in 貝塚[:]
DESCRIPTION:今年は秋もクリケットブラストシリーズを開催‼ \nシリーズ型の小学生対象クリケット体験イベント「クリケットブラスト・シリーズ in 貝塚」を11月に開催します！ \n2028年ロサンゼルス五輪の種目にも追加された世界的大人気スポーツ「クリケット」を貝塚で体験してみませんか？ \n日程\n\n11/2(土)\n11/9(土)\n11/16(土)\n11/23(土)\n\n時間\n\nエンジョイコース：9:20~10:20\n\n主に小学生低学年～中学年を対象としたコースで、ボールを捕ったり投げたり打ったりするゲームを楽しみながらクリケットに触れるコースです。\n\n\nゲームコース：10:30~11:30\n\n主に小学生中学年～高学年を対象としたコースで、簡易版クリケットの形式でゲームを楽しみます。ワンバウンドのボールを打って、走って、あなたは何点とれるかな？もちろん、初めてクリケットする君も大歓迎！\n\n\n\n参加費無料！\n会場\n\n大阪河﨑リハビリテーション大学　グラウンド及び体育館　Google map\n\nお申込み\n\nhttps://forms.gle/o5xpN8rZ5XkjpcRMA
URL:https://cricket.or.jp/event/%e7%ac%ac5%e5%9b%9e-%e3%82%af%e3%83%aa%e3%82%b1%e3%83%83%e3%83%88%e3%83%96%e3%83%a9%e3%82%b9%e3%83%88%e3%83%bb%e3%82%b7%e3%83%aa%e3%83%bc%e3%82%ba-in-%e8%b2%9d%e5%a1%9a/2024-11-02/
LOCATION:Osaka Kawasaki Rehabilitation University(大阪河﨑リハビリテーション大学)体育館\, 東山７丁目８−１\, 貝塚市\, 大阪府\, 597-0046\, Japan
CATEGORIES:- 参加／体験 -,- 講習会 -
ATTACH;FMTTYPE=image/jpeg:https://cricket.or.jp/wp-content/uploads/2024/09/cricket_blast_logo.jpg
END:VEVENT
BEGIN:VEVENT
DTSTART;VALUE=DATE:20240629
DTEND;VALUE=DATE:20240630
DTSTAMP:20260419T200443
CREATED:20240227T014802Z
LAST-MODIFIED:20240416T090609Z
UID:10003353-1719619200-1719705599@cricket.or.jp
SUMMARY:[:en]Cricket Blast Series in Kaizuka[:ja]第4回 クリケットブラスト・シリーズ in 貝塚[:]
DESCRIPTION:シリーズ型の小学生対象クリケット体験イベント「クリケットブラスト・シリーズ in 貝塚」を今年も6月に開催します！ \n2028年ロサンゼルス五輪の種目にも追加された世界的大人気スポーツ「クリケット」を貝塚で体験してみませんか？ \n\n\n日程\n\n6月8日(土)\n6月15日(土)\n6月22日(土)\n6月29日(土)\n\n\n時間\n\n9:20-10:20 エンジョイコース(レベル★☆☆)*\n10:30-11:30 ゲームコース(レベル★★☆)**\n\n*エンジョイコースは主に小学生低学年～中学年を対象としたコースで、ボールを取ったり投げたり、打ったりするゲームを楽しみながらクリケットに触れるコースです。\n**ゲームコースは主に小学生中学年～高学年を対象としたコースで、簡易版クリケットの形式でゲームを楽しみます。ワンバウンドのボールを打って走って、君は何点とれるかな！？もちろん、初めて参加する君も大歓迎！\n\n\n\n\n参加料\n\n1人1回500円（4週連続で参加すると最終回無料＆景品がもらえます）\n\n\n会場\n\n大阪河﨑リハビリテーション大学グラウンド\n貝塚市立ドローン・クリケットフィールド（第4週のみ）\n\n\nお申込み\n\nhttps://forms.gle/VrbCcuKbeN6r8kPHA
URL:https://cricket.or.jp/event/%e7%ac%ac4%e5%9b%9e-%e3%82%af%e3%83%aa%e3%82%b1%e3%83%83%e3%83%88%e3%83%96%e3%83%a9%e3%82%b9%e3%83%88%e3%83%bb%e3%82%b7%e3%83%aa%e3%83%bc%e3%82%ba-in-%e8%b2%9d%e5%a1%9a/2024-06-29/
LOCATION:Osaka Kawasaki Rehabilitation University(大阪河﨑リハビリテーション大学)体育館\, 東山７丁目８−１\, 貝塚市\, 大阪府\, 597-0046\, Japan
CATEGORIES:- 参加／体験 -,- 講習会 -
END:VEVENT
BEGIN:VEVENT
DTSTART;VALUE=DATE:20240622
DTEND;VALUE=DATE:20240623
DTSTAMP:20260419T200443
CREATED:20240227T014802Z
LAST-MODIFIED:20240416T090609Z
UID:10003352-1719014400-1719100799@cricket.or.jp
SUMMARY:[:en]Cricket Blast Series in Kaizuka[:ja]第4回 クリケットブラスト・シリーズ in 貝塚[:]
DESCRIPTION:シリーズ型の小学生対象クリケット体験イベント「クリケットブラスト・シリーズ in 貝塚」を今年も6月に開催します！ \n2028年ロサンゼルス五輪の種目にも追加された世界的大人気スポーツ「クリケット」を貝塚で体験してみませんか？ \n\n\n日程\n\n6月8日(土)\n6月15日(土)\n6月22日(土)\n6月29日(土)\n\n\n時間\n\n9:20-10:20 エンジョイコース(レベル★☆☆)*\n10:30-11:30 ゲームコース(レベル★★☆)**\n\n*エンジョイコースは主に小学生低学年～中学年を対象としたコースで、ボールを取ったり投げたり、打ったりするゲームを楽しみながらクリケットに触れるコースです。\n**ゲームコースは主に小学生中学年～高学年を対象としたコースで、簡易版クリケットの形式でゲームを楽しみます。ワンバウンドのボールを打って走って、君は何点とれるかな！？もちろん、初めて参加する君も大歓迎！\n\n\n\n\n参加料\n\n1人1回500円（4週連続で参加すると最終回無料＆景品がもらえます）\n\n\n会場\n\n大阪河﨑リハビリテーション大学グラウンド\n貝塚市立ドローン・クリケットフィールド（第4週のみ）\n\n\nお申込み\n\nhttps://forms.gle/VrbCcuKbeN6r8kPHA
URL:https://cricket.or.jp/event/%e7%ac%ac4%e5%9b%9e-%e3%82%af%e3%83%aa%e3%82%b1%e3%83%83%e3%83%88%e3%83%96%e3%83%a9%e3%82%b9%e3%83%88%e3%83%bb%e3%82%b7%e3%83%aa%e3%83%bc%e3%82%ba-in-%e8%b2%9d%e5%a1%9a/2024-06-22/
LOCATION:Osaka Kawasaki Rehabilitation University(大阪河﨑リハビリテーション大学)体育館\, 東山７丁目８−１\, 貝塚市\, 大阪府\, 597-0046\, Japan
CATEGORIES:- 参加／体験 -,- 講習会 -
END:VEVENT
BEGIN:VEVENT
DTSTART;VALUE=DATE:20240615
DTEND;VALUE=DATE:20240616
DTSTAMP:20260419T200443
CREATED:20240227T014802Z
LAST-MODIFIED:20240416T090609Z
UID:10003351-1718409600-1718495999@cricket.or.jp
SUMMARY:[:en]Cricket Blast Series in Kaizuka[:ja]第4回 クリケットブラスト・シリーズ in 貝塚[:]
DESCRIPTION:シリーズ型の小学生対象クリケット体験イベント「クリケットブラスト・シリーズ in 貝塚」を今年も6月に開催します！ \n2028年ロサンゼルス五輪の種目にも追加された世界的大人気スポーツ「クリケット」を貝塚で体験してみませんか？ \n\n\n日程\n\n6月8日(土)\n6月15日(土)\n6月22日(土)\n6月29日(土)\n\n\n時間\n\n9:20-10:20 エンジョイコース(レベル★☆☆)*\n10:30-11:30 ゲームコース(レベル★★☆)**\n\n*エンジョイコースは主に小学生低学年～中学年を対象としたコースで、ボールを取ったり投げたり、打ったりするゲームを楽しみながらクリケットに触れるコースです。\n**ゲームコースは主に小学生中学年～高学年を対象としたコースで、簡易版クリケットの形式でゲームを楽しみます。ワンバウンドのボールを打って走って、君は何点とれるかな！？もちろん、初めて参加する君も大歓迎！\n\n\n\n\n参加料\n\n1人1回500円（4週連続で参加すると最終回無料＆景品がもらえます）\n\n\n会場\n\n大阪河﨑リハビリテーション大学グラウンド\n貝塚市立ドローン・クリケットフィールド（第4週のみ）\n\n\nお申込み\n\nhttps://forms.gle/VrbCcuKbeN6r8kPHA
URL:https://cricket.or.jp/event/%e7%ac%ac4%e5%9b%9e-%e3%82%af%e3%83%aa%e3%82%b1%e3%83%83%e3%83%88%e3%83%96%e3%83%a9%e3%82%b9%e3%83%88%e3%83%bb%e3%82%b7%e3%83%aa%e3%83%bc%e3%82%ba-in-%e8%b2%9d%e5%a1%9a/2024-06-15/
LOCATION:Osaka Kawasaki Rehabilitation University(大阪河﨑リハビリテーション大学)体育館\, 東山７丁目８−１\, 貝塚市\, 大阪府\, 597-0046\, Japan
CATEGORIES:- 参加／体験 -,- 講習会 -
END:VEVENT
BEGIN:VEVENT
DTSTART;VALUE=DATE:20240608
DTEND;VALUE=DATE:20240609
DTSTAMP:20260419T200443
CREATED:20240227T014802Z
LAST-MODIFIED:20240416T090609Z
UID:10003350-1717804800-1717891199@cricket.or.jp
SUMMARY:[:en]Cricket Blast Series in Kaizuka[:ja]第4回 クリケットブラスト・シリーズ in 貝塚[:]
DESCRIPTION:シリーズ型の小学生対象クリケット体験イベント「クリケットブラスト・シリーズ in 貝塚」を今年も6月に開催します！ \n2028年ロサンゼルス五輪の種目にも追加された世界的大人気スポーツ「クリケット」を貝塚で体験してみませんか？ \n\n\n日程\n\n6月8日(土)\n6月15日(土)\n6月22日(土)\n6月29日(土)\n\n\n時間\n\n9:20-10:20 エンジョイコース(レベル★☆☆)*\n10:30-11:30 ゲームコース(レベル★★☆)**\n\n*エンジョイコースは主に小学生低学年～中学年を対象としたコースで、ボールを取ったり投げたり、打ったりするゲームを楽しみながらクリケットに触れるコースです。\n**ゲームコースは主に小学生中学年～高学年を対象としたコースで、簡易版クリケットの形式でゲームを楽しみます。ワンバウンドのボールを打って走って、君は何点とれるかな！？もちろん、初めて参加する君も大歓迎！\n\n\n\n\n参加料\n\n1人1回500円（4週連続で参加すると最終回無料＆景品がもらえます）\n\n\n会場\n\n大阪河﨑リハビリテーション大学グラウンド\n貝塚市立ドローン・クリケットフィールド（第4週のみ）\n\n\nお申込み\n\nhttps://forms.gle/VrbCcuKbeN6r8kPHA
URL:https://cricket.or.jp/event/%e7%ac%ac4%e5%9b%9e-%e3%82%af%e3%83%aa%e3%82%b1%e3%83%83%e3%83%88%e3%83%96%e3%83%a9%e3%82%b9%e3%83%88%e3%83%bb%e3%82%b7%e3%83%aa%e3%83%bc%e3%82%ba-in-%e8%b2%9d%e5%a1%9a/2024-06-08/
LOCATION:Osaka Kawasaki Rehabilitation University(大阪河﨑リハビリテーション大学)体育館\, 東山７丁目８−１\, 貝塚市\, 大阪府\, 597-0046\, Japan
CATEGORIES:- 参加／体験 -,- 講習会 -
END:VEVENT
BEGIN:VEVENT
DTSTART;TZID=Asia/Tokyo:20230618T100000
DTEND;TZID=Asia/Tokyo:20230618T110000
DTSTAMP:20260419T200443
CREATED:20230328T022519Z
LAST-MODIFIED:20230328T023346Z
UID:10003932-1687082400-1687086000@cricket.or.jp
SUMMARY:[:en]Cricket Blast Series in Kaizuka[:ja]クリケットブラストシリーズ in 貝塚[:]
DESCRIPTION:クリケットであそぼう！\n2年ぶりにクリケットブラストシリーズ in 貝塚を開催します！ \n小学生対象、クリケットのゲームを通して体を動かし、友達と楽しみましょう。 \n最終回は昨年、国際大会も開催されたグラウンド「貝塚市立ドローン・クリケットフィールド」で開催します！お友達をたくさん誘ってご参加ください。 \n日程：5/28(日)、6/4(日)、6/11(日)、6/18(日) \n時間：10:00～11:00（受付9:40） \n会場：【第1回～第3回】大阪河﨑リハビリテーション大学　グラウンド/体育館（貝塚市東山7-8-1） \n【最終回】貝塚市立ドローン・クリケットフィールド（貝塚市橋本1517） \n費用：各回500円（4回連続参加すると最終回無料！＆豪華景品プレゼント！） \nお申込み：https://forms.gle/u5j7tsXQTjgp5MdV6 \nその他：４回で1シリーズですが、回ごとに参加も可能です。イベント準備、保険加入の都合上、必ずお申込みしてからご参加ください。 \nチラシデータはこちらから閲覧いただけます。
URL:https://cricket.or.jp/event/%e3%82%af%e3%83%aa%e3%82%b1%e3%83%83%e3%83%88%e3%83%96%e3%83%a9%e3%82%b9%e3%83%88%e3%82%b7%e3%83%aa%e3%83%bc%e3%82%ba-in-%e8%b2%9d%e5%a1%9a/2023-06-18/
CATEGORIES:- 参加／体験 -
ATTACH;FMTTYPE=image/jpeg:https://cricket.or.jp/wp-content/uploads/2023/03/2023春-貝塚案0316-2-1-1.jpg
END:VEVENT
BEGIN:VEVENT
DTSTART;TZID=Asia/Tokyo:20230611T100000
DTEND;TZID=Asia/Tokyo:20230611T110000
DTSTAMP:20260419T200443
CREATED:20230328T022519Z
LAST-MODIFIED:20230328T023346Z
UID:10003931-1686477600-1686481200@cricket.or.jp
SUMMARY:[:en]Cricket Blast Series in Kaizuka[:ja]クリケットブラストシリーズ in 貝塚[:]
DESCRIPTION:クリケットであそぼう！\n2年ぶりにクリケットブラストシリーズ in 貝塚を開催します！ \n小学生対象、クリケットのゲームを通して体を動かし、友達と楽しみましょう。 \n最終回は昨年、国際大会も開催されたグラウンド「貝塚市立ドローン・クリケットフィールド」で開催します！お友達をたくさん誘ってご参加ください。 \n日程：5/28(日)、6/4(日)、6/11(日)、6/18(日) \n時間：10:00～11:00（受付9:40） \n会場：【第1回～第3回】大阪河﨑リハビリテーション大学　グラウンド/体育館（貝塚市東山7-8-1） \n【最終回】貝塚市立ドローン・クリケットフィールド（貝塚市橋本1517） \n費用：各回500円（4回連続参加すると最終回無料！＆豪華景品プレゼント！） \nお申込み：https://forms.gle/u5j7tsXQTjgp5MdV6 \nその他：４回で1シリーズですが、回ごとに参加も可能です。イベント準備、保険加入の都合上、必ずお申込みしてからご参加ください。 \nチラシデータはこちらから閲覧いただけます。
URL:https://cricket.or.jp/event/%e3%82%af%e3%83%aa%e3%82%b1%e3%83%83%e3%83%88%e3%83%96%e3%83%a9%e3%82%b9%e3%83%88%e3%82%b7%e3%83%aa%e3%83%bc%e3%82%ba-in-%e8%b2%9d%e5%a1%9a/2023-06-11/
CATEGORIES:- 参加／体験 -
ATTACH;FMTTYPE=image/jpeg:https://cricket.or.jp/wp-content/uploads/2023/03/2023春-貝塚案0316-2-1-1.jpg
END:VEVENT
BEGIN:VEVENT
DTSTART;TZID=Asia/Tokyo:20230604T100000
DTEND;TZID=Asia/Tokyo:20230604T110000
DTSTAMP:20260419T200443
CREATED:20230328T022519Z
LAST-MODIFIED:20230328T023346Z
UID:10003930-1685872800-1685876400@cricket.or.jp
SUMMARY:[:en]Cricket Blast Series in Kaizuka[:ja]クリケットブラストシリーズ in 貝塚[:]
DESCRIPTION:クリケットであそぼう！\n2年ぶりにクリケットブラストシリーズ in 貝塚を開催します！ \n小学生対象、クリケットのゲームを通して体を動かし、友達と楽しみましょう。 \n最終回は昨年、国際大会も開催されたグラウンド「貝塚市立ドローン・クリケットフィールド」で開催します！お友達をたくさん誘ってご参加ください。 \n日程：5/28(日)、6/4(日)、6/11(日)、6/18(日) \n時間：10:00～11:00（受付9:40） \n会場：【第1回～第3回】大阪河﨑リハビリテーション大学　グラウンド/体育館（貝塚市東山7-8-1） \n【最終回】貝塚市立ドローン・クリケットフィールド（貝塚市橋本1517） \n費用：各回500円（4回連続参加すると最終回無料！＆豪華景品プレゼント！） \nお申込み：https://forms.gle/u5j7tsXQTjgp5MdV6 \nその他：４回で1シリーズですが、回ごとに参加も可能です。イベント準備、保険加入の都合上、必ずお申込みしてからご参加ください。 \nチラシデータはこちらから閲覧いただけます。
URL:https://cricket.or.jp/event/%e3%82%af%e3%83%aa%e3%82%b1%e3%83%83%e3%83%88%e3%83%96%e3%83%a9%e3%82%b9%e3%83%88%e3%82%b7%e3%83%aa%e3%83%bc%e3%82%ba-in-%e8%b2%9d%e5%a1%9a/2023-06-04/
CATEGORIES:- 参加／体験 -
ATTACH;FMTTYPE=image/jpeg:https://cricket.or.jp/wp-content/uploads/2023/03/2023春-貝塚案0316-2-1-1.jpg
END:VEVENT
BEGIN:VEVENT
DTSTART;TZID=Asia/Tokyo:20230528T100000
DTEND;TZID=Asia/Tokyo:20230528T110000
DTSTAMP:20260419T200443
CREATED:20230328T022519Z
LAST-MODIFIED:20230328T023346Z
UID:10003929-1685268000-1685271600@cricket.or.jp
SUMMARY:[:en]Cricket Blast Series in Kaizuka[:ja]クリケットブラストシリーズ in 貝塚[:]
DESCRIPTION:クリケットであそぼう！\n2年ぶりにクリケットブラストシリーズ in 貝塚を開催します！ \n小学生対象、クリケットのゲームを通して体を動かし、友達と楽しみましょう。 \n最終回は昨年、国際大会も開催されたグラウンド「貝塚市立ドローン・クリケットフィールド」で開催します！お友達をたくさん誘ってご参加ください。 \n日程：5/28(日)、6/4(日)、6/11(日)、6/18(日) \n時間：10:00～11:00（受付9:40） \n会場：【第1回～第3回】大阪河﨑リハビリテーション大学　グラウンド/体育館（貝塚市東山7-8-1） \n【最終回】貝塚市立ドローン・クリケットフィールド（貝塚市橋本1517） \n費用：各回500円（4回連続参加すると最終回無料！＆豪華景品プレゼント！） \nお申込み：https://forms.gle/u5j7tsXQTjgp5MdV6 \nその他：４回で1シリーズですが、回ごとに参加も可能です。イベント準備、保険加入の都合上、必ずお申込みしてからご参加ください。 \nチラシデータはこちらから閲覧いただけます。
URL:https://cricket.or.jp/event/%e3%82%af%e3%83%aa%e3%82%b1%e3%83%83%e3%83%88%e3%83%96%e3%83%a9%e3%82%b9%e3%83%88%e3%82%b7%e3%83%aa%e3%83%bc%e3%82%ba-in-%e8%b2%9d%e5%a1%9a/2023-05-28/
CATEGORIES:- 参加／体験 -
ATTACH;FMTTYPE=image/jpeg:https://cricket.or.jp/wp-content/uploads/2023/03/2023春-貝塚案0316-2-1-1.jpg
END:VEVENT
END:VCALENDAR