BEGIN:VCALENDAR
VERSION:2.0
PRODID:-//Japan Cricket Association - ECPv6.15.12.2//NONSGML v1.0//EN
CALSCALE:GREGORIAN
METHOD:PUBLISH
X-ORIGINAL-URL:https://cricket.or.jp
X-WR-CALDESC:Japan Cricket Association のイベント
REFRESH-INTERVAL;VALUE=DURATION:PT1H
X-Robots-Tag:noindex
X-PUBLISHED-TTL:PT1H
BEGIN:VTIMEZONE
TZID:Asia/Tokyo
BEGIN:STANDARD
TZOFFSETFROM:+0900
TZOFFSETTO:+0900
TZNAME:JST
DTSTART:20200101T000000
END:STANDARD
END:VTIMEZONE
BEGIN:VEVENT
DTSTART;TZID=Asia/Tokyo:20230810T130000
DTEND;TZID=Asia/Tokyo:20230810T160000
DTSTAMP:20260419T175941
CREATED:20230605T023833Z
LAST-MODIFIED:20230701T062551Z
UID:10004001-1691672400-1691683200@cricket.or.jp
SUMMARY:[:en]Kanto University Cricket League : Keio University vs Chuo University[:ja]関東クリケット学生選手権 (男子)：　中央大学 vs 慶応義塾大学[:]
DESCRIPTION:昭島にて関東クリケット学生選手権が行われます。\n2023年9月17日　（学生日本一決定戦）チャンピオンズウィケットにつながる予選に応援に行こう！\n  \nリーグ名：関東クリケット学生選手権 \n部　　門：男子 \n対　　戦：慶応義塾大学 vs 中央大学 \n審　　判：担当大学　日本大学 \n場　　所：昭和公園陸上競技場（東京都昭島市東町5丁目2−11−43） \n時　　間：１３：００～１６：００ \n\n  \n関東クリケット学生選手権は東京都江戸川区、昭島市、栃木県佐野市にて行われる、関東クリケット学生連盟による公式リーグ戦となっており、9月17日㈰チャンピオンズウィケットにつながる大会です。 \n昭島では「クリケットのまち」づくりを推進しており、小学生～クリケットを体験できるプログラムから試合観戦又はプレー機会を通じて、青少年健全育成、地域活性、国際化に貢献し、国内外に「クリケットのまち昭島」をPRしております。 \n  \n  \n  \n 
URL:https://cricket.or.jp/event/2023-08-10/
LOCATION:昭和公園陸上競技場\, 東町5-11-43\, 昭島市\, 東京都\, 196-0033\, Japan
CATEGORIES:- 観戦 -
ORGANIZER;CN="[%3Aen]Kanto University Board[%3Aja]%E9%96%A2%E6%9D%B1%E5%AD%A6%E7%94%9F%E3%82%AF%E3%83%AA%E3%82%B1%E3%83%83%E3%83%88%E9%80%A3%E7%9B%9F[%3A]":MAILTO:kub.cricket@gmail.com
GEO:35.702251;139.387369
X-APPLE-STRUCTURED-LOCATION;VALUE=URI;X-ADDRESS=昭和公園陸上競技場 東町5-11-43 昭島市 東京都 196-0033 Japan;X-APPLE-RADIUS=500;X-TITLE=東町5-11-43:geo:139.387369,35.702251
END:VEVENT
BEGIN:VEVENT
DTSTART;TZID=Asia/Tokyo:20230810T090000
DTEND;TZID=Asia/Tokyo:20230810T120000
DTSTAMP:20260419T175941
CREATED:20230605T025620Z
LAST-MODIFIED:20230701T062544Z
UID:10004005-1691658000-1691668800@cricket.or.jp
SUMMARY:[:en]Kanto University Cricket League (Womens): Waseda University vs Showa University[:ja]関東クリケット学生選手権 (女子)：　早稲田大学 vs 昭和大学[:]
DESCRIPTION:昭島にて関東クリケット学生選手権が行われます。\n2023年9月17日　（学生日本一決定戦）チャンピオンズウィケットにつながる予選に応援に行こう！\n  \nリーグ名：関東クリケット学生選手権 \n部　　門：女子 \n対　　戦：早稲田大学 vs 昭和大学 \n審　　判：担当大学　中央大学 \n場　　所：昭和公園陸上競技場（東京都昭島市東町5丁目2−11−43） \n時　　間：０９：００～１２：００ \n  \n\n関東クリケット学生選手権は東京都江戸川区、昭島市、栃木県佐野市にて行われる、関東クリケット学生連盟による公式リーグ戦となっており、9月17日㈰チャンピオンズウィケットにつながる大会です。 \n昭島では「クリケットのまち」づくりを推進しており、小学生～クリケットを体験できるプログラムから試合観戦又はプレー機会を通じて、青少年健全育成、地域活性、国際化に貢献し、国内外に「クリケットのまち昭島」をPRしております。 \n 
URL:https://cricket.or.jp/event/2023-08-10-womens/
LOCATION:昭和公園陸上競技場\, 東町5-11-43\, 昭島市\, 東京都\, 196-0033\, Japan
CATEGORIES:- 観戦 -
ORGANIZER;CN="[%3Aen]Kanto University Board[%3Aja]%E9%96%A2%E6%9D%B1%E5%AD%A6%E7%94%9F%E3%82%AF%E3%83%AA%E3%82%B1%E3%83%83%E3%83%88%E9%80%A3%E7%9B%9F[%3A]":MAILTO:kub.cricket@gmail.com
GEO:35.702251;139.387369
X-APPLE-STRUCTURED-LOCATION;VALUE=URI;X-ADDRESS=昭和公園陸上競技場 東町5-11-43 昭島市 東京都 196-0033 Japan;X-APPLE-RADIUS=500;X-TITLE=東町5-11-43:geo:139.387369,35.702251
END:VEVENT
BEGIN:VEVENT
DTSTART;TZID=Asia/Tokyo:20230803T130000
DTEND;TZID=Asia/Tokyo:20230803T160000
DTSTAMP:20260419T175941
CREATED:20230605T023446Z
LAST-MODIFIED:20230701T062535Z
UID:10004000-1691067600-1691078400@cricket.or.jp
SUMMARY:[:en]Kanto University Cricket League(Men's) : Nihon University vs Chuo University[:ja]関東クリケット学生選手権 (男子)：　中央大学 vs 日本大学[:]
DESCRIPTION:昭島にて関東クリケット学生選手権が行われます。\n2023年9月17日　（学生日本一決定戦）チャンピオンズウィケットにつながる予選に応援に行こう！\n  \nリーグ名：関東クリケット学生選手権 \n部　　門：男子 \n対　　戦：日本大学 vs 中央大学 \n審　　判：担当大学　早稲田大学 \n場　　所：昭和公園陸上競技場（東京都昭島市東町5丁目2−11−43） \n時　　間：１３：００～１６：００ \n\n※　日本大学は昨年設立の今年度初参戦、若手選手のみのエネギッシュなチームです。 \n関東クリケット学生選手権は東京都江戸川区、昭島市、栃木県佐野市にて行われる、関東クリケット学生連盟による公式リーグ戦となっており、9月17日㈰チャンピオンズウィケットにつながる大会です。 \n昭島では「クリケットのまち」づくりを推進しており、小学生～クリケットを体験できるプログラムから試合観戦又はプレー機会を通じて、青少年健全育成、地域活性、国際化に貢献し、国内外に「クリケットのまち昭島」をPRしております。 \n  \n  \n  \n 
URL:https://cricket.or.jp/event/%e9%96%a2%e6%9d%b1%e3%82%af%e3%83%aa%e3%82%b1%e3%83%83%e3%83%88%e5%ad%a6%e7%94%9f%e9%81%b8%e6%89%8b%e6%a8%a9%ef%bc%9a%e3%80%80%e4%b8%ad%e5%a4%ae%e5%a4%a7%e5%ad%a6-vs-%e6%97%a5%e6%9c%ac%e5%a4%a7/
LOCATION:昭和公園陸上競技場\, 東町5-11-43\, 昭島市\, 東京都\, 196-0033\, Japan
CATEGORIES:- 観戦 -
ORGANIZER;CN="[%3Aen]Kanto University Board[%3Aja]%E9%96%A2%E6%9D%B1%E5%AD%A6%E7%94%9F%E3%82%AF%E3%83%AA%E3%82%B1%E3%83%83%E3%83%88%E9%80%A3%E7%9B%9F[%3A]":MAILTO:kub.cricket@gmail.com
GEO:35.702251;139.387369
X-APPLE-STRUCTURED-LOCATION;VALUE=URI;X-ADDRESS=昭和公園陸上競技場 東町5-11-43 昭島市 東京都 196-0033 Japan;X-APPLE-RADIUS=500;X-TITLE=東町5-11-43:geo:139.387369,35.702251
END:VEVENT
BEGIN:VEVENT
DTSTART;TZID=Asia/Tokyo:20230803T090000
DTEND;TZID=Asia/Tokyo:20230803T120000
DTSTAMP:20260419T175941
CREATED:20230605T025404Z
LAST-MODIFIED:20230701T062529Z
UID:10004004-1691053200-1691064000@cricket.or.jp
SUMMARY:[:en]Kanto University Cricket League (Womens) : Waseda University vs Showa University[:ja]関東クリケット学生選手権 (女子)：　早稲田大学 vs 昭和大学[:]
DESCRIPTION:昭島にて関東クリケット学生選手権が行われます。\n2023年9月17日　（学生日本一決定戦）チャンピオンズウィケットにつながる予選に応援に行こう！\n  \nリーグ名：関東クリケット学生選手権 \n部　　門：女子 \n対　　戦：早稲田大学 vs 昭和大学 \n審　　判：担当大学　日本大学 \n場　　所：昭和公園陸上競技場（東京都昭島市東町5丁目2−11−43） \n時　　間：０９：００～１２：００ \n  \n\n関東クリケット学生選手権は東京都江戸川区、昭島市、栃木県佐野市にて行われる、関東クリケット学生連盟による公式リーグ戦となっており、9月17日㈰チャンピオンズウィケットにつながる大会です。 \n昭島では「クリケットのまち」づくりを推進しており、小学生～クリケットを体験できるプログラムから試合観戦又はプレー機会を通じて、青少年健全育成、地域活性、国際化に貢献し、国内外に「クリケットのまち昭島」をPRしております。 \n 
URL:https://cricket.or.jp/event/2023-08-03-womens/
LOCATION:昭和公園陸上競技場\, 東町5-11-43\, 昭島市\, 東京都\, 196-0033\, Japan
CATEGORIES:- 観戦 -
ORGANIZER;CN="[%3Aen]Kanto University Board[%3Aja]%E9%96%A2%E6%9D%B1%E5%AD%A6%E7%94%9F%E3%82%AF%E3%83%AA%E3%82%B1%E3%83%83%E3%83%88%E9%80%A3%E7%9B%9F[%3A]":MAILTO:kub.cricket@gmail.com
GEO:35.702251;139.387369
X-APPLE-STRUCTURED-LOCATION;VALUE=URI;X-ADDRESS=昭和公園陸上競技場 東町5-11-43 昭島市 東京都 196-0033 Japan;X-APPLE-RADIUS=500;X-TITLE=東町5-11-43:geo:139.387369,35.702251
END:VEVENT
BEGIN:VEVENT
DTSTART;TZID=Asia/Tokyo:20230802T130000
DTEND;TZID=Asia/Tokyo:20230802T160000
DTSTAMP:20260419T175941
CREATED:20230605T024938Z
LAST-MODIFIED:20230701T062521Z
UID:10004003-1690981200-1690992000@cricket.or.jp
SUMMARY:[:en]Kanto University Cricket League (Womens) : Waseda University vs Showa University[:ja]関東クリケット学生選手権 (女子)：　早稲田大学 vs 昭和大学[:]
DESCRIPTION:昭島にて関東クリケット学生選手権が行われます。\n2023年9月17日　（学生日本一決定戦）チャンピオンズウィケットにつながる予選に応援に行こう！\n  \nリーグ名：関東クリケット学生選手権 \n部　　門：女子 \n対　　戦：早稲田大学 vs 昭和大学 \n審　　判：担当大学　慶応義塾大学 \n場　　所：昭和公園陸上競技場（東京都昭島市東町5丁目2−11−43） \n時　　間：１３：００～１６：００ \n\n  \n関東クリケット学生選手権は東京都江戸川区、昭島市、栃木県佐野市にて行われる、関東クリケット学生連盟による公式リーグ戦となっており、9月17日㈰チャンピオンズウィケットにつながる大会です。 \n昭島では「クリケットのまち」づくりを推進しており、小学生～クリケットを体験できるプログラムから試合観戦又はプレー機会を通じて、青少年健全育成、地域活性、国際化に貢献し、国内外に「クリケットのまち昭島」をPRしております。 \n 
URL:https://cricket.or.jp/event/2023-08-02-womens/
LOCATION:昭和公園陸上競技場\, 東町5-11-43\, 昭島市\, 東京都\, 196-0033\, Japan
CATEGORIES:- 観戦 -
ORGANIZER;CN="[%3Aen]Kanto University Board[%3Aja]%E9%96%A2%E6%9D%B1%E5%AD%A6%E7%94%9F%E3%82%AF%E3%83%AA%E3%82%B1%E3%83%83%E3%83%88%E9%80%A3%E7%9B%9F[%3A]":MAILTO:kub.cricket@gmail.com
GEO:35.702251;139.387369
X-APPLE-STRUCTURED-LOCATION;VALUE=URI;X-ADDRESS=昭和公園陸上競技場 東町5-11-43 昭島市 東京都 196-0033 Japan;X-APPLE-RADIUS=500;X-TITLE=東町5-11-43:geo:139.387369,35.702251
END:VEVENT
BEGIN:VEVENT
DTSTART;TZID=Asia/Tokyo:20230802T090000
DTEND;TZID=Asia/Tokyo:20230802T090000
DTSTAMP:20260419T175941
CREATED:20230605T022744Z
LAST-MODIFIED:20230701T062514Z
UID:10003999-1690966800-1690966800@cricket.or.jp
SUMMARY:[:en]Kanto University Cricket League(Men's) : Keio University vs Waseda University[:ja]関東クリケット学生選手権 (男子)：　慶応義塾大学 vs 早稲田大学[:]
DESCRIPTION:昭島にて関東クリケット学生選手権が行われます。\n2023年9月17日　（学生日本一決定戦）チャンピオンズウィケットにつながる予選に応援に行こう！\n  \nリーグ名：関東クリケット学生選手権 \n部　　門：男子 \n対　　戦：慶応義塾大学 vs 早稲田大学 \n審　　判：担当大学　中央大学 \n場　　所：昭和公園陸上競技場（東京都昭島市東町5丁目2−11−43） \n時　　間：０９：００～１２：００ \n\n  \n関東クリケット学生選手権は東京都江戸川区、昭島市、栃木県佐野市にて行われる、関東クリケット学生連盟による公式リーグ戦となっており、9月17日㈰チャンピオンズウィケットにつながる大会です。 \n昭島では「クリケットのまち」づくりを推進しており、小学生～クリケットを体験できるプログラムから試合観戦又はプレー機会を通じて、青少年健全育成、地域活性、国際化に貢献し、国内外に「クリケットのまち昭島」をPRしております。 \n  \n  \n  \n 
URL:https://cricket.or.jp/event/2023-08-02/
LOCATION:昭和公園陸上競技場\, 東町5-11-43\, 昭島市\, 東京都\, 196-0033\, Japan
CATEGORIES:- 観戦 -
ORGANIZER;CN="[%3Aen]Kanto University Board[%3Aja]%E9%96%A2%E6%9D%B1%E5%AD%A6%E7%94%9F%E3%82%AF%E3%83%AA%E3%82%B1%E3%83%83%E3%83%88%E9%80%A3%E7%9B%9F[%3A]":MAILTO:kub.cricket@gmail.com
GEO:35.702251;139.387369
X-APPLE-STRUCTURED-LOCATION;VALUE=URI;X-ADDRESS=昭和公園陸上競技場 東町5-11-43 昭島市 東京都 196-0033 Japan;X-APPLE-RADIUS=500;X-TITLE=東町5-11-43:geo:139.387369,35.702251
END:VEVENT
BEGIN:VEVENT
DTSTART;TZID=Asia/Tokyo:20230709T130000
DTEND;TZID=Asia/Tokyo:20230709T160000
DTSTAMP:20260419T175941
CREATED:20230605T024444Z
LAST-MODIFIED:20230701T062806Z
UID:10004002-1688907600-1688918400@cricket.or.jp
SUMMARY:[:en]Kanto University Cricket League(Womens) : Waseda University vs Showa University[:ja]関東クリケット学生選手権 (女子)：　早稲田大学 vs 昭和大学[:]
DESCRIPTION:昭島にて関東クリケット学生選手権が行われます。\n2023年9月17日　（学生日本一決定戦）チャンピオンズウィケットにつながる予選に応援に行こう！\n  \nリーグ名：関東クリケット学生選手権 \n部　　門：女子 \n対　　戦：早稲田大学 vs 昭和大学 \n審　　判：担当大学　早稲田大学 \n場　　所：昭和公園陸上競技場（東京都昭島市東町5丁目2−11−43） \n時　　間：１３：００～１６：００ \n\n  \n関東クリケット学生選手権は東京都江戸川区、昭島市、栃木県佐野市にて行われる、関東クリケット学生連盟による公式リーグ戦となっており、9月17日㈰チャンピオンズウィケットにつながる大会です。 \n昭島では「クリケットのまち」づくりを推進しており、小学生～クリケットを体験できるプログラムから試合観戦又はプレー機会を通じて、青少年健全育成、地域活性、国際化に貢献し、国内外に「クリケットのまち昭島」をPRしております。 \n 
URL:https://cricket.or.jp/event/2023-07-09-womens/
LOCATION:昭和公園陸上競技場\, 東町5-11-43\, 昭島市\, 東京都\, 196-0033\, Japan
CATEGORIES:- 観戦 -
ORGANIZER;CN="[%3Aen]Kanto University Board[%3Aja]%E9%96%A2%E6%9D%B1%E5%AD%A6%E7%94%9F%E3%82%AF%E3%83%AA%E3%82%B1%E3%83%83%E3%83%88%E9%80%A3%E7%9B%9F[%3A]":MAILTO:kub.cricket@gmail.com
GEO:35.702251;139.387369
X-APPLE-STRUCTURED-LOCATION;VALUE=URI;X-ADDRESS=昭和公園陸上競技場 東町5-11-43 昭島市 東京都 196-0033 Japan;X-APPLE-RADIUS=500;X-TITLE=東町5-11-43:geo:139.387369,35.702251
END:VEVENT
BEGIN:VEVENT
DTSTART;TZID=Asia/Tokyo:20230709T090000
DTEND;TZID=Asia/Tokyo:20230709T120000
DTSTAMP:20260419T175941
CREATED:20230605T022031Z
LAST-MODIFIED:20230701T062813Z
UID:10003998-1688893200-1688904000@cricket.or.jp
SUMMARY:[:en]Kanto University Cricket League(Men's) : Nihon University vs Waseda University[:ja]関東クリケット学生選手権 (男子)：　日本大学 vs 早稲田大学[:]
DESCRIPTION:昭島にて関東クリケット学生選手権が行われます。\n2023年9月17日　（学生日本一決定戦）チャンピオンズウィケットにつながる予選に応援に行こう！\n  \nリーグ名：関東クリケット学生選手権 \n部　　門：男子 \n対　　戦：日本大学　vs　早稲田大学 \n審　　判：担当大学　慶応大学 \n場　　所：昭和公園陸上競技場（東京都昭島市東町5丁目2−11−43） \n時　　間：０９：００～１２：００ \n\n※　日本大学は昨年設立の今年度初参戦、若手選手のみのエネギッシュなチームです。 \n関東クリケット学生選手権は東京都江戸川区、昭島市、栃木県佐野市にて行われる、関東クリケット学生連盟による公式リーグ戦となっており、9月17日㈰チャンピオンズウィケットにつながる大会です。 \n昭島では「クリケットのまち」づくりを推進しており、小学生～クリケットを体験できるプログラムから試合観戦又はプレー機会を通じて、青少年健全育成、地域活性、国際化に貢献し、国内外に「クリケットのまち昭島」をPRしております。 \n  \n  \n  \n 
URL:https://cricket.or.jp/event/2023-07-09/
LOCATION:昭和公園陸上競技場\, 東町5-11-43\, 昭島市\, 東京都\, 196-0033\, Japan
CATEGORIES:- 観戦 -
ORGANIZER;CN="[%3Aen]Kanto University Board[%3Aja]%E9%96%A2%E6%9D%B1%E5%AD%A6%E7%94%9F%E3%82%AF%E3%83%AA%E3%82%B1%E3%83%83%E3%83%88%E9%80%A3%E7%9B%9F[%3A]":MAILTO:kub.cricket@gmail.com
GEO:35.702251;139.387369
X-APPLE-STRUCTURED-LOCATION;VALUE=URI;X-ADDRESS=昭和公園陸上競技場 東町5-11-43 昭島市 東京都 196-0033 Japan;X-APPLE-RADIUS=500;X-TITLE=東町5-11-43:geo:139.387369,35.702251
END:VEVENT
BEGIN:VEVENT
DTSTART;TZID=Asia/Tokyo:20210919T090000
DTEND;TZID=Asia/Tokyo:20210919T160000
DTSTAMP:20260419T175941
CREATED:20210906T160408Z
LAST-MODIFIED:20210908T053132Z
UID:10003846-1632042000-1632067200@cricket.or.jp
SUMMARY:[:en]Champion's Wicket 2021[:ja]2021年　チャンピオンズウィケット　（大学日本一決定戦）[:]
DESCRIPTION:令和３年９月１９日（日）\nクリケット大学日本一を決める全国大会を昭島市昭和公園陸上競技場で開催いたします。\n  \n  \n＜対戦カード＞\n女子の部　早稲田大学　VS　同志社大学\n男子の部　早稲田大学　VS　同志社大学\n※男女ともに早稲田大学（関東）は関東学生リーグのトップ通過、同志社大学（関西）は富士予選本選大会をトップを獲得しました。\n関西／関東対決の行方はいかに！？\n\n【タイムスケジュール】\n０９：００　開会式\n０９：２０　女子全日本学生選手権決勝開始\n１３：００　男子全日本学生選手権決勝開始\n＊試合終了後に閉会式・表彰式が行われます。 \n\nT20 形式\nYouTube にて生中継（実況／解説も予定）\n\n 
URL:https://cricket.or.jp/event/2021championswicket/
LOCATION:昭和公園陸上競技場\, 東町5-11-43\, 昭島市\, 東京都\, 196-0033\, Japan
CATEGORIES:- 参加／体験 -,- 観戦 -
ATTACH;FMTTYPE=image/jpeg:https://cricket.or.jp/wp-content/uploads/2017/06/17992129_1035178866614459_868271801121496519_n.jpg
GEO:35.702251;139.387369
X-APPLE-STRUCTURED-LOCATION;VALUE=URI;X-ADDRESS=昭和公園陸上競技場 東町5-11-43 昭島市 東京都 196-0033 Japan;X-APPLE-RADIUS=500;X-TITLE=東町5-11-43:geo:139.387369,35.702251
END:VEVENT
BEGIN:VEVENT
DTSTART;TZID=Asia/Tokyo:20210418T133000
DTEND;TZID=Asia/Tokyo:20210418T170000
DTSTAMP:20260419T175941
CREATED:20210316T020943Z
LAST-MODIFIED:20210316T070135Z
UID:10003242-1618752600-1618765200@cricket.or.jp
SUMMARY:[:en]Kanto University Practice day[:ja]大学合同クリケット練習会[:]
DESCRIPTION:<<大学合同クリケット練習会>> \n大学に入って新しくクリケットを始めてみませんか？ \nサークルやクラブのある大学が合同で新入生の皆さんに世界で2番目に人気スポーツ「クリケット」の魅力をご紹介します。 \n高学年の先輩に優しく教えてもらいつつ、1年生同士のお友達やスポーツの仲間が見つかります。 \n  \n＜概要＞ \n時間： \n14時00分～　（17時最終） \n※途中参加や早退もOKです。 \n※（集合）13時30分二子玉川駅改札に集合し、会場まで移動します。 \n場所： \n二子玉川緑地運動場 \n参加方法： \n下記のご連絡先までお問い合わせや参加希望をお伝えください。 \nメール : 　kub.cricket@gmail.com \nTwitter DM :　@cricketgakuren
URL:https://cricket.or.jp/event/2021kantouniversitypractice/
LOCATION:二子玉川緑地運動公園
CATEGORIES:- 参加／体験 -
ATTACH;FMTTYPE=image/jpeg:https://cricket.or.jp/wp-content/uploads/2021/03/unnamed-e1615878044742.jpg
ORGANIZER;CN="[%3Aen]Kanto University Board[%3Aja]%E9%96%A2%E6%9D%B1%E5%AD%A6%E7%94%9F%E3%82%AF%E3%83%AA%E3%82%B1%E3%83%83%E3%83%88%E9%80%A3%E7%9B%9F[%3A]":MAILTO:kub.cricket@gmail.com
END:VEVENT
END:VCALENDAR