BEGIN:VCALENDAR
VERSION:2.0
PRODID:-//Japan Cricket Association - ECPv6.15.12.2//NONSGML v1.0//EN
CALSCALE:GREGORIAN
METHOD:PUBLISH
X-WR-CALNAME:Japan Cricket Association
X-ORIGINAL-URL:https://cricket.or.jp
X-WR-CALDESC:Japan Cricket Association のイベント
REFRESH-INTERVAL;VALUE=DURATION:PT1H
X-Robots-Tag:noindex
X-PUBLISHED-TTL:PT1H
BEGIN:VTIMEZONE
TZID:Asia/Tokyo
BEGIN:STANDARD
TZOFFSETFROM:+0900
TZOFFSETTO:+0900
TZNAME:JST
DTSTART:20150101T000000
END:STANDARD
END:VTIMEZONE
BEGIN:VEVENT
DTSTART;TZID=Asia/Tokyo:20250424T000000
DTEND;TZID=Asia/Tokyo:20250429T235900
DTSTAMP:20260421T092752
CREATED:20250314T064232Z
LAST-MODIFIED:20250412T004606Z
UID:10004095-1745452800-1745971140@cricket.or.jp
SUMMARY:[:en]ICC Menʼ s U19 WC EAP Division One[:ja]ICC 男子 U19 ワールドカップ 東アジア太平洋予選 1 部大会[:]
DESCRIPTION:試合日程 （日本時間、24時間表記） \n\n4 月 24 日（木）：日本 vs パプアニューギニア（10：00 開始）\n4 月 25 日（金）：日本 vs フィジー（10：00 開始）\n4 月 26 日（土）：フィジー vs パプアニューギニア（10：00 開始）\n4 月 27 日（日）：日本 vs パプアニューギニア（10：00 開始）\n4 月 28 日（月）：日本 vs フィジー（10：00 開始）\n4 月 29 日（祝・火）：パプアニューギニア vs フィジー（10：00 開始）\n\n・試合形式：50 オーバー \n・試合時間：10 ～ 17 時 \n展開によって試合終了時間が大幅に早まる可能性があります \n  \n入場無料ですので、是非お気軽にご来場ください。 \nまた、全試合、JCAYouTube チャンネルにてライブ配信を行います。 \nJCA公式SNS\n\nFacebook：https://www.facebook.com/cricketjapan\nInstagram：https://www.instagram.com/japan_cricket\nX：https://twitter.com/CricketJapan
URL:https://cricket.or.jp/event/icc-men%ca%bc-s-u19-wc-eap-division-one/
LOCATION:佐野市国際クリケット場 (田沼高等学校跡)\, 栃本町300-1\, 佐野市\, 栃木県\, 327-0312\, Japan
CATEGORIES:- 観戦 -,国際試合(男子U19)
ATTACH;FMTTYPE=image/jpeg:https://cricket.or.jp/wp-content/uploads/2025/03/20250328_Spring-Cricket-Poster_R1260.jpg
GEO:36.3614163;139.5942198
X-APPLE-STRUCTURED-LOCATION;VALUE=URI;X-ADDRESS=佐野市国際クリケット場 (田沼高等学校跡) 栃本町300-1 佐野市 栃木県 327-0312 Japan;X-APPLE-RADIUS=500;X-TITLE=栃本町300-1:geo:139.5942198,36.3614163
END:VEVENT
BEGIN:VEVENT
DTSTART;TZID=Asia/Tokyo:20230612T080000
DTEND;TZID=Asia/Tokyo:20230621T170000
DTSTAMP:20260421T092752
CREATED:20231014T114952Z
LAST-MODIFIED:20231014T115730Z
UID:10004026-1686556800-1687366800@cricket.or.jp
SUMMARY:[:en]ICC Men’s U19 Cricket World Cup East Asia Pacific Qualifier in Darwin\, Australia[:ja]男子U19W杯東アジア太平洋予選[:]
DESCRIPTION:ナショナルアカデミー選考委員長のアーディーン・ルホード氏は、オーストラリアのダーウィンで開催されるICC男子U19クリケットワールドカップ東アジア太平洋予選に出場する、日本代表のメンバー14名を発表しました。 \n大会は6月12日から21日まで行われ、日本はインドネシア、サモア、ニュージーランド、バヌアツ、パプアニューギニア、フィジーと対戦します。 \n2021年の前回大会が、新型コロナウイルスの影響で中止となったため、今大会は男子U19日本代表にとって、2020年に南アフリカで開催されたワールドカップ以来初めて出場する大会です。 \n今大会のキャプテンは、ハードグレイヴ − 阿部幸司選手が務め、加藤スタッフォード和真選手が副キャプテンとして、半数の選手が2年後にも出場資格を持つ若いチームを率います。 \n最年長の平塚昇太郎選手は、2019年と2020年のチームのリザーブ選手でしたが、公式戦の出場機会はなかったため、今大会、全選手が日本代表として初出場することになります。 \n14名のメンバーは、過去12か月間の国内大会での成績や、4月のフューチャーズリーグと5月の日本プレミアリーグでのパフォーマンスによって選出されました。 \nチームのヘッドコーチを兼ねるルホード氏は「選手たちは練習や試合に一生懸命取り組んでおり、早く試合に出られることを楽しみにしています。待ちに待った機会です。本場オーストラリアでニュージーランドや東アジア太平洋のトップチームと対戦する機会は、選手たちにとって素晴らしい経験となり、将来に役立つでしょう。選手たちが実力を発揮し、世界の舞台で活躍するのを楽しみにしています。」と述べました。 \n男子U19日本代表チーム \n\n荒川　千馳 （佐野ブレーブス・クリケットクラブ）\nハードグレイヴ − 阿部　幸司 （C）（佐野クリケットクラブ）\n平塚　昇太郎 （佐野ブレーブス）\n柿沼　寛岳 （佐野ブレーブス）\n加藤 − スタッフォード　和真 （VC）（昭島アビエーターズ・クリケットクラブ）\nモーア　ティモシー　夏輝 （ライオンズ・クリケットクラブ）\nパンクハースト　ダニエル （香港クリケットクラブ）\nパルマル　ニハル （アルファクウォッシャーズ横浜・クリケットクラブ）\nファドケ　アヂトヤ （アルファクウォッシャーズ横浜・クリケットクラブ）\nポル　ニキル （東京ファルコンズ・クリケットクラブ）\nシバクマール　リツビク  （東京ファルコンズ・クリケットクラブ）\nティワリ　アーラブ （川崎ナイトライダース・クリケットクラブ）\n山本 − レイク　キーファー （ウィレトン・クリケットクラブ）\n米川 − リン　マックス （千葉マイワイズ・クリケットクラブ）\n\n大会予定 \n\n6月12日　13:30：ニュージーランド 対 日本、会場：DXCアリーナ1\n6月15日　09:30：フィジー 対 日本、会場：DXCアリーナ2\n6月16日　09:30：日本 対 バヌアツ、会場：DXCアリーナ2\n6月18日　09:30：日本 対 サモア、会場：DXCアリーナ2\n6月19日　13:30：パプアニューギニア 対 日本、会場：TIOスタジアム\n6月21日　10:30：日本 対 インドネシア、会場：TIOスタジアム
URL:https://cricket.or.jp/event/u19wc-qualifier-2023/
LOCATION:Darwin\, Australia
CATEGORIES:国際試合(男子U19)
ATTACH;FMTTYPE=image/png:https://cricket.or.jp/wp-content/uploads/2023/05/2023-06-01-Japan-U19-Squad-Announcement-Web.png
END:VEVENT
BEGIN:VEVENT
DTSTART;TZID=Asia/Tokyo:20200117T080000
DTEND;TZID=Asia/Tokyo:20200209T170000
DTSTAMP:20260421T092752
CREATED:20200113T014357Z
LAST-MODIFIED:20200612T005923Z
UID:10003798-1579248000-1581267600@cricket.or.jp
SUMMARY:[:en]Under 19 Cricket World Cup[:ja]U19 クリケットワールドカップ[:]
DESCRIPTION:U19日本代表チームはワールドカップ予選大会を突破し、国内全代表チーム初となるICC国際大会に出場し、日本クリケット史上に名を刻んだ。 \nU19ワールドカップ本戦は1月、2月に南アフリカで開催され、ドゥーグル・ベディングフィールド・ヘッドコーチとケンダル・フレミング・アシスタントコーチ、マーカス・サーゲート・キャプテン、ニール・デイト・副キャプテンがチームを率いた。 \nU19日本代表フルメンバーは こちらから、帯同スタッフは こちらからご覧いただけます。 \n若き日本代表チームの最終結果は16位となったが、世界のクリケット関係者やファンを魅了し、日本クリケット界の新たな時代の幕開けとなった。 \n全試合結果は ESPN Cricinfoをご確認ください。
URL:https://cricket.or.jp/event/u19cricketworldcup2020/
LOCATION:South Africa\, South Africa
CATEGORIES:- 観戦 -,国際試合(男子U19)
ATTACH;FMTTYPE=image/jpeg:https://cricket.or.jp/wp-content/uploads/2020/01/1200893637-scaled.jpg
END:VEVENT
BEGIN:VEVENT
DTSTART;VALUE=DATE:20190506
DTEND;VALUE=DATE:20190511
DTSTAMP:20260421T092752
CREATED:20190423T065050Z
LAST-MODIFIED:20200518T064251Z
UID:10003754-1557100800-1557532799@cricket.or.jp
SUMMARY:[:en]ICC Women's Qualifier - EAP (2019)[:ja]2019 ICC女子東アジア太平洋予選大会[:]
DESCRIPTION:2019年 ICC 女子EAP予選が5月にバヌアツで開催され、クリケットビクトリアのダンカン・ハリソンコーチと柳田舞キャンプテンが日本代表チームを率いた。 \n本大会では初めてICC公式T20国際基準ルールに則って試合が行われため、日本がフィジーを第3ラウンドで破った際には、日本にとって、新しいICCルールの下での初めての公式勝利となった。 日本の最終結果は、5チーム中4位となった。 \n本大会遠征には、日本代表としての海外遠征が初となる選手が7名参加し、フィジー戦に参加した金井流天選手は女子日本代表史上最年少の選手となった。 \n大会出場フルメンバーはこちらよりご覧いただけます。 \n全試合結果は ESPN Cricinfoをご確認ください。 \n日程: \n\n\n\n日付\n時間\nICC女子東アジア太平洋予選\n会場\n\n\n5月6日（月曜）\n09:30 – 12:30\n日本 対 インドネシア\nバヌアツクリケット場\n\n\n5月7日 (火曜日)\n09:30 – 12:30\nサモア 対 日本\nバヌアツクリケット場\n\n\n5月9日 （木曜日）\n09:30 – 12:30\nフィジー 対 日本\nバヌアツクリケット場\n\n\n\n13:30 – 16:30\nパプアニューギニア 対 日本\nバヌアツクリケット場\n\n\n5月10日 (金曜日)\n09:30 – 12:30\n日本 対 バヌアツ\nバヌアツクリケット場\n\n\n\n  \n本大会には2日間の予備日が設けており。（5月8日と11日は悪天候の場合の予備日です。）
URL:https://cricket.or.jp/event/iccwomensqualifier-vanuatu/
LOCATION:Vanuatu\, Cricket Ground\, Port Vila\, Vanuatu
CATEGORIES:国際試合(女子)
ATTACH;FMTTYPE=image/jpeg:https://cricket.or.jp/wp-content/uploads/2019/04/Tournament-Logo-1.jpg
END:VEVENT
BEGIN:VEVENT
DTSTART;TZID=Asia/Tokyo:20181201T093000
DTEND;TZID=Asia/Tokyo:20181207T173000
DTSTAMP:20260421T092752
CREATED:20180830T001524Z
LAST-MODIFIED:20200518T064848Z
UID:10003346-1543656600-1544203800@cricket.or.jp
SUMMARY:[:en]ICC World T20 EAP Qualifier (Group B)[:ja]ICCワールドT20 東アジア太平洋予選(グループB)[:]
DESCRIPTION:2018年12月にフィリピンで開催されたT20ワールドカップ東アジア太平洋予選に日本代表チームが出場した。日本代表を率いるのは、クリケットビクトリアのスティーブ・ザイラーコーチと日本クリケット協会のドゥーグル・ベディングフィールドコーチ。 \n小林正臣キャプテン率いる日本代表チームは好スタートを切り、大会参加全チーム（フィリピン、インドネシア、韓国の3か国）に全勝し、大会折り返し地点ではトップに立った。 その後勢いを失った日本は、惜しくも3位で大会を終え、フィリピンが優勝した。 \n本大会では上田新大選手が日本代表初選出となった。本体会出場フルメンバーはこちらよりご覧いただけます。全試合結果はESPN Cricinfoをご確認ください。 \nICCワールドT20 東アジア太平洋予選(グループB)\n時刻表 \n\n\n\n日付\n時間（ローカル）\n時間（日本）\n対戦カード\n\n\n12月1日（土）\n09:15 – 12:15\n10:15 – 13:15\n日本 対 インドネシア\n\n\n\n13:30 – 16:30\n14:30 – 17:30\n韓国 対 フィリピン\n\n\n12月2日（日）\n09:30 – 12:30\n10:30 – 13:30\nインドネシア 対 韓国\n\n\n\n13:30 – 16:30\n14:30 – 17:30\n日本 対 フィリピン\n\n\n12月3日 (月)\n09:30 – 12:30\n10:30 – 13:30\nインドネシア 対 フィリピン\n\n\n\n13:30 – 16:30\n14:30 – 17:30\n日本 対 韓国\n\n\n12月5日 (水)\n09:30 – 12:30\n10:30 – 13:30\nフィリピン 対 韓国\n\n\n\n13:30 – 16:30\n14:30 – 17:30\nインドネシア 対 日本\n\n\n12月6日 (木)\n09:30 – 12:30\n10:30 – 13:30\nフィリピン 対 日本\n\n\n\n13:30 – 16:30\n14:30 – 17:30\n韓国対 インドネシア\n\n\n12月7日（金）\n09:30 – 12:30\n10:30 – 13:30\n韓国 対 日本\n\n\n\n13:30 – 16:30\n14:30 – 17:30\nフィリピン 対 インドネシア
URL:https://cricket.or.jp/event/icc-worldt20-qualifier-eap-b/
LOCATION:Friendship Oval\, Cavite\, Philippines\, Cavite\, Philippines
CATEGORIES:- 観戦 -,国際試合(男子)
ATTACH;FMTTYPE=image/jpeg:https://cricket.or.jp/wp-content/uploads/2018/12/IMG_2969-scaled.jpg
END:VEVENT
BEGIN:VEVENT
DTSTART;TZID=Asia/Tokyo:20170504T133000
DTEND;TZID=Asia/Tokyo:20170504T163000
DTSTAMP:20260421T092752
CREATED:20170228T071637Z
LAST-MODIFIED:20170309T002223Z
UID:10003118-1493904600-1493915400@cricket.or.jp
SUMMARY:WWT20Q: Japan vs Vanuatu
DESCRIPTION:
URL:https://cricket.or.jp/event/wwt20q-japan-vs-vanuatu-2/
LOCATION:佐野市国際クリケット場 (田沼高等学校跡)\, 栃本町300-1\, 佐野市\, 栃木県\, 327-0312\, Japan
CATEGORIES:- 観戦 -
GEO:36.3614163;139.5942198
X-APPLE-STRUCTURED-LOCATION;VALUE=URI;X-ADDRESS=佐野市国際クリケット場 (田沼高等学校跡) 栃本町300-1 佐野市 栃木県 327-0312 Japan;X-APPLE-RADIUS=500;X-TITLE=栃本町300-1:geo:139.5942198,36.3614163
END:VEVENT
BEGIN:VEVENT
DTSTART;TZID=Asia/Tokyo:20170504T093000
DTEND;TZID=Asia/Tokyo:20170504T123000
DTSTAMP:20260421T092752
CREATED:20170228T071535Z
LAST-MODIFIED:20170309T002321Z
UID:10003117-1493890200-1493901000@cricket.or.jp
SUMMARY:WWT20Q: PNG vs Samoa
DESCRIPTION:
URL:https://cricket.or.jp/event/wwt20q-png-vs-samoa-2/
LOCATION:佐野市国際クリケット場 (田沼高等学校跡)\, 栃本町300-1\, 佐野市\, 栃木県\, 327-0312\, Japan
CATEGORIES:- 観戦 -
GEO:36.3614163;139.5942198
X-APPLE-STRUCTURED-LOCATION;VALUE=URI;X-ADDRESS=佐野市国際クリケット場 (田沼高等学校跡) 栃本町300-1 佐野市 栃木県 327-0312 Japan;X-APPLE-RADIUS=500;X-TITLE=栃本町300-1:geo:139.5942198,36.3614163
END:VEVENT
BEGIN:VEVENT
DTSTART;TZID=Asia/Tokyo:20170503T133000
DTEND;TZID=Asia/Tokyo:20170503T163000
DTSTAMP:20260421T092752
CREATED:20170228T071428Z
LAST-MODIFIED:20170309T002406Z
UID:10003116-1493818200-1493829000@cricket.or.jp
SUMMARY:WWT20Q: Vanuatu vs Samoa
DESCRIPTION:
URL:https://cricket.or.jp/event/wwt20q-vanuatu-vs-samoa/
LOCATION:佐野市国際クリケット場 (田沼高等学校跡)\, 栃本町300-1\, 佐野市\, 栃木県\, 327-0312\, Japan
CATEGORIES:- 観戦 -
GEO:36.3614163;139.5942198
X-APPLE-STRUCTURED-LOCATION;VALUE=URI;X-ADDRESS=佐野市国際クリケット場 (田沼高等学校跡) 栃本町300-1 佐野市 栃木県 327-0312 Japan;X-APPLE-RADIUS=500;X-TITLE=栃本町300-1:geo:139.5942198,36.3614163
END:VEVENT
BEGIN:VEVENT
DTSTART;TZID=Asia/Tokyo:20170503T093000
DTEND;TZID=Asia/Tokyo:20170503T123000
DTSTAMP:20260421T092752
CREATED:20170228T071229Z
LAST-MODIFIED:20170309T002422Z
UID:10003297-1493803800-1493814600@cricket.or.jp
SUMMARY:WWT20Q: PNG vs Japan
DESCRIPTION:
URL:https://cricket.or.jp/event/wwt20q-japan-vs-png-2/
LOCATION:佐野市国際クリケット場 (田沼高等学校跡)\, 栃本町300-1\, 佐野市\, 栃木県\, 327-0312\, Japan
CATEGORIES:- 観戦 -
GEO:36.3614163;139.5942198
X-APPLE-STRUCTURED-LOCATION;VALUE=URI;X-ADDRESS=佐野市国際クリケット場 (田沼高等学校跡) 栃本町300-1 佐野市 栃木県 327-0312 Japan;X-APPLE-RADIUS=500;X-TITLE=栃本町300-1:geo:139.5942198,36.3614163
END:VEVENT
BEGIN:VEVENT
DTSTART;TZID=Asia/Tokyo:20170502T133000
DTEND;TZID=Asia/Tokyo:20170502T163000
DTSTAMP:20260421T092752
CREATED:20170228T070723Z
LAST-MODIFIED:20170309T002439Z
UID:10003295-1493731800-1493742600@cricket.or.jp
SUMMARY:[:ja]WWT20Q: Vanuatu vs PNG[:]
DESCRIPTION:
URL:https://cricket.or.jp/event/wwt20q-vanuatu-vs-png/
LOCATION:佐野市国際クリケット場 (田沼高等学校跡)\, 栃本町300-1\, 佐野市\, 栃木県\, 327-0312\, Japan
CATEGORIES:- 観戦 -
GEO:36.3614163;139.5942198
X-APPLE-STRUCTURED-LOCATION;VALUE=URI;X-ADDRESS=佐野市国際クリケット場 (田沼高等学校跡) 栃本町300-1 佐野市 栃木県 327-0312 Japan;X-APPLE-RADIUS=500;X-TITLE=栃本町300-1:geo:139.5942198,36.3614163
END:VEVENT
BEGIN:VEVENT
DTSTART;TZID=Asia/Tokyo:20170502T093000
DTEND;TZID=Asia/Tokyo:20170502T123000
DTSTAMP:20260421T092752
CREATED:20170228T070619Z
LAST-MODIFIED:20170309T002653Z
UID:10003293-1493717400-1493728200@cricket.or.jp
SUMMARY:WWT20Q: Samoa vs Japan
DESCRIPTION:
URL:https://cricket.or.jp/event/wwt20q-japan-vs-samoa-2/
LOCATION:佐野市国際クリケット場 (田沼高等学校跡)\, 栃本町300-1\, 佐野市\, 栃木県\, 327-0312\, Japan
CATEGORIES:- 観戦 -
GEO:36.3614163;139.5942198
X-APPLE-STRUCTURED-LOCATION;VALUE=URI;X-ADDRESS=佐野市国際クリケット場 (田沼高等学校跡) 栃本町300-1 佐野市 栃木県 327-0312 Japan;X-APPLE-RADIUS=500;X-TITLE=栃本町300-1:geo:139.5942198,36.3614163
END:VEVENT
BEGIN:VEVENT
DTSTART;TZID=Asia/Tokyo:20170430T133000
DTEND;TZID=Asia/Tokyo:20170430T163000
DTSTAMP:20260421T092752
CREATED:20170228T070437Z
LAST-MODIFIED:20170309T002708Z
UID:10003291-1493559000-1493569800@cricket.or.jp
SUMMARY:WWT20Q: Japan vs PNG
DESCRIPTION:
URL:https://cricket.or.jp/event/wwt20q-japan-vs-png/
LOCATION:佐野市国際クリケット場 (田沼高等学校跡)\, 栃本町300-1\, 佐野市\, 栃木県\, 327-0312\, Japan
CATEGORIES:- 観戦 -
GEO:36.3614163;139.5942198
X-APPLE-STRUCTURED-LOCATION;VALUE=URI;X-ADDRESS=佐野市国際クリケット場 (田沼高等学校跡) 栃本町300-1 佐野市 栃木県 327-0312 Japan;X-APPLE-RADIUS=500;X-TITLE=栃本町300-1:geo:139.5942198,36.3614163
END:VEVENT
BEGIN:VEVENT
DTSTART;TZID=Asia/Tokyo:20170430T093000
DTEND;TZID=Asia/Tokyo:20170430T123000
DTSTAMP:20260421T092752
CREATED:20170228T070344Z
LAST-MODIFIED:20170309T002725Z
UID:10003289-1493544600-1493555400@cricket.or.jp
SUMMARY:WWT20Q: Samoa vs Vanuatu
DESCRIPTION:
URL:https://cricket.or.jp/event/wwt20q-samoa-vs-vanuatu/
LOCATION:佐野市国際クリケット場 (田沼高等学校跡)\, 栃本町300-1\, 佐野市\, 栃木県\, 327-0312\, Japan
CATEGORIES:- 観戦 -
GEO:36.3614163;139.5942198
X-APPLE-STRUCTURED-LOCATION;VALUE=URI;X-ADDRESS=佐野市国際クリケット場 (田沼高等学校跡) 栃本町300-1 佐野市 栃木県 327-0312 Japan;X-APPLE-RADIUS=500;X-TITLE=栃本町300-1:geo:139.5942198,36.3614163
END:VEVENT
BEGIN:VEVENT
DTSTART;TZID=Asia/Tokyo:20170429T133000
DTEND;TZID=Asia/Tokyo:20170429T163000
DTSTAMP:20260421T092752
CREATED:20170228T070040Z
LAST-MODIFIED:20170309T002612Z
UID:10003284-1493472600-1493483400@cricket.or.jp
SUMMARY:WWT20Q: Vanuatu vs Japan
DESCRIPTION:
URL:https://cricket.or.jp/event/wwt20q-japan-vs-vanuatu/
LOCATION:佐野市国際クリケット場 (田沼高等学校跡)\, 栃本町300-1\, 佐野市\, 栃木県\, 327-0312\, Japan
CATEGORIES:- 観戦 -
GEO:36.3614163;139.5942198
X-APPLE-STRUCTURED-LOCATION;VALUE=URI;X-ADDRESS=佐野市国際クリケット場 (田沼高等学校跡) 栃本町300-1 佐野市 栃木県 327-0312 Japan;X-APPLE-RADIUS=500;X-TITLE=栃本町300-1:geo:139.5942198,36.3614163
END:VEVENT
BEGIN:VEVENT
DTSTART;TZID=Asia/Tokyo:20170429T093000
DTEND;TZID=Asia/Tokyo:20170429T123000
DTSTAMP:20260421T092752
CREATED:20170228T065858Z
LAST-MODIFIED:20170309T002555Z
UID:10003282-1493458200-1493469000@cricket.or.jp
SUMMARY:WWT20Q: Samoa vs PNG
DESCRIPTION:
URL:https://cricket.or.jp/event/wwt20q-png-vs-samoa/
LOCATION:佐野市国際クリケット場 (田沼高等学校跡)\, 栃本町300-1\, 佐野市\, 栃木県\, 327-0312\, Japan
CATEGORIES:- 観戦 -
GEO:36.3614163;139.5942198
X-APPLE-STRUCTURED-LOCATION;VALUE=URI;X-ADDRESS=佐野市国際クリケット場 (田沼高等学校跡) 栃本町300-1 佐野市 栃木県 327-0312 Japan;X-APPLE-RADIUS=500;X-TITLE=栃本町300-1:geo:139.5942198,36.3614163
END:VEVENT
BEGIN:VEVENT
DTSTART;TZID=Asia/Tokyo:20170428T133000
DTEND;TZID=Asia/Tokyo:20170428T163000
DTSTAMP:20260421T092752
CREATED:20170228T065655Z
LAST-MODIFIED:20170309T002540Z
UID:10003273-1493386200-1493397000@cricket.or.jp
SUMMARY:WWT20Q: PNG vs Vanuatu
DESCRIPTION:
URL:https://cricket.or.jp/event/wwt20q-png-vs-vanuatu/
LOCATION:佐野市国際クリケット場 (田沼高等学校跡)\, 栃本町300-1\, 佐野市\, 栃木県\, 327-0312\, Japan
CATEGORIES:- 観戦 -
GEO:36.3614163;139.5942198
X-APPLE-STRUCTURED-LOCATION;VALUE=URI;X-ADDRESS=佐野市国際クリケット場 (田沼高等学校跡) 栃本町300-1 佐野市 栃木県 327-0312 Japan;X-APPLE-RADIUS=500;X-TITLE=栃本町300-1:geo:139.5942198,36.3614163
END:VEVENT
BEGIN:VEVENT
DTSTART;TZID=Asia/Tokyo:20170428T093000
DTEND;TZID=Asia/Tokyo:20170428T123000
DTSTAMP:20260421T092752
CREATED:20170228T065727Z
LAST-MODIFIED:20170309T002524Z
UID:10003278-1493371800-1493382600@cricket.or.jp
SUMMARY:WWT20Q: Japan vs Samoa
DESCRIPTION:
URL:https://cricket.or.jp/event/wwt20q-japan-vs-samoa/
LOCATION:佐野市国際クリケット場 (田沼高等学校跡)\, 栃本町300-1\, 佐野市\, 栃木県\, 327-0312\, Japan
CATEGORIES:- 観戦 -
GEO:36.3614163;139.5942198
X-APPLE-STRUCTURED-LOCATION;VALUE=URI;X-ADDRESS=佐野市国際クリケット場 (田沼高等学校跡) 栃本町300-1 佐野市 栃木県 327-0312 Japan;X-APPLE-RADIUS=500;X-TITLE=栃本町300-1:geo:139.5942198,36.3614163
END:VEVENT
BEGIN:VEVENT
DTSTART;TZID=Asia/Tokyo:20170428T090000
DTEND;TZID=Asia/Tokyo:20170505T170000
DTSTAMP:20260421T092752
CREATED:20170313T013618Z
LAST-MODIFIED:20200518T064533Z
UID:10003119-1493370000-1494003600@cricket.or.jp
SUMMARY:[:en]2017 Women's World T20 Qualifier\, East Asia Pacific[:ja]2017女子ワールドT20東アジア太平洋予選[:]
DESCRIPTION:女子ワールドT20 EAP予選大会\n\n2017年女子ワールドT20予選大会が、4月、5月に佐野市で開催された。参加国は主催国である日本に加え、パプアニューギニア、サモア、バヌアツ。\n女子日本代表チームを率いるのは、日本をしばらく離れていたが本体会のために再来日したカトリーナ・キーナンコーチと初めてキャプテンを務める大田くる美選手。 \n経験の浅い日本チームは終始苦戦したが、大会最終試合ではバヌアツに勝利し盛り上がりを見せた。日本の最終結果は4位となった。 \n本体会出場フルメンバーはこちらよりご覧いただけます。 \n全試合結果は ESPN Cricinfoをご確認ください。。\n\n日程\n\n\n\n日付\n時間\n対戦カード\n会場\n\n\n4月28日金曜日\n09：30 – 12:30\n日本 対 サモア\n佐野市国際クリケット場\n\n\n\n13：30 – 16:30\nPNG 対 バヌアツ\n佐野市国際クリケット場\n\n\n4月29日土曜日\n09：30 – 12:30\nサモア 対 PNG\n佐野市国際クリケット場\n\n\n\n13：30 – 16:30\nバヌアツ 対 日本\n佐野市国際クリケット場\n\n\n4月30日日曜日\n09：30 – 12:30\nサモア 対 バヌアツ\n佐野市国際クリケット場\n\n\n\n13：30 – 16:30\n日本 対 PNG\n佐野市国際クリケット場\n\n\n5月2日火曜日\n09：30 – 12:30\nサモア 対 日本\n佐野市国際クリケット場\n\n\n\n13：30 – 16:30\n バヌアツ 対 PNG\n佐野市国際クリケット場\n\n\n 5月3日水曜日\n09：30 – 12:30\nPNG 対 日本\n佐野市国際クリケット場\n\n\n\n13：30 – 16:30\nバヌアツ 対 サモア\n佐野市国際クリケット場\n\n\n5月4日木曜日\n09：30 – 12:30\nPNG 対 サモア\n佐野市国際クリケット場\n\n\n\n13：30 – 16:30\n日本 対 バヌアツ\n佐野市国際クリケット場\n\n\n\n\n\n* 5月1日月曜日と5月5日金曜日は悪天候の場合の予備日です。 \n  \nhttps://www.icc-cricket.com/womens-world-t20-q/womens-east-asia-pacific/results
URL:https://cricket.or.jp/event/wwt20eapq/
LOCATION:佐野市国際クリケット場 (田沼高等学校跡)\, 栃本町300-1\, 佐野市\, 栃木県\, 327-0312\, Japan
CATEGORIES:国際試合(女子)
ATTACH;FMTTYPE=image/jpeg:https://cricket.or.jp/wp-content/uploads/2017/05/Japan-Samoa-1-scaled.jpg
GEO:36.3614163;139.5942198
X-APPLE-STRUCTURED-LOCATION;VALUE=URI;X-ADDRESS=佐野市国際クリケット場 (田沼高等学校跡) 栃本町300-1 佐野市 栃木県 327-0312 Japan;X-APPLE-RADIUS=500;X-TITLE=栃本町300-1:geo:139.5942198,36.3614163
END:VEVENT
BEGIN:VEVENT
DTSTART;TZID=Asia/Tokyo:20170225T080000
DTEND;TZID=Asia/Tokyo:20170225T150000
DTSTAMP:20260421T092752
CREATED:20170213T031757Z
LAST-MODIFIED:20180828T011227Z
UID:10003268-1488009600-1488034800@cricket.or.jp
SUMMARY:[:en]WCL Division 5 Qualifier: Japan vs Philippines[:ja]ワールドクリケットリーグ5部大会東アジア太平洋予選　日本対フィリピン[:]
DESCRIPTION:
URL:https://cricket.or.jp/event/%e7%94%b7%e5%ad%90%e3%83%af%e3%83%bc%e3%83%ab%e3%83%89%e3%82%ab%e3%83%83%e3%83%97%e4%ba%88%e9%81%b8%e5%a4%a7%e4%bc%9a%e3%80%80%e6%97%a5%e6%9c%ac%e5%af%be%e3%83%95%e3%82%a3%e3%83%aa%e3%83%94%e3%83%b3/
LOCATION:White Hills\, 55 Scott Street \, Bendigo\, Victoria\, VIC 3550\, Australia
ATTACH;FMTTYPE=image/jpeg:https://cricket.or.jp/wp-content/uploads/2017/02/ICC_DP_World_RGB.jpg
GEO:-36.7215403;144.3053178
X-APPLE-STRUCTURED-LOCATION;VALUE=URI;X-ADDRESS=White Hills 55 Scott Street  Bendigo Victoria VIC 3550 Australia;X-APPLE-RADIUS=500;X-TITLE=55 Scott Street:geo:144.3053178,-36.7215403
END:VEVENT
BEGIN:VEVENT
DTSTART;TZID=Asia/Tokyo:20170223T080000
DTEND;TZID=Asia/Tokyo:20170223T150000
DTSTAMP:20260421T092752
CREATED:20170213T031729Z
LAST-MODIFIED:20170626T073306Z
UID:10003115-1487836800-1487862000@cricket.or.jp
SUMMARY:[:en]WCL Division 5 Qualifier: Japan vs Vanuatu[:ja]ワールドクリケットリーグ5部大会東アジア太平洋予選　日本対バヌアツ[:]
DESCRIPTION:
URL:https://cricket.or.jp/event/%e7%94%b7%e5%ad%90%e3%83%af%e3%83%bc%e3%83%ab%e3%83%89%e3%82%ab%e3%83%83%e3%83%97%e4%ba%88%e9%81%b8%e5%a4%a7%e4%bc%9a%e3%80%80%e6%97%a5%e6%9c%ac%e5%af%be%e3%83%90%e3%83%8c%e3%82%a2%e3%83%84/
LOCATION:Strathsfieldsaye\, 3/7 Warne Court\, Bendigo\, Victoria\, VIC 3551\, Australia
ATTACH;FMTTYPE=image/jpeg:https://cricket.or.jp/wp-content/uploads/2017/02/ICC_DP_World_RGB.jpg
GEO:-36.8053668;144.3488402
X-APPLE-STRUCTURED-LOCATION;VALUE=URI;X-ADDRESS=Strathsfieldsaye 3/7 Warne Court Bendigo Victoria VIC 3551 Australia;X-APPLE-RADIUS=500;X-TITLE=3/7 Warne Court:geo:144.3488402,-36.8053668
END:VEVENT
BEGIN:VEVENT
DTSTART;TZID=Asia/Tokyo:20170222T080000
DTEND;TZID=Asia/Tokyo:20170222T150000
DTSTAMP:20260421T092752
CREATED:20170213T031702Z
LAST-MODIFIED:20170626T073322Z
UID:10003114-1487750400-1487775600@cricket.or.jp
SUMMARY:[:en]WCL Division 5 Qualifier: Japan vs Fiji[:ja]ワールドクリケットリーグ5部大会東アジア太平洋予選　日本対フィジー[:]
DESCRIPTION:
URL:https://cricket.or.jp/event/%e7%94%b7%e5%ad%90%e3%83%af%e3%83%bc%e3%83%ab%e3%83%89%e3%82%ab%e3%83%83%e3%83%97%e4%ba%88%e9%81%b8%e5%a4%a7%e4%bc%9a%e3%80%80%e6%97%a5%e6%9c%ac%e5%af%be%e3%83%95%e3%82%a3%e3%82%b8%e3%83%bc/
LOCATION:Weeroona Oval\, 347 Napier Street\, Bendigo\, Victoria\, VIC 3550\, Australia
ATTACH;FMTTYPE=image/jpeg:https://cricket.or.jp/wp-content/uploads/2017/02/ICC_DP_World_RGB.jpg
GEO:-36.7439995;144.2948857
X-APPLE-STRUCTURED-LOCATION;VALUE=URI;X-ADDRESS=Weeroona Oval 347 Napier Street Bendigo Victoria VIC 3550 Australia;X-APPLE-RADIUS=500;X-TITLE=347 Napier Street:geo:144.2948857,-36.7439995
END:VEVENT
BEGIN:VEVENT
DTSTART;TZID=Asia/Tokyo:20170220T080000
DTEND;TZID=Asia/Tokyo:20170220T150000
DTSTAMP:20260421T092752
CREATED:20170213T031620Z
LAST-MODIFIED:20170626T073341Z
UID:10003113-1487577600-1487602800@cricket.or.jp
SUMMARY:[:en]WCL Division 5 Qualifier: Japan vs Indonesia[:ja]ワールドクリケットリーグ5部大会東アジア太平洋予選　日本対インドネシア[:]
DESCRIPTION:
URL:https://cricket.or.jp/event/%e7%94%b7%e5%ad%90%e3%83%af%e3%83%bc%e3%83%ab%e3%83%89%e3%82%ab%e3%83%83%e3%83%97%e4%ba%88%e9%81%b8%e5%a4%a7%e4%bc%9a%e3%80%80%e6%97%a5%e6%9c%ac%e5%af%be%e3%82%a4%e3%83%b3%e3%83%89%e3%83%8d%e3%82%b7/
LOCATION:Queen Elizabeth Oval\, 30 Gaol Rd\, Bendigo\, Victoria\, VIC 3550\, Australia
ATTACH;FMTTYPE=image/jpeg:https://cricket.or.jp/wp-content/uploads/2017/02/ICC_DP_World_RGB.jpg
GEO:-36.7558096;144.2767844
X-APPLE-STRUCTURED-LOCATION;VALUE=URI;X-ADDRESS=Queen Elizabeth Oval 30 Gaol Rd Bendigo Victoria VIC 3550 Australia;X-APPLE-RADIUS=500;X-TITLE=30 Gaol Rd:geo:144.2767844,-36.7558096
END:VEVENT
BEGIN:VEVENT
DTSTART;TZID=Asia/Tokyo:20170219T080000
DTEND;TZID=Asia/Tokyo:20170219T150000
DTSTAMP:20260421T092752
CREATED:20170213T031555Z
LAST-MODIFIED:20170626T073358Z
UID:10003112-1487491200-1487516400@cricket.or.jp
SUMMARY:[:en]WCL Division 5 Qualifier: Japan vs Samoa[:ja]ワールドクリケットリーグ5部大会東アジア太平洋予選　日本対サモア[:]
DESCRIPTION:
URL:https://cricket.or.jp/event/%e7%94%b7%e5%ad%90%e3%83%af%e3%83%bc%e3%83%ab%e3%83%89%e3%82%ab%e3%83%83%e3%83%97%e4%ba%88%e9%81%b8%e5%a4%a7%e4%bc%9a%e3%80%80%e6%97%a5%e6%9c%ac%e5%af%be%e3%82%b5%e3%83%a2%e3%82%a2/
LOCATION:Canterbury Park\, 1 Simpsons Rd\, Eaglehawk\, Bendigo\, Victoria\, VIC 3556\, Australia
ATTACH;FMTTYPE=image/jpeg:https://cricket.or.jp/wp-content/uploads/2017/02/ICC_DP_World_RGB.jpg
GEO:-36.7150585;144.2510237
X-APPLE-STRUCTURED-LOCATION;VALUE=URI;X-ADDRESS=Canterbury Park 1 Simpsons Rd Eaglehawk Bendigo Victoria VIC 3556 Australia;X-APPLE-RADIUS=500;X-TITLE=1 Simpsons Rd\, Eaglehawk:geo:144.2510237,-36.7150585
END:VEVENT
BEGIN:VEVENT
DTSTART;VALUE=DATE:20170219
DTEND;VALUE=DATE:20170226
DTSTAMP:20260421T092752
CREATED:20170213T031458Z
LAST-MODIFIED:20200518T065223Z
UID:10003111-1487462400-1488067199@cricket.or.jp
SUMMARY:[:en]World Cricket League Division 5 Qualifier (2017)[:ja]2017ワールドクリケットリーグ5部大会東アジア太平洋予選[:]
DESCRIPTION:ワールドクリケットリーグ・ディビジョン・ファイブ予選大会が2017年2月にオーストラリアのベンディゴで1週間に渡り開催され（50オーバー形式）、6チームが参加した。 \n参加国は、日本のほかに、フィジー、インドネシア、フィリピン、サモア、バヌアツ。日本代表を率いたのは、クリケットビクトリアの元テストクリケット選手、ジュリアン・ウィーナーコーチと小林正臣キャプテン。 \n日本代表チームは、本大会が日本でのクリケットシーズン終了から4か月後の開催であったことに加え、50オーバーという長時間の試合形式に苦戦し、最下位という結果に終わった。 \n本体会出場フルメンバーはこちらよりご覧いただけます。 \n全試合結果はESPN Cricinfoをご確認ください。 \n\n日程\n\n\n\n日付\n時間\n対戦\n会場 \n（オーストラリア・ベンディゴ）\n\n\n2月19日(日)\n08：00 – 15:00 (JST)\n日本 対 サモア\nカンタベリー・パーク\n\n\n2月20日(月)\n08：00 – 15:00 (JST)\n日本 対 インドネシア\nクイーンエリザベス・オーバル\n\n\n2月22日(水)\n08：00 – 15:00 (JST)\n日本 対 フィジー\nウェローナ・オーバル\n\n\n2月23日(木)\n08：00 – 15:00 (JST)\n日本 対 バヌアツ\n ストラスフィールドアイ\n\n\n2月25日(土)\n08：00 – 15:00 (JST)\n日本 対 フィリピン\n ホワイトヒル・オーバル
URL:https://cricket.or.jp/event/%e7%94%b7%e5%ad%90%e3%83%af%e3%83%bc%e3%83%ab%e3%83%89%e3%82%ab%e3%83%83%e3%83%97%e4%ba%88%e9%81%b8%e5%a4%a7%e4%bc%9a/
LOCATION:City of Bendigo\, Bendigo\, Victoria\, VIC 3550\, Australia
CATEGORIES:国際試合(男子)
ATTACH;FMTTYPE=image/jpeg:https://cricket.or.jp/wp-content/uploads/2017/02/Bendigo-vs-Indonesia-3_R.jpg
GEO:-36.7570157;144.2793906
END:VEVENT
BEGIN:VEVENT
DTSTART;TZID=Asia/Tokyo:20160722T060000
DTEND;TZID=Asia/Tokyo:20160722T130000
DTSTAMP:20260421T092752
CREATED:20160628T080851Z
LAST-MODIFIED:20160722T042848Z
UID:10003262-1469167200-1469192400@cricket.or.jp
SUMMARY:[:en]WWCQ: Samoa vs JPN[:ja]女子W杯予選：Samoa vs JPN[:]
DESCRIPTION:マッチレポート\n女子ワールドカップ東アジア太平洋予選の最終戦となった7月22日の試合で、女子日本代表はサモアに惜敗した。 \n先攻の日本は、宮地（27ラン）、大田（20ラン）、小林（25ラン）選手などを中心に今大会最高の135ランを得点した。中でも、大田選手は109分、120球に及ぶ長時間バッティングを続け、日本の攻撃の基礎をつくった。 \n後攻のサモアは、キャプテンLili’i選手（21ラン）、Telea両選手パートナシップ（47ラン）とTelea選手とUliao選手のパートナーシップ（33ラン）を築き、逆転を目指した。一方の日本は、大田、宮地、中山、柳田の4選手が計7アウトを奪い、サモアを追い込んだが、最後は7番バッツマンのMulitalo選手に4ランを打たれて逆転された。 \n試合の最優秀選手には、サモアのTelea選手が、優秀選手にはサモアのUliao選手と日本の宮地選手が選出された。 \n日本は今大会での4戦中3戦は接戦となったが、残念ながら4敗で大会を終えた。 \n女子日本代表は、2017年2月ごろに香港で開催される東アジアカップに出場し、5月ごろ開催される女子ワールドT20東アジア太平洋予選に向けて再出発をすることとなる。 \n大会日程、結果及びライブスコア
URL:https://cricket.or.jp/event/womens-world-cup-qualifier-samoa-vs-japan-2016/
LOCATION:ガーデン・オーバル (サモア)\, Apia\, Samoa
ATTACH;FMTTYPE=image/jpeg:https://cricket.or.jp/wp-content/uploads/2016/06/Japan-WWCQ-Samoa.jpg
GEO:-13.846494;-171.811415
END:VEVENT
BEGIN:VEVENT
DTSTART;TZID=Asia/Tokyo:20160721T060000
DTEND;TZID=Asia/Tokyo:20160721T130000
DTSTAMP:20260421T092752
CREATED:20160628T080658Z
LAST-MODIFIED:20160722T044456Z
UID:10003261-1469080800-1469106000@cricket.or.jp
SUMMARY:[:en]WWCQ: JPN vs PNG[:ja]女子W杯予選：JPN vs PNG[:]
DESCRIPTION:ハイライト\n \nマッチレポート\n7月21日にサモアで開催された女子ワールドカップ東アジア太平洋予選第3戦で日本は、本大会の優勝を決めているパプアニューギニア（PNG）と対戦し、8ウィケットの差で3敗目を喫した。\n先攻を選択した日本は、PNGのボーラー陣の前に序盤からアウトを奪われる苦しい展開となる。しかし小林選手を中心に中盤から粘りのみせ、50オーバーを打ちきって攻撃を終了。結果、105得点を挙げた。 \n悪天候によりオーバー数が削減され、33オーバーで87得点を守り抜くことが勝利の条件となった日本は、宮地選手がPNGの打者2人をアウトにとり好スタートを切ったものの、後続を抑えることができず26オーバー目で逆転を許した。\n日本は22日に行われるサモアとの最終戦で大会初勝利を目指す。 \n大会日程、結果及びライブスコア
URL:https://cricket.or.jp/event/womens-world-cup-qualifier-japan-vs-png-2016/
LOCATION:ガーデン・オーバル (サモア)\, Apia\, Samoa
ATTACH;FMTTYPE=image/jpeg:https://cricket.or.jp/wp-content/uploads/2016/07/Japan-WWCQ-team.jpg
GEO:-13.846494;-171.811415
END:VEVENT
BEGIN:VEVENT
DTSTART;TZID=Asia/Tokyo:20160719T060000
DTEND;TZID=Asia/Tokyo:20160719T060000
DTSTAMP:20260421T092752
CREATED:20160628T080414Z
LAST-MODIFIED:20160715T131929Z
UID:10003260-1468908000-1468908000@cricket.or.jp
SUMMARY:[:en]WWCQ: PNG vs Samoa[:ja]女子W杯予選：PNG vs Samoa[:]
DESCRIPTION:
URL:https://cricket.or.jp/event/womens-world-cup-qualifier-png-vs-samoa-2016/
LOCATION:ガーデン・オーバル (サモア)\, Apia\, Samoa
ATTACH;FMTTYPE=image/jpeg:https://cricket.or.jp/wp-content/uploads/2016/06/icc_wwcq_eap_2016.jpg
GEO:-13.846494;-171.811415
END:VEVENT
BEGIN:VEVENT
DTSTART;TZID=Asia/Tokyo:20160718T060000
DTEND;TZID=Asia/Tokyo:20160718T130000
DTSTAMP:20260421T092752
CREATED:20160628T080136Z
LAST-MODIFIED:20160722T011628Z
UID:10003259-1468821600-1468846800@cricket.or.jp
SUMMARY:[:en]WWCQ: JPN vs Samoa[:ja]女子W杯予選：JPN vs Samoa[:]
DESCRIPTION:ハイライト\n \nマッチレポート\n7月18日にサモアで開催された、女子ワールドカップ東アジア太平洋予選の第2戦でサモアと対戦した日本代表は、サモアが得点した207ランの逆転を狙いましたが、惜しくも26ラン届かず、2敗目を喫しました。 \nトスに勝ったサモアは、先攻を選択すると、高いレートでの得点を重ねました。日本は、オープニングボーラーの太田(2-29)やスピナーの宮地(1-20)がサモアの得点レートを抑えたが、他のボーラーはサモアに高いレートでの得点を許してしまった。サモアは、昨年より日本に在住するキャプテン、レジーナ・リリーが中核となり、他の選手のアグレッシブなプレーで得点を重ねた。サモアの攻撃の終盤には、中山がリリーなど2つのアウトをとり、最後の5オーバーは、5-28とサモアの得点を抑えることに成功した。 \n後攻の日本は、中山・白石・宮地の1～3番バッツマンがそれぞれ2桁得点に乗せるながら、得点レートを高めようとアウトを重ねる中、柳田キャプテン(45ラン)がはじめ小林(26ラン)と67ランの、続いて菅野(21ラン)との37ランのパートナーシップを築きた。しかし、4-163と逆転ペースにあった日本はのバッティングは、柳田がランアウトになると、立て続けにアウトをとられ、181ランでオールアウトとなり、26ラン差での敗戦となった。 \n日本は19日(火)にクリケット・ウィザウト・ボーダーズとの練習試合を行い、21日(木)には第3戦でPNGと対戦する。 \n大会日程、結果及びライブスコア
URL:https://cricket.or.jp/event/womens-world-cup-qualifier-japan-vs-samoa-2016/
LOCATION:ガーデン・オーバル (サモア)\, Apia\, Samoa
ATTACH;FMTTYPE=image/jpeg:https://cricket.or.jp/wp-content/uploads/2016/07/Samoa-2016_7395.jpg
GEO:-13.846494;-171.811415
END:VEVENT
BEGIN:VEVENT
DTSTART;TZID=Asia/Tokyo:20160716T060000
DTEND;TZID=Asia/Tokyo:20160716T130000
DTSTAMP:20260421T092752
CREATED:20160628T080017Z
LAST-MODIFIED:20160722T010436Z
UID:10003258-1468648800-1468674000@cricket.or.jp
SUMMARY:[:en]WWCQ: PNG vs JPN[:ja]女子W杯予選：PNG vs JPN[:]
DESCRIPTION:ハイライト\n \nマッチレポート\nサモアのアピアで開催されている、女子ワールドカップ東アジア太平洋予選で、女子日本代表は、前回王者のパプアニューギニア(以下PNG)と初戦で対戦した。 \nトスは、PNGが勝ち後攻を選択し、日本は、先攻となった。日本は試合開始早々に立て続けに3つのアウトを奪われ、苦しい立ち上がりとなった。一時は、宮地・菅野両選手が38ランのパートナーシップを築き3-50まで立て直したが、20オーバー以上に及ぶ粘りのパートナーシップが崩れると、再び立て直すことができず、67ランでオールアウトとなった。 \n日本は、低いターゲットにも関わらず、菅野・宮地で3つのアウトを奪い、PNGの出鼻をくじくことに成功した。一方のPNGは、John・Siaka両選手の活躍により、得点を54ランまで伸ばすことに成功した。ここで中山が立て続けに2つのアウトを取り、勝利への希望をつなげた。しかしオープニングバッツマンのJohn選手は、最後まで集中力を切らすことはなく、24.4オーバーでの逆転により、PNGの勝利となった。 \n試合の最優秀選手には、PNGのSiaka選手が選ばれ、PNGのJohn選手と日本の宮地選手が優秀選手に選出されました。 \n日本は、初戦を落とし、PNGは2連勝となった。本大会は、総当たり2回戦の順位によって決まるため、戦いはまだまだこれからである。日本の第2戦は、明日の休養日を挟んだ明後日。初戦で同じくPNGに敗れたサモアと対戦する。試合開始は、日本時間の午前6時を予定している。 \n大会日程、結果及びライブスコア
URL:https://cricket.or.jp/event/womens-world-cup-qualifier-png-vs-japan-2016/
LOCATION:ガーデン・オーバル (サモア)\, Apia\, Samoa
ATTACH;FMTTYPE=image/jpeg:https://cricket.or.jp/wp-content/uploads/2016/06/CncaXZjUsAApERj.jpg
GEO:-13.846494;-171.811415
END:VEVENT
BEGIN:VEVENT
DTSTART;TZID=Asia/Tokyo:20160715T060000
DTEND;TZID=Asia/Tokyo:20160715T060000
DTSTAMP:20260421T092752
CREATED:20160609T035308Z
LAST-MODIFIED:20160715T132621Z
UID:10003215-1468562400-1468562400@cricket.or.jp
SUMMARY:[:en]WWCQ: Samoa vs PNG[:ja]女子W杯予選：Samoa vs PNG[:]
DESCRIPTION:
URL:https://cricket.or.jp/event/womens-world-cup-qualifier-samoa-vs-png-2016/
LOCATION:ガーデン・オーバル (サモア)\, Apia\, Samoa
ATTACH;FMTTYPE=image/jpeg:https://cricket.or.jp/wp-content/uploads/2016/06/icc_wwcq_eap_2016.jpg
GEO:-13.846494;-171.811415
END:VEVENT
END:VCALENDAR