BEGIN:VCALENDAR
VERSION:2.0
PRODID:-//Japan Cricket Association - ECPv6.15.12.2//NONSGML v1.0//EN
CALSCALE:GREGORIAN
METHOD:PUBLISH
X-WR-CALNAME:Japan Cricket Association
X-ORIGINAL-URL:https://cricket.or.jp
X-WR-CALDESC:Japan Cricket Association のイベント
REFRESH-INTERVAL;VALUE=DURATION:PT1H
X-Robots-Tag:noindex
X-PUBLISHED-TTL:PT1H
BEGIN:VTIMEZONE
TZID:Asia/Tokyo
BEGIN:STANDARD
TZOFFSETFROM:+0900
TZOFFSETTO:+0900
TZNAME:JST
DTSTART:20150101T000000
END:STANDARD
END:VTIMEZONE
BEGIN:VEVENT
DTSTART;VALUE=DATE:20160715
DTEND;VALUE=DATE:20160723
DTSTAMP:20260421T145836
CREATED:20160703T054210Z
LAST-MODIFIED:20200518T064659Z
UID:10003107-1468540800-1469231999@cricket.or.jp
SUMMARY:[:en]2016 Women's World Cup Qualifier\, East Asia-Pacific[:ja]2016女子ワールドカップ東アジア太平洋予選[:]
DESCRIPTION:2016年6月にサモアで開催された女子ワールドカップ予選-EAP大会（50オーバー形式大会）に日本代表チームが参加した。 \n日本代表チームを率いたのは、クリケットビクトリアのニコール・マーティンがコーチと柳田舞キャプテン。本大会には日本、パプアニューギニア、サモアの3か国が参加し、日本の最終結果は3位となった。 \n本大会では遠藤理央選手と鈴木綾那選手の2名が日本代表初選出となった。 \n本体会出場フルメンバーはこちらよりご覧いただけます。 \n試合結果および大会ハイライトはこちらをご覧ください。
URL:https://cricket.or.jp/event/womens-world-cup-qualifier-east-asia-pacific/
LOCATION:ガーデン・オーバル (サモア)\, Apia\, Samoa
CATEGORIES:国際試合(女子)
ATTACH;FMTTYPE=image/jpeg:https://cricket.or.jp/wp-content/uploads/2016/06/icc_wwcq_eap_2016.jpg
GEO:-13.846494;-171.811415
END:VEVENT
END:VCALENDAR